Workbook

Sheet 1.) Erläuterungen
A1: 1.) Erläuterungen zur Kalkulationsdatei - Bezirksverband Pfalz - Pfalztheater Kaiserslautern
A3: . | B3: Allgemeine Hinweise zur Bearbeitung der Kalkulationsdatei
B4: Bitte füllen Sie auf allen Blättern alle grünen Felder aus. Alle Angaben sind in den dazu vorgesehenen grünen Feldern zu machen. Eine Veränderung der geltenden Angaben und Formeln führt zwingend zum Ausschluss Ihres Angebotes. Die von Ihnen ausgefüllte Kalkulation CS_2026_0286_005_Kalkulation ist unbedingt dem Angebot beizufügen / hochzuladen. Das Fehlen der Kalkulationsdatei führt zwingend zum Ausschluss Ihres Angebotes. Alle hier ermittelten Preise werden in netto angegeben, ohne Angabe der jeweils gültigen USt. Im Tabellenblatt 2.a) GPB ist in Zelle C13 standardmäßig ein Umsatzsteuersatz von 19 % hinterlegt. Sollte für Ihr Unternehmen ein abweichender Umsatzsteuersatz gelten, ist dieser Wert entsprechend durch Sie anzupassen, damit sich dann der Gesamtpreis brutto korrekt errechnet.
A12: . | B12: Objektspezifische Hinweise
B13: Vertretungsreinigungen: Das Pfalztheater Kaiserslautern beschäftigt in verschiedenen Bereichen auch noch eigenes Personal und benötigt ggf. eine Urlaubs- und Krankheitsvertretung der Eigenreinigungskräfte. Die Beauftragung und Abrechnung von Vertretungsreinigungen erfolgt nach Stundenaufwand. Vorlaufzeit für die benötigten Vertretungsreinigungen: Der Auftraggeber teilt dem Auftragnehmer mit einer maximalen Vorlaufzeit von 24 Stunden, schriftlich den entsprechenden Bedarf an Vertretungsreinigungen mit. Aus dieser Bedarfsmeldung geht hervor, welche Vertretungsleistung tatsächlich benötigt wird. Die vorgegebene Reaktionszeit von 24 Stunden ist vom Auftragnehmer während der Vertragslaufzeit sicherzustellen und durch entsprechende Personalplanung zu gewährleisten. Abrufreinigungen nach Veranstaltungen/Aufführungen/Proben: In den Objekten "Großes Haus - Probebühne II" und "Probebühne Mühlstraße", sind Abrufreinigungen nach/vor Veranstaltungen/Aufführungen/Proben zu erbringen. Es ist in der jeweiligen Objektkalkulation "6.) AR-01 bis AR-02" eine eigene Preisermittlung für diese Abrufreinigungen hinterlegt. Die Beauftragung und Abrechnung von Abrufreinigungen erfolgt nach der jeweiligen Objektkalkulation pro Paket. Für diese Leistungserbringung, wird der ermittelte Stundenverrechnungssatz "SVS AR" automatisch in die Objektkalkulation "6.) AR-01 bis AR-02" übernommen. Paket 1: "Großes Haus - Probebühne II": Für die Gesamtjahrespreis-/ und Gesamtjahresstundenermittlung (AR-01), wurden für diese Positionen ein geschätzter Jahreseinsatz von 30 werktäglichen Einsätzen herangezogen. Ein tatsächlicher Anspruch auf diese Leistungserbringung im genannten Umfang besteht nicht, ist aber im Bedarfsfall bei Beauftragung zu erbringen. Paket 2: "Probebühne Mühlstraße": Für die Gesamtjahrespreis-/ und Gesamtjahresstundenermittlung (AR-02), wurden für diese Positionen ein geschätzter Jahreseinsatz von 30 werktäglichen Einsätzen herangezogen. Ein tatsächlicher Anspruch auf diese Leistungserbringung im genannten Umfang besteht nicht, ist aber im Bedarfsfall bei Beauftragung zu erbringen.
A43: . | B43: Hinweise zur Bearbeitung der jeweiligen Tabellenblätter
A45: 1. | B45: Stundenverrechnungssatz Unterhaltsreinigung - UR (werktags)
B46: Als Berechnungsgrundlage dient eine Zuschlagskalkulation angelehnt an die Vorlagen des Bundesinnungsverbandes des Gebäudereiniger-Handwerks. Für die rechnerische und wirtschaftliche Überprüfung Ihres Angebotes muss die Stundenverrechnungssatzkalkulation UR zwingend vollständig, auftragsbezogen und auskömmlich für voll-sozialversicherungspflichtige (Voll-SV) Mitarbeiter, Midi-jobber (Midijob) sowie geringfügig beschäftigte (GV) Mitarbeiter ausgefüllt werden. Hierzu sind alle grün hinterlegten Felder auszufüllen. Es ist darauf zu achten, dass jede einzelne Position ausgefüllt wird, gegebenenfalls mit dem Zahlenwert "0". Bitte tragen Sie jeweils die Zuschläge in % in die Stundenverrechnungssatzkalkulation UR bezogen auf den Produktivlohn ein. Als Mindestlohnvorgabe dient der für allgemeinverbindlich erklärte Mindestlohntarifvertrag für das Gebäudereiniger-Handwerk mit dem Tariflohn Lohngruppe 1 zum Zeitpunkt der Angebotsabgabe (verbindliche Kalkulationsvorgabe). Eine Nicht-Einhaltung des aktuellen und für allgemeinverbindlich erklärten Mindestlohntarifvertrages und des Rahmentarifvertrages für das Gebäudereiniger-Handwerk, führt wegen Abweichung der verbindlichen Kalkulationsvorgaben zwingend zum Ausschluss Ihres Angebotes. Kalkulationen, bei denen die Sozialversicherungen (Arbeitgeberanteil); bei der Krankenversicherung inkl. kassenindividueller Zusatzbeiträge; nicht mindestens den gesetzlichen Bestimmungen zum Zeitpunkt der Angebotsabgabe entsprechen, führen wegen Abweichung der verbindlichen Kalkulationsvorgabe zwingend zum Ausschluss Ihres Angebotes. Eine Unterschreitung der Lohnfolgekosten (Soziallöhne) aus den von Ihnen dargelegten firmenspezifischen Angaben im Stundenverrechnungssatz UR zur Ermittlung der produktiven Arbeitstage pro Mitarbeiter und Jahr Ihres Unternehmens, im Durchschnitt einer 5-Tage-Woche (verbindliche Kalkulationsvorgabe), führt wegen Abweichung der verbindlichen Kalkulationsvorgabe zwingend zum Ausschluss Ihres Angebotes. Kalkulationen, bei denen die Sozialversicherungen auf die Lohnfolgekosten nicht mindestens den gesetzlichen Bestimmungen zum Zeitpunkt der Angebotsabgabe entsprechen, führen wegen Abweichung der verbindlichen Kalkulationsvorgabe zwingend zum Ausschluss Ihres Angebotes. Bitte beachten Sie, dass die von Ihnen gemachten Angaben "Mindeststunden für die qualifizierte Objektbetreuung" für die regelmäßige Unterhaltsreinigung (UR) im Formular CS_2026_0286_006_Aufsichts- und Kontrollstunden im Stundenverrechnungssatz UR rechnerisch überprüfbar und auskömmlich sein müssen. Eine Unterschreitung bei der rechnerischen Überprüfung der unter Position 4.2) im Stundenverrechnungssatz UR kalkulierten Zuschläge in % (Aufsichts- und Kontrollkosten Objektleitung, inkl. Lohnfolgekosten) führt wegen Abweichung der verbindlichen Kalkulationsvorgabe zwingend zum Ausschluss Ihres Angebotes. Die rechnerische Überprüfung erfolgt anhand dem von Ihnen kalkulierten Stundenverrechnungssatz OL, den von Ihnen kalkulierten Jahresmindeststunden für die qualifizierte Objektbetreuung durch die Objektleitung für die Leistungsart (UR) sowie den von Ihnen kalkulierten Jahresgesamtstunden UR. Die Überwachung und Einhaltung der Leistungserbringung (UR) wird zusätzlich durch ein neutrales Fachbüro stichprobenartig durchgeführt. Es sind hierfür für den kompletten Auftrag zwei Kontrolldurchgänge pro Jahr veranschlagt. Ein Kontrolldurchgang verursacht Kosten in Höhe von 1490,00 € (netto). Diese Kosten sind durch den AN zu tragen und in den Stundenverrechnungssatz UR unter der Position 5.2) externe Qualitätssicherung einzukalkulieren. Am Ende geben Sie bitte das geplante Verhältnis von voll-sozialversicherungspflichtige (Voll-SV) Mitarbeiter, Midijobber (Midijob) sowie geringfügig beschäftigte (GV) Mitarbeiter an. Die Summe muss zwingend 100 % ergeben und erscheint nur dann im Kontrollfeld grün. Der so ermittelte Stundenverrechnungssatz "UR werktags" wird automatisch in die Objekt-kalkulationen "6.) UR-01 bis UR-05" übernommen.
A91: 2. | B91: Stundenverrechnungssatz Abrufreinigung - AR (werktags)
B92: Als Berechnungsgrundlage dient eine Zuschlagskalkulation angelehnt an die Vorlagen des Bundesinnungsverbandes des Gebäudereiniger-Handwerks. Für die rechnerische und wirtschaftliche Überprüfung Ihres Angebotes muss die Stundenverrechnungssatzkalkulation AR zwingend vollständig, auftragsbezogen und auskömmlich für voll-sozialversicherungspflichtige (Voll-SV) Mitarbeiter, Midi-jobber (Midijob) sowie geringfügig beschäftigte (GV) Mitarbeiter ausgefüllt werden. Hierzu sind alle grün hinterlegten Fel- der auszufüllen. Es ist darauf zu achten, dass jede einzelne Position ausgefüllt wird, gegebenenfalls mit dem Zahlenwert "0". Bitte tragen Sie jeweils die Zuschläge in % in die Stundenverrechnungssatzkalkulation AR bezogen auf den Produk-tivlohn ein. Als Mindestlohnvorgabe dient der für allgemeinverbindlich erklärte Mindestlohntarifvertrag für das Gebäudereiniger-Handwerk mit dem Tariflohn Lohngruppe 1 zum Zeitpunkt der Angebotsabgabe (verbindliche Kalkulationsvorgabe). Eine Nicht-Einhaltung des aktuellen und für allgemeinverbindlich erklärten Mindestlohntarifvertrages und des Rahmentarif-vertrages für das Gebäudereiniger-Handwerk, führt wegen Abweichung der verbindlichen Kalkulationsvorgaben zwingend zum Ausschluss Ihres Angebotes. Kalkulationen, bei denen die Sozialversicherungen (Arbeitgeberanteil); bei der Krankenversicherung inkl. kassenindividu- eller Zusatzbeiträge; nicht mindestens den gesetzlichen Bestimmungen zum Zeitpunkt der Angebotsabgabe entsprech- en, führen wegen Abweichung der verbindlichen Kalkulationsvorgabe zwingend zum Ausschluss Ihres Angebotes. Eine Unterschreitung der Lohnfolgekosten (Soziallöhne) aus den von Ihnen dargelegten firmenspezifischen Angaben im Stundenverrechnungssatz AR zur Ermittlung der produktiven Arbeitstage pro Mitarbeiter und Jahr Ihres Unternehmens, im Durchschnitt einer 5-Tage-Woche (verbindliche Kalkulationsvorgabe), führt wegen Abweichung der verbindlichen Kal- kulationsvorgabe zwingend zum Ausschluss Ihres Angebotes. Kalkulationen, bei denen die Sozialversicherungen auf die Lohnfolgekosten nicht mindestens den gesetzlichen Bestimmungen zum Zeitpunkt der Angebotsabgabe entsprechen, führen wegen Abweichung der verbindlichen Kalkulationsvorgabe zwingend zum Ausschluss Ihres Angebotes. Am Ende geben Sie bitte das geplante Verhältnis von voll-sozialversicherungspflichtige (Voll-SV) Mitarbeiter, Midijobber (Midijob) sowie geringfügig beschäftigte (GV) Mitarbeiter an. Die Summe muss zwingend 100 % ergeben und erscheint nur dann im Kontrollfeld grün. Der so ermittelte Stundenverrechnungssatz "AR werktags" wird automatisch in die Objektkalkulationen "6.) AR-01 bis AR-02" übernommen.
A122: 3. | B122: Stundenverrechnungssatz Objektleitung - OL (werktags)
B123: Als Berechnungsgrundlage dient eine Zuschlagskalkulation angelehnt an die Vorlagen des Bundesinnungsverbandes des Gebäudereiniger-Handwerks. Für die rechnerische und wirtschaftliche Überprüfung Ihres Angebotes muss die Stundenverrechnungssatzkalkulation OL zwingend vollständig, auftragsbezogen und auskömmlich ausgefüllt werden. Hierzu sind alle grün hinterlegten Felder aus-zufüllen. Es ist darauf zu achten, dass jede einzelne Position ausgefüllt wird, gegebenenfalls mit dem Zahlenwert "0". Bit- te tragen Sie jeweils die Zuschläge in % in die Stundenverrechnungssatzkalkulation OL bezogen auf den Produktivlohn ein. Kalkulationen, bei denen die Sozialversicherungen (Arbeitgeberanteil); bei der Krankenversicherung inkl. kassenindividu- eller Zusatzbeiträge; nicht mindestens den gesetzlichen Bestimmungen zum Zeitpunkt der Angebotsabgabe entsprechen, führen wegen Abweichung der verbindlichen Kalkulationsvorgabe zwingend zum Ausschluss Ihres Angebotes. Eine Unterschreitung der Lohnfolgekosten (Soziallöhne) aus den von Ihnen dargelegten firmenspezifischen Angaben im Stundenverrechnungssatz OL zur Ermittlung der produktiven Arbeitstage pro Objektleitung und Jahr Ihres Unternehmens, im Durchschnitt einer 5-Tage-Woche (verbindliche Kalkulationsvorgabe), führt wegen Abweichung der verbindlichen Kalkulationsvorgabe zwingend zum Ausschluss Ihres Angebotes. Kalkulationen, bei denen die Sozialversicherungen auf die Lohnfolgekosten nicht mindestens den gesetzlichen Bestimmungen zum Zeitpunkt der Angebotsabgabe entsprechen, führen wegen Abweichung der verbindlichen Kalkulationsvorgabe zwingend zum Ausschluss Ihres Angebotes. Bitte beachten Sie, dass der von Ihnen kalkulierte Stundenlohn für die Objektleitung mindestens der in der "Eigenerklärung zur Eignung und zu Ausschlussgründen" geforderten Mindestqualifikation, der geforderten Sprachkenntnisse sowie der geforderten Berufserfahrung der eingesetzten Objektleitung realistisch und entsprechend branchenüblich sein muss. Unrealistische (zu niedrige) bzw. nicht branchenübliche Stundenlöhne führen zum Ausschluss Ihres Angebotes.
A151: 4. | B151: Bearbeitung der Kalkulationsdatei
B152: Für eine vereinfachte Bearbeitung tragen Sie bitte im Tabellenblatt "5.) LST UR+AR" Ihre realistischen Leistungswerte für die UR und AR auf der Grundlage der geforderten Leistungsbeschreibung und den objektespezifischen Anforderungen in die grünen Felder ein. Die einzelnen Leistungswerte werden dann automatisch in die Objektkalkulationen "6.) UR-01 bis UR-06" sowie "6.) AR-01 bis AR-02" übernommen. Sie haben die Möglichkeit, in den einzelnen Objektkalkulationen den zugeordneten Leistungswert manuell pro Raum zu korrigieren bzw. anzupassen, um ggf. der Raumgröße, dem Verschmutzungsgrad, der Bodenart, den Wege- und Rüst-zeiten, Mindestarbeitszeiten sowie speziellen Hygieneanforderungen und ggf. Individualleistungen gerecht zu werden. Sollten die von Ihnen angegebenen Leistungswerte für die UR und AR nicht als realistisch und aus der praktischen Erfahrung des AG heraus als nicht machbar erscheinen, kann der AG zur Überprüfung der Angemessenheit hier Aufklärung zu den gemachten Angaben im Zuge einer "kostenfreien Probereinigung" verlangen. Hier muss der AN im Objekt mit den Objektgegebenheiten die Machbarkeit der angezweifelten Leistungswerte mit allen in der Leistungsbeschreibung definierten Teilleistungen im Zuge einer Testreinigung in einem vom AG bestimmten Bereich/Raum mit einem Erfüllungsgehilfen des Bieters kostenlos beweisen. Sollte der Leistungswert sich dadurch als nicht machbar darstellen oder der AN nicht dieser Aufklärungspflicht kostenfrei nachkommen, ist das Angebot zwingend auszuschließen. Alle aus den einzelnen Kalkulationen/Positionen gewonnenen Daten/Preise UR und AR führen zu einem Gesamtpreis und den Gesamtstunden für die Wertung.
A173: 5. | B173: Legende der Bodenbeläge
B175: H | C175: Holz | G175: FL | H175: Fliesen
B176: L | C176: Linoleum | G176: PVC | H176: Polyvinylchlorid
B177: T | C177: Teppich | G177: NAST | H177: Naturstein
B178: KA | C178: Kautschuk | G178: GUNO | H178: Gumminoppe
B179: LA | C179: Laminat | G179: BÜBO | H179: Bühnenboden
B180: BE | C180: Beton | G180: SAUB | H180: Sauberlaufzone
B181: PA | C181: Parkett

Sheet 2.a) GPB
A1: ="2.a) Gesamtpreisblatt -"&MID('1.) Erläuterungen'!A1, FIND("-", '1.) Erläuterungen'!A1) + 1, LEN('1.) Erläuterungen'!A1)) -> 2.a) Gesamtpreisblatt - Bezirksverband Pfalz - Pfalztheater Kaiserslautern
B3: Bieter (Firma):
B4: è | C4: Angabe der Firma
A6: . | B6: Preisübersicht Kalkulation Gebäudereinigung (in € netto)
C8: Jahrespreis | D8: Jahresstunden
B10: Gesamtsumme Unterhaltsreinigung (UR) | C10: ='2.b) PB'!E15 -> #DIV/0! | D10: ='2.b) PB'!F15 -> #DIV/0!
B11: Gesamtsumme Abrufreinigung (AR) | C11: ='2.b) PB'!E33 -> #DIV/0! | D11: ='2.b) PB'!F33 -> #DIV/0!
B12: Gesamtsumme Reinigung aus UR + AR | C12: =SUM(C10:C11) -> #DIV/0! | D12: =SUM(D10:F11) -> #DIV/0!
B13: Umsatzsteuer (USt.) | C13: 0.19
B14: Gesamtsumme Reinigung brutto aus UR + AR | C14: =C12*(1+C13) -> #DIV/0!
A16: . | B16: Regieleistungen (in € netto)
B18: Sonderreinigung (werktags) | F18: € / Stunde
B19: Sonderreinigung (sonn- und feiertags) | F19: € / Stunde
B20: Vertretungsreinigung (werktags) | F20: € / Stunde
B21: Vertretungsreinigung (sonn- und feiertags) | F21: € / Stunde
B22: Desinfektionsreinigung - Mittel stellt der AG - (werktags) | F22: € / Stunde
B23: Grundreinigung (werktags) | F23: € / Stunde
B24: Baureinigung (werktags) | F24: € / Stunde
B25: Fliesenboden Sanitärbereich maschinell grundreinigen (werktags) | D25: bis 10 m² | F25: € / m²
D26: ab 10 m²
B27: Steinboden maschinell grundreinigen (werktags) | D27: bis 50 m² | F27: € / m²
D28: ab 50 m²
B29: Linoleumboden maschinell grundreinigen (werktags) | D29: bis 50 m² | F29: € / m²
D30: ab 50 m²
B31: Linoleumboden maschinell grundreinigen und mind. 2-fach beschichten (werktags) | D31: bis 50 m² | F31: € / m²
D32: ab 50 m²
B33: PVC-Boden maschinell grundreinigen (werktags) | D33: bis 50 m² | F33: € / m²
D34: ab 50 m²
B35: PVC-Boden maschinell grundreinigen und mind. 2-fach beschichten (werktags) | D35: bis 50 m² | F35: € / m²
D36: ab 50 m²
B37: Vinyl-/ Kautschukboden maschinell grundreinigen (werktags) | D37: bis 50 m² | F37: € / m²
D38: ab 50 m²
B39: Vinyl-/ Kautschukboden maschinell grundreinigen und einpflegen (werktags) | D39: bis 50 m² | F39: € / m²
D40: ab 50 m²
B41: Holzboden/Parkett maschinell grundreinigen (werktags) | D41: bis 50 m² | F41: € / m²
D42: ab 50 m²
B43: Holzboden/Parkett maschinell grundreinigen und einpflegen (werktags) | D43: bis 50 m² | F43: € / m²
D44: ab 50 m²
B45: Teppichreinigung Sprühextraktion (werktags) | D45: bis 50 m² | F45: € / m²
D46: ab 50 m²
...

Sheet 2.b) PB
A1: ="2.b) Preisblatt -"&MID('1.) Erläuterungen'!A1, FIND("-", '1.) Erläuterungen'!A1) + 1, LEN('1.) Erläuterungen'!A1)) -> 2.b) Preisblatt - Bezirksverband Pfalz - Pfalztheater Kaiserslautern
B3: Bieter (Firma): | D3: ='2.a) GPB'!C3 -> 0
A5: . | B5: Preisübersicht Kalkulation Gebäudereinigung (in € netto)
B7: Objekte | C7: Kalk. | D7: Unterhaltsreinigung
B9: Unterhaltsreinigung | D9: Monats- kosten | E9: Jahres- kosten | F9: Jahres- stunden | G9: Æ Stunden pro Tag
B10: Großes Haus Willy-Brandt-Platz 4+5 67657 Kaiserslautern | C10: 6.) UR-01 | D10: {=INDIRECT("'"&LEFT(C10,SEARCH(CHAR(10),C10&CHAR(10))-1)&"'!O3")} -> #DIV/0! | E10: =D10*12 -> #DIV/0! | F10: {=INDIRECT("'"&LEFT(C10,SEARCH(CHAR(10),C10&CHAR(10))-1)&"'!O4")*12} -> #DIV/0! | G10: =F10/268 -> #DIV/0!
B11: Werkstatt Blechhammer Blechhammerweg 51 67659 Kaiserslautern | C11: 6.) UR-02 | D11: {=INDIRECT("'"&LEFT(C11,SEARCH(CHAR(10),C11&CHAR(10))-1)&"'!O3")} -> #DIV/0! | E11: =D11*12 -> #DIV/0! | F11: {=INDIRECT("'"&LEFT(C11,SEARCH(CHAR(10),C11&CHAR(10))-1)&"'!O4")*12} -> #DIV/0! | G11: =F11/52 -> #DIV/0!
B12: Probebühne III Fischerstraße Fischerstraße 49 67655 Kaiserslautern | C12: 6.) UR-03 | D12: {=INDIRECT("'"&LEFT(C12,SEARCH(CHAR(10),C12&CHAR(10))-1)&"'!O3")} -> #DIV/0! | E12: =D12*12 -> #DIV/0! | F12: {=INDIRECT("'"&LEFT(C12,SEARCH(CHAR(10),C12&CHAR(10))-1)&"'!O4")*12} -> #DIV/0! | G12: =F12/92 -> #DIV/0!
B13: Werkstatt Lauterstraße Lauterstraße 135 67657 Kaiserslautern | C13: 6.) UR-04 | D13: {=INDIRECT("'"&LEFT(C13,SEARCH(CHAR(10),C13&CHAR(10))-1)&"'!O3")} -> #DIV/0! | E13: =D13*12 -> #DIV/0! | F13: {=INDIRECT("'"&LEFT(C13,SEARCH(CHAR(10),C13&CHAR(10))-1)&"'!O4")*12} -> #DIV/0! | G13: =F13/242 -> #DIV/0!
B14: Villa Munzinger Willy-Brandt-Platz 5 67657 Kaiserslautern | C14: 6.) UR-05 | D14: {=INDIRECT("'"&LEFT(C14,SEARCH(CHAR(10),C14&CHAR(10))-1)&"'!O3")} -> #DIV/0! | E14: =D14*12 -> #DIV/0! | F14: {=INDIRECT("'"&LEFT(C14,SEARCH(CHAR(10),C14&CHAR(10))-1)&"'!O4")*12} -> #DIV/0! | G14: =F14/231 -> #DIV/0!
B15: Gesamtsumme Reinigung aus UR | D15: =SUM(D10:D14) -> #DIV/0! | E15: =SUM(E10:E14) -> #DIV/0! | F15: =SUM(F10:F14) -> #DIV/0! | G15: - - -
A17: . | B17: Preisübersicht Kalkulation Gebäudereinigung (in € netto)
B19: Objekte | C19: Kalk. | D19: Abrufreinigung - Paket 1 - "Probebühne II"
B21: Abrufreinigung | D21: Preis pro Reinigung | E21: Preis 30 x Reinigung | F21: Jahresstunden 30 x Reinigung | G21: Stunden pro Reinigung
B22: Großes Haus Willy-Brandt-Platz 4+5 67657 Kaiserslautern | C22: 6.) AR-01 | D22: {=INDIRECT("'"&LEFT(C22,SEARCH(CHAR(10),C22&CHAR(10))-1)&"'!O3")} -> #DIV/0! | E22: =D22*30 -> #DIV/0! | F22: =G22*30 -> #DIV/0! | G22: {=INDIRECT("'"&LEFT(C22,SEARCH(CHAR(10),C22&CHAR(10))-1)&"'!O4")} -> #DIV/0!
B23: Summe Reinigung aus AR-01 | D23: =SUM(D22:D22) -> #DIV/0! | E23: =SUM(E22:E22) -> #DIV/0! | F23: =SUM(F22:F22) -> #DIV/0! | G23: - - -
A25: . | B25: Preisübersicht Kalkulation Gebäudereinigung (in € netto)
B27: Objekte | C27: Kalk. | D27: Abrufreinigung - Paket 2 - "Probebühne Mühlstraße"
B29: Abrufreinigung | D29: Preis pro Reinigung | E29: Preis 30 x Reinigung | F29: Jahresstunden 30 x Reinigung | G29: Stunden pro Reinigung
B30: Probebühne Mühlstraße Mühlstraße 10 67659 Kaiserslautern | C30: 6.) AR-02 | D30: {=INDIRECT("'"&LEFT(C30,SEARCH(CHAR(10),C30&CHAR(10))-1)&"'!O3")} -> #DIV/0! | E30: =D30*30 -> #DIV/0! | F30: =G30*30 -> #DIV/0! | G30: {=INDIRECT("'"&LEFT(C30,SEARCH(CHAR(10),C30&CHAR(10))-1)&"'!O4")} -> #DIV/0!
B31: Summe Reinigung aus AR-02 | D31: =SUM(D30:D30) -> #DIV/0! | E31: =SUM(E30:E30) -> #DIV/0! | F31: =SUM(F30:F30) -> #DIV/0! | G31: - - -
B33: Gesamtsumme Reinigung aus AR-01 bis AR-02 | E33: =E31+E23 -> #DIV/0! | F33: =F31+F23 -> #DIV/0!

Sheet 3.a) SVS UR
A1: . | B1: Kalkulation des Stundenverrechnungssatzes Unterhaltsreinigung (UR) -auftragsbezogen-
B3: Bieter: | C3: ='2.a) GPB'!C3:F3 -> 0
B5: Tage Urlaub pro Mitarbeiter und Jahr:
B6: durchschnittliche Tage tarifliche Arbeitsfreistellung pro Mitarbeiter und Jahr:
B7: durchschnittliche Krankheitstage pro Mitarbeiter und Jahr:
B8: durchschnittliche Feiertage pro Jahr (Rheinland-Pfalz):
D10: Voll-SV | E10: Midijob | F10: GV
B11: Tariflicher Stundenlohn 01.01.2026 Lohngruppe 1 (in €)
B12: 1) Produktiver Stundenlohn | D12: 1 | E12: 1 | F12: 1
B13: 1.1) freiwillige Zulagen (übertarifliche Entlohnung) (in €)
B14: Stundenlohn mit Zulagen | D14: =D11+D13 -> 0 | E14: =E11+E13 -> 0 | F14: =F11+F13 -> 0
B15: 2) Sozialversicherung (Arbeitgeberanteil) - 2026
B16: 2.1) Krankenversicherung - inkl. kassenindividueller Zusatzbeitrag
B17: 2.2) Rentenversicherung
B18: 2.3) Arbeitslosenversicherung | F18: ="-" -> -
B19: 2.4) Pflegeversicherung | F19: ="-" -> -
B20: 2.5) U2 Mutterschaftsaufwendungen
B21: 2.6) U3 Insolvenzgeldumlage
B22: 2.7) Gesetzliche Unfallversicherung
B23: Summe Sozialversicherungsbeiträge 2 | D23: =SUM(D16:D22) -> 0 | E23: =SUM(E16:E22) -> 0 | F23: =SUM(F16:F22) -> 0
B24: 3) Lohnfolgekosten (Soziallöhne)
B25: 3.1) Gesetzliche Feiertage
B26: 3.1.1) Sozialversicherung auf Feiertage
B27: 3.2) Urlaubsentgelt
B28: 3.2.1) Sozialversicherung auf Urlaubsentgelt
B29: 3.3) Tarifliche Arbeitsfreistellung
B30: 3.3.1) Sozialversicherung auf Arbeitsfreistellung
B31: 3.4) Gesetzliche Lohnfortzahlung im Krankheitsfall
B32: 3.4.1) Sozialversicherung auf Lohnfortzahlung im Krankheitsfall
B33: 3.5) zusätzliches Urlaubsgeld
B34: 3.5.1) Sozialversicherung auf zusätzliches Urlaubsgeld
B35: Summe Sozialversicherungsbeiträge und Soziallöhne 2 und 3 | D35: =SUM(D23:D34) -> 0 | E35: =SUM(E23:E34) -> 0 | F35: =SUM(F23:F34) -> 0
B36: 4) Zusätzliche auftragsbezogene, lohngebundene Kosten
B37: 4.1) Vorarbeiter inkl. Lohnfolgekosten
B38: 4.2) Aufsichts- und Kontrollkosten Objektleitung inkl. Lohnfolgekosten
B39: 4.3) Sonstige Personalkosten z. B. Schulung und Einarbeitung
B40: 4.4) Haftpflichtversicherung
B41: Summe Lohn- und lohngebundene Kosten 1, 2, 3 und 4 | D41: =SUM(D37:D40)+D35+D12 -> 1 | E41: =SUM(E37:E40)+E35+E12 -> 1 | F41: =SUM(F37:F40)+F35+F12 -> 1
B42: 5) Sonstige auftragsbezogene Kosten
B43: 5.1) Qualitätssicherung
...

Sheet 3.b) SVS AR
A1: . | B1: Kalkulation des Stundenverrechnungssatzes Abrufreinigung (AR) -auftragsbezogen-
B3: Bieter: | C3: ='2.a) GPB'!C3:F3 -> 0
B5: Tage Urlaub pro Mitarbeiter und Jahr:
B6: durchschnittliche Tage tarifliche Arbeitsfreistellung pro Mitarbeiter und Jahr:
B7: durchschnittliche Krankheitstage pro Mitarbeiter und Jahr:
B8: durchschnittliche Feiertage pro Jahr (Rheinland-Pfalz):
D10: Voll-SV | E10: Midijob | F10: GV
B11: Tariflicher Stundenlohn 01.01.2026 Lohngruppe 1 (in €)
B12: 1) Produktiver Stundenlohn | D12: 1 | E12: 1 | F12: 1
B13: 1.1) freiwillige Zulagen (übertarifliche Entlohnung) (in €)
B14: Stundenlohn mit Zulagen | D14: =D11+D13 -> 0 | E14: =E11+E13 -> 0 | F14: =F11+F13 -> 0
B15: 2) Sozialversicherung (Arbeitgeberanteil) - 2026
B16: 2.1) Krankenversicherung - inkl. kassenindividueller Zusatzbeitrag
B17: 2.2) Rentenversicherung
B18: 2.3) Arbeitslosenversicherung | F18: ="-" -> -
B19: 2.4) Pflegeversicherung | F19: ="-" -> -
B20: 2.5) U2 Mutterschaftsaufwendungen
B21: 2.6) U3 Insolvenzgeldumlage
B22: 2.7) Gesetzliche Unfallversicherung
B23: Summe Sozialversicherungsbeiträge 2 | D23: =SUM(D16:D22) -> 0 | E23: =SUM(E16:E22) -> 0 | F23: =SUM(F16:F22) -> 0
B24: 3) Lohnfolgekosten (Soziallöhne)
B25: 3.1) Gesetzliche Feiertage
B26: 3.1.1) Sozialversicherung auf Feiertage
B27: 3.2) Urlaubsentgelt
B28: 3.2.1) Sozialversicherung auf Urlaubsentgelt
B29: 3.3) Tarifliche Arbeitsfreistellung
B30: 3.3.1) Sozialversicherung auf Arbeitsfreistellung
B31: 3.4) Gesetzliche Lohnfortzahlung im Krankheitsfall
B32: 3.4.1) Sozialversicherung auf Lohnfortzahlung im Krankheitsfall
B33: 3.5) zusätzliches Urlaubsgeld
B34: 3.5.1) Sozialversicherung auf zusätzliches Urlaubsgeld
B35: Summe Sozialversicherungsbeiträge und Soziallöhne 2 und 3 | D35: =SUM(D23:D34) -> 0 | E35: =SUM(E23:E34) -> 0 | F35: =SUM(F23:F34) -> 0
B36: 4) Zusätzliche auftragsbezogene, lohngebundene Kosten
B37: 4.1) Vorarbeiter inkl. Lohnfolgekosten
B38: 4.2) Aufsichts- und Kontrollkosten Objektleitung inkl. Lohnfolgekosten
B39: 4.3) Sonstige Personalkosten z. B. Schulung und Einarbeitung
B40: 4.4) Haftpflichtversicherung
B41: Summe Lohn- und lohngebundene Kosten 1, 2, 3 und 4 | D41: =SUM(D37:D40)+D35+D12 -> 1 | E41: =SUM(E37:E40)+E35+E12 -> 1 | F41: =SUM(F37:F40)+F35+F12 -> 1
B42: 5) Sonstige auftragsbezogene Kosten
B43: 5.1) Qualitätssicherung
...

Sheet 3.c) SVS OL
A1: . | B1: Kalkulation des Stundenverrechnungssatz Objektleitung (OL) -auftragsbezogen-
B3: Bieter: | C3: ='2.a) GPB'!C3:F3 -> 0
B5: Tage Urlaub pro Mitarbeiter und Jahr:
B6: durchschnittliche Tage Arbeitsfreistellung pro Mitarbeiter und Jahr:
B7: durchschnittliche Krankheitstage pro Mitarbeiter und Jahr:
B8: durchschnittliche Feiertage pro Jahr (Rheinland-Pfalz):
B10: Stundenlohn (in €)
B11: 1) Produktiver Stundenlohn für die einzusetzende Objektleitung unter Berücksichtigung der geforderten Berufserfahrung, Sprachkenntnis und Qualifikation gemäß den Angaben in der „Eigenerklärung zur Eignung und zu Ausschlussgründen“. | D11: 1
B12: 2) Sozialversicherung (Arbeitgeberanteil) - 2026
B13: 2.1) Krankenversicherung - inkl. kassenindividueller Zusatzbeitrag
B14: 2.2) Rentenversicherung
B15: 2.3) Arbeitslosenversicherung
B16: 2.4) Pflegeversicherung
B17: 2.5) U2 Mutterschaftsaufwendungen
B18: 2.6) U3 Insolvenzgeldumlage
B19: 2.7) Gesetzliche Unfallversicherung
B20: Summe Sozialversicherungsbeiträge 2 | D20: =SUM(D13:D19) -> 0
B21: 3) Lohnfolgekosten (Soziallöhne)
B22: 3.1) Gesetzliche Feiertage
B23: 3.1.1) Sozialversicherung auf Feiertage
B24: 3.2) Urlaubsentgelt
B25: 3.2.1) Sozialversicherung auf Urlaubsentgelt
B26: 3.3) Arbeitsfreistellung
B27: 3.3.1) Sozialversicherung auf Arbeitsfreistellung
B28: 3.4) Gesetzliche Lohnfortzahlung im Krankheitsfall
B29: 3.4.1) Sozialversicherung auf Lohnfortzahlung im Krankheitsfall
B30: 3.5) zusätzliches Urlaubsgeld
B31: 3.5.1) Sozialversicherung auf zusätzliches Urlaubsgeld
B32: Summe Sozialversicherungsbeiträge und Soziallöhne 2 und 3 | D32: =SUM(D20:D31) -> 0
B33: 4) Zusätzliche auftragsbezogene, lohngebundene Kosten
B34: 4.1) Sonstige Personalkosten z. B. Schulung und Einarbeitung
B35: 4.2) Haftpflichtversicherung
B36: Summe Lohn- und lohngebundene Kosten 1, 2, 3 und 4 | D36: =SUM(D34:D35)+D32+D11 -> 1
B37: 5) Sonstige auftragsbezogene Kosten
B38: 5.1) Qualitätssicherung
B39: 5.2) Arbeitskleidung
B40: 5.3) EDV + Mobilfunkkosten
B41: 5.4) Fuhrparkkosten
B42: Zwischensumme sonstige auftragsbezogene Kosten 5 | D42: =SUM(D38:D41) -> 0
B43: 6) Unternehmensbezogene Kosten
...

Sheet 4.) Faktoren
A1: . | B1: Erläuterung der Faktoren für die Kalkulation in Tagen pro Jahr: Werkstatt Blechhammer
B3: Häufigkeit | C3: Turnus | D3: Anzahl Reinigungen/Jahr
B4: 1 x wöchentlich | C4: 1 | D4: 52
B6: Hinweise: - k. R. = keine regelmäßige Reinigung. - keine Schließzeit laut Gebäudenutzung
A20: . | B20: Erläuterung der Faktoren für die Kalkulation in Tagen pro Jahr: Werkstatt Lauterstr. 135
B22: Häufigkeit | C22: Turnus | D22: Anzahl Reinigungen/Jahr
B23: keine Reinigung | C23: k. R. | D23: 0
B24: 1 x wöchentlich | C24: 1 | D24: 50
B25: 2 x wöchentlich | C25: 2 | D25: 100
B26: 5 x wöchentlich | C26: 5 | D26: 242
B28: Hinweise: - k. R. = keine regelmäßige Reinigung. - 2 Schließwochen pro Jahr in den Monaten Juli/August - keine regelmäßige Reinigung während der Schließzeit
A48: . | B48: Erläuterung der Faktoren für die Kalkulation in Tagen pro Jahr: Villa Munzinger
B50: Häufigkeit | C50: Turnus | D50: Anzahl Reinigungen/Jahr
B51: keine Reinigung | C51: k. R. | D51: 0
B52: 1 x wöchentlich | C52: 1 | D52: 48
B53: 2 x wöchentlich | C53: 2 | D53: 96
B54: 5 x wöchentlich | C54: 5 | D54: 232
B56: Hinweise: - k. R. = keine regelmäßige Reinigung. - 4 Schließwochen pro Jahr in den Monaten Juli/August - keine regelmäßige Reinigung während der Schließzeit, außer am letzten werktäglichen Schließtag
A70: . | B70: Erläuterung der Faktoren für die Kalkulation in Tagen pro Jahr: Großes Haus, Probebühne III
B72: Häufigkeit | C72: Turnus | D72: Anzahl Reinigungen/Jahr
B73: keine Reinigung | C73: k. R. | D73: 0
B74: 1 x Quartal | C74: 1Q | D74: 4
B75: 1 x monatlich | C75: 1M | D75: 11
B76: 1 x wöchentlich | C76: 1 | D76: 46
B77: 2 x wöchentlich | C77: 2 | D77: 92
B78: 3 x wöchentlich | C78: 3 | D78: 138
B79: 5 x wöchentlich | C79: 5 | D79: 222
B80: 6 x wöchentlich | C80: 6 | D80: 268
B82: Hinweise: - k. R. = keine regelmäßige Reinigung. - 6 Wochen Theaterferien pro Jahr in den Monaten Juli/August - keine regelmäßige Reinigung während den Theaterferien, außer am letzten werktäglichen Schließtag - eventuell vereinzelte Reinigungen während der Theaterferien (Beauftragung nach Bedarf und gesonderter Abrechnung)

Sheet 5.) LST UR+AR
A1: . | B1: Raumgruppen mit Leistung m² pro Stunde
B2: Bitte tragen Sie pro Raumgruppe im Bereich der Unterhaltsreinigung auf der Grundlage der geforderten Leistungs-beschreibung und den objektspezifischen Anforderungen für die jeweilige Raumart, einen realistischen Leistungswert in die grünen Felder ein. Sie haben die Möglichkeit, in der/den einzelnen Objektkalkulation/en "6.) UR-01 bis UR-05" sowie "6.) AR-01 bis AR-02" den zugeordneten Leistungswert manuell pro Raum zu korrigieren, bzw. anzupassen, um ggf. der Raumgröße, dem Verschmutzungsgrad, der Bodenart, den Wege- und Rüstzeiten, Mindestarbeitszeiten, sowie speziellen Hygieneanforderungen und ggf. Individualleistungen gerecht zu werden. Die von Ihnen kalkulierten Leistungen m² pro Stunde und die daraus resultierenden produktiven Reinigungsstunden, werden ausdrücklich Vertragsgegenstand und sind zwingend zu erbringen und entsprechend elektronisch nachzuweisen.
B13: Bieter: | C13: {='2.a) GPB'!C3:C3} -> 0
B15: Raumgruppen Unterhalts- und Abrufreinigung | D15: Leistung m² pro Stunde
B16: A1 | C16: Aufenthaltsräume, Sozialräume, Teeküchen
B17: A2 | C17: Aufenthaltsräume, Sozialräume, Küchen, Teeküchen
B18: A5 | C18: Aufenthaltsräume, Sozialräume, Küchen, Teeküchen
B19: A6 | C19: Aufenthaltsräume, Sozialräume, Kantine, Küchen, Teeküchen
B20: C2 | C20: Büros, Besprechungsräume, Poststellen, Regieräume
B21: C6 | C21: Büros, Abo- und Vorverkaufskassen, Pförtner
B22: D2 | C22: Lager, Nebenräume, Wäschelager
B23: E6 | C23: Ballettsaal
B24: F1 | C24: Sanitäranlagen, WCs, Duschen
B25: F2 | C25: Sanitäranlagen, WCs
B26: F5 | C26: Sanitäranlagen, WCs, Duschen
B27: F6 | C27: Sanitäranlagen, Waschräume, WCs, Duschen
... B49: P-AR | C49: Probebühnen
B50: Z1 | C50: Reinigungsräume | D50: - - -
B51: k. R. | C51: keine regelmäßige Reinigung | D51: - - -

Sheet 6.) UR-01
A1: Bezirksverband Pfalz | D1: Objekt: | F1: Großes Haus | K1: Jahresreinigungsfläche gesamt: | O1: =I268 -> 878695.57
A2: Bismarckstraße 17, 67655 Kaiserslautern | D2: Adresse: | F2: Willy-Brandt-Platz 4+5; 67657 Kaiserslautern | K2: Grundfläche gesamt: | O2: =D268 -> 9174.31
D3: Leistung: | F3: Unterhaltsreinigung | K3: kalkulierte Monatskosten gesamt: | O3: =N268 -> #DIV/0!
D4: Bieter: | F4: ='2.a) GPB'!C3 -> 0 | K4: kalkulierte Monatsstunden gesamt: | O4: =L268 -> #DIV/0!
A6: Bemerkungen: | D6: - 6 Wochen Theaterferien pro Jahr in den Monaten Juli/August
D7: - keine regelmäßige Reinigung während den Theaterferien, außer am letzten werktäglichen Schließtag
D8: - eventuell vereinzelte Reinigungen während der Theaterferien (Beauftragung nach Bedarf und gesonderter Abrechnung)
D9: - Die Leistungserbringung muss hier werktags von Montag bis Samstag erfolgen
A11: Raum- nummer | B11: Raumbezeichnung | C11: Boden- art | D11: Grund- fläche | E11: Raum-gruppe | F11: Turnus | G11: Raum-gruppen-turnus | H11: Jahres- faktor | I11: Jahres- reinigungs- fläche m² | J11: Leistung m²/h | K11: Jahres- stunden | L11: Monats- stunden | M11: SVS UR | N11: Monats- kosten | O11: Bemerkung
A12: Ebene U1
A13: 4.10 | B13: Halle | C13: GUNO | D13: 54.72 | E13: H | F13: 6 | G13: =IF(F13="k. R.",E13,CONCATENATE(E13,F13)) -> H6 | H13: =VLOOKUP(F13,'4.) Faktoren'!$C$73:$D$80,2,0) -> 268 | I13: =D13*H13 -> 14664.96 | J13: =VLOOKUP(G13,'5.) LST UR+AR'!$B$16:$D$51,3,0) -> 0 | K13: =I13/J13 -> #DIV/0! | L13: =K13/12 -> #DIV/0! | M13: ='3.a) SVS UR'!$F$75 -> 0 | N13: =L13*M13 -> #DIV/0!
A14: 4.10 | B14: Stuhllager | C14: GUNO | D14: 20.85 | E14: D | F14: k. R. | G14: =IF(F14="k. R.",E14,CONCATENATE(E14,F14)) -> D
A15: 4.11 | B15: Eingangsbereich | C15: GUNO | D15: 70.59 | E15: G | F15: 6 | G15: =IF(F15="k. R.",E15,CONCATENATE(E15,F15)) -> G6 | H15: =VLOOKUP(F15,'4.) Faktoren'!$C$73:$D$80,2,0) -> 268 | I15: =D15*H15 -> 18918.12 | J15: =VLOOKUP(G15,'5.) LST UR+AR'!$B$16:$D$51,3,0) -> 0 | K15: =I15/J15 -> #DIV/0! | L15: =K15/12 -> #DIV/0! | M15: ='3.a) SVS UR'!$F$75 -> 0 | N15: =L15*M15 -> #DIV/0!
B16: Aufzug 1 | C16: L | D16: 5.72 | E16: G | F16: 2 | G16: =IF(F16="k. R.",E16,CONCATENATE(E16,F16)) -> G2 | H16: =VLOOKUP(F16,'4.) Faktoren'!$C$73:$D$80,2,0) -> 92 | I16: =D16*H16 -> 526.24 | J16: =VLOOKUP(G16,'5.) LST UR+AR'!$B$16:$D$51,3,0) -> 0 | K16: =I16/J16 -> #DIV/0! | L16: =K16/12 -> #DIV/0! | M16: ='3.a) SVS UR'!$F$75 -> 0 | N16: =L16*M16 -> #DIV/0!
A17: 4.12 | B17: Requisitenwerkstatt | C17: L | D17: 28.89 | E17: M | F17: 1M | G17: =IF(F17="k. R.",E17,CONCATENATE(E17,F17)) -> M1M | H17: =VLOOKUP(F17,'4.) Faktoren'!$C$73:$D$80,2,0) -> 11 | I17: =D17*H17 -> 317.79 | J17: =VLOOKUP(G17,'5.) LST UR+AR'!$B$16:$D$51,3,0) -> 0 | K17: =I17/J17 -> #DIV/0! | L17: =K17/12 -> #DIV/0! | M17: ='3.a) SVS UR'!$F$75 -> 0 | N17: =L17*M17 -> #DIV/0!
A18: 4.13 | B18: Tischlerei | C18: H | D18: 88.52 | E18: M | F18: 1M | G18: =IF(F18="k. R.",E18,CONCATENATE(E18,F18)) -> M1M | H18: =VLOOKUP(F18,'4.) Faktoren'!$C$73:$D$80,2,0) -> 11 | I18: =D18*H18 -> 973.72 | J18: =VLOOKUP(G18,'5.) LST UR+AR'!$B$16:$D$51,3,0) -> 0 | K18: =I18/J18 -> #DIV/0! | L18: =K18/12 -> #DIV/0! | M18: ='3.a) SVS UR'!$F$75 -> 0 | N18: =L18*M18 -> #DIV/0!
A19: 4.14 | B19: Schlosserei | C19: H | D19: 39.29 | E19: M | F19: 1M | G19: =IF(F19="k. R.",E19,CONCATENATE(E19,F19)) -> M1M | H19: =VLOOKUP(F19,'4.) Faktoren'!$C$73:$D$80,2,0) -> 11 | I19: =D19*H19 -> 432.19 | J19: =VLOOKUP(G19,'5.) LST UR+AR'!$B$16:$D$51,3,0) -> 0 | K19: =I19/J19 -> #DIV/0! | L19: =K19/12 -> #DIV/0! | M19: ='3.a) SVS UR'!$F$75 -> 0 | N19: =L19*M19 -> #DIV/0!
A20: 4.15 | B20: Tapezierwerkstatt | C20: H | D20: 19.85 | E20: M | F20: 1M | G20: =IF(F20="k. R.",E20,CONCATENATE(E20,F20)) -> M1M | H20: =VLOOKUP(F20,'4.) Faktoren'!$C$73:$D$80,2,0) -> 11 | I20: =D20*H20 -> 218.35 | J20: =VLOOKUP(G20,'5.) LST UR+AR'!$B$16:$D$51,3,0) -> 0 | K20: =I20/J20 -> #DIV/0! | L20: =K20/12 -> #DIV/0! | M20: ='3.a) SVS UR'!$F$75 -> 0 | N20: =L20*M20 -> #DIV/0!
A21: 4.15 | B21: Büro Tapezierwerkstatt | C21: H | D21: 17.68 | E21: C | F21: 2 | G21: =IF(F21="k. R.",E21,CONCATENATE(E21,F21)) -> C2 | H21: =VLOOKUP(F21,'4.) Faktoren'!$C$73:$D$80,2,0) -> 92 | I21: =D21*H21 -> 1626.56 | J21: =VLOOKUP(G21,'5.) LST UR+AR'!$B$16:$D$51,3,0) -> 0 | K21: =I21/J21 -> #DIV/0! | L21: =K21/12 -> #DIV/0! | M21: ='3.a) SVS UR'!$F$75 -> 0 | N21: =L21*M21 -> #DIV/0!
A22: 4.16 | B22: Elektrowerkstatt | C22: H | D22: 35.5 | E22: M | F22: 1M | G22: =IF(F22="k. R.",E22,CONCATENATE(E22,F22)) -> M1M | H22: =VLOOKUP(F22,'4.) Faktoren'!$C$73:$D$80,2,0) -> 11 | I22: =D22*H22 -> 390.5 | J22: =VLOOKUP(G22,'5.) LST UR+AR'!$B$16:$D$51,3,0) -> 0 | K22: =I22/J22 -> #DIV/0! | L22: =K22/12 -> #DIV/0! | M22: ='3.a) SVS UR'!$F$75 -> 0 | N22: =L22*M22 -> #DIV/0!
A23: 4.17 | B23: Flur | C23: L | D23: 55.16 | E23: H | F23: 6 | G23: =IF(F23="k. R.",E23,CONCATENATE(E23,F23)) -> H6 | H23: =VLOOKUP(F23,'4.) Faktoren'!$C$73:$D$80,2,0) -> 268 | I23: =D23*H23 -> 14782.88 | J23: =VLOOKUP(G23,'5.) LST UR+AR'!$B$16:$D$51,3,0) -> 0 | K23: =I23/J23 -> #DIV/0! | L23: =K23/12 -> #DIV/0! | M23: ='3.a) SVS UR'!$F$75 -> 0 | N23: =L23*M23 -> #DIV/0!
A24: 4.18 | B24: Büro Haustechnik | C24: L | D24: 33.47 | E24: C | F24: 2 | G24: =IF(F24="k. R.",E24,CONCATENATE(E24,F24)) -> C2 | H24: =VLOOKUP(F24,'4.) Faktoren'!$C$73:$D$80,2,0) -> 92 | I24: =D24*H24 -> 3079.24 | J24: =VLOOKUP(G24,'5.) LST UR+AR'!$B$16:$D$51,3,0) -> 0 | K24: =I24/J24 -> #DIV/0! | L24: =K24/12 -> #DIV/0! | M24: ='3.a) SVS UR'!$F$75 -> 0 | N24: =L24*M24 -> #DIV/0!
A25: 4.19 | B25: Aufenthalt/Umkleide Beleuchtung | C25: L | D25: 28.41 | E25: A | F25: 6 | G25: =IF(F25="k. R.",E25,CONCATENATE(E25,F25)) -> A6 | H25: =VLOOKUP(F25,'4.) Faktoren'!$C$73:$D$80,2,0) -> 268 | I25: =D25*H25 -> 7613.88 | J25: =VLOOKUP(G25,'5.) LST UR+AR'!$B$16:$D$51,3,0) -> 0 | K25: =I25/J25 -> #DIV/0! | L25: =K25/12 -> #DIV/0! | M25: ='3.a) SVS UR'!$F$75 -> 0 | N25: =L25*M25 -> #DIV/0!
A26: 4.20 | B26: Waschraum/Dusche Bühnenarbeiter | C26: FL | D26: 8.47 | E26: F | F26: 6 | G26: =IF(F26="k. R.",E26,CONCATENATE(E26,F26)) -> F6 | H26: =VLOOKUP(F26,'4.) Faktoren'!$C$73:$D$80,2,0) -> 268 | I26: =D26*H26 -> 2269.96 | J26: =VLOOKUP(G26,'5.) LST UR+AR'!$B$16:$D$51,3,0) -> 0 | K26: =I26/J26 -> #DIV/0! | L26: =K26/12 -> #DIV/0! | M26: ='3.a) SVS UR'!$F$75 -> 0 | N26: =L26*M26 -> #DIV/0!
A27: 4.21 | B27: Umkleide Damen | C27: L | D27: 24.19 | E27: I | F27: 6 | G27: =IF(F27="k. R.",E27,CONCATENATE(E27,F27)) -> I6 | H27: =VLOOKUP(F27,'4.) Faktoren'!$C$73:$D$80,2,0) -> 268 | I27: =D27*H27 -> 6482.92 | J27: =VLOOKUP(G27,'5.) LST UR+AR'!$B$16:$D$51,3,0) -> 0 | K27: =I27/J27 -> #DIV/0! | L27: =K27/12 -> #DIV/0! | M27: ='3.a) SVS UR'!$F$75 -> 0 | N27: =L27*M27 -> #DIV/0!
A28: 4.22 | B28: Dusche Damen | C28: FL | D28: 8.47 | E28: F | F28: 6 | G28: =IF(F28="k. R.",E28,CONCATENATE(E28,F28)) -> F6 | H28: =VLOOKUP(F28,'4.) Faktoren'!$C$73:$D$80,2,0) -> 268 | I28: =D28*H28 -> 2269.96 | J28: =VLOOKUP(G28,'5.) LST UR+AR'!$B$16:$D$51,3,0) -> 0 | K28: =I28/J28 -> #DIV/0! | L28: =K28/12 -> #DIV/0! | M28: ='3.a) SVS UR'!$F$75 -> 0 | N28: =L28*M28 -> #DIV/0!
A29: 4.23 | B29: Aufenthalt Technik | C29: L | D29: 30.15 | E29: A | F29: 6 | G29: =IF(F29="k. R.",E29,CONCATENATE(E29,F29)) -> A6 | H29: =VLOOKUP(F29,'4.) Faktoren'!$C$73:$D$80,2,0) -> 268 | I29: =D29*H29 -> 8080.2 | J29: =VLOOKUP(G29,'5.) LST UR+AR'!$B$16:$D$51,3,0) -> 0 | K29: =I29/J29 -> #DIV/0! | L29: =K29/12 -> #DIV/0! | M29: ='3.a) SVS UR'!$F$75 -> 0 | N29: =L29*M29 -> #DIV/0!
A30: 4.23.1 | B30: Aufenthalt Raucher | C30: L | D30: 13.75 | E30: A | F30: 6 | G30: =IF(F30="k. R.",E30,CONCATENATE(E30,F30)) -> A6 | H30: =VLOOKUP(F30,'4.) Faktoren'!$C$73:$D$80,2,0) -> 268 | I30: =D30*H30 -> 3685 | J30: =VLOOKUP(G30,'5.) LST UR+AR'!$B$16:$D$51,3,0) -> 0 | K30: =I30/J30 -> #DIV/0! | L30: =K30/12 -> #DIV/0! | M30: ='3.a) SVS UR'!$F$75 -> 0 | N30: =L30*M30 -> #DIV/0!
A31: 4.24.1 | B31: Umkleide | C31: L | D31: 24.92 | E31: I | F31: 6 | G31: =IF(F31="k. R.",E31,CONCATENATE(E31,F31)) -> I6 | H31: =VLOOKUP(F31,'4.) Faktoren'!$C$73:$D$80,2,0) -> 268 | I31: =D31*H31 -> 6678.56 | J31: =VLOOKUP(G31,'5.) LST UR+AR'!$B$16:$D$51,3,0) -> 0 | K31: =I31/J31 -> #DIV/0! | L31: =K31/12 -> #DIV/0! | M31: ='3.a) SVS UR'!$F$75 -> 0 | N31: =L31*M31 -> #DIV/0!
A32: 4.24 | B32: Dusche | C32: FL | D32: 19.18 | E32: F | F32: 6 | G32: =IF(F32="k. R.",E32,CONCATENATE(E32,F32)) -> F6 | H32: =VLOOKUP(F32,'4.) Faktoren'!$C$73:$D$80,2,0) -> 268 | I32: =D32*H32 -> 5140.24 | J32: =VLOOKUP(G32,'5.) LST UR+AR'!$B$16:$D$51,3,0) -> 0 | K32: =I32/J32 -> #DIV/0! | L32: =K32/12 -> #DIV/0! | M32: ='3.a) SVS UR'!$F$75 -> 0 | N32: =L32*M32 -> #DIV/0!
A33: 4.25 | B33: WC Herren | C33: FL | D33: 13.9 | E33: F | F33: 6 | G33: =IF(F33="k. R.",E33,CONCATENATE(E33,F33)) -> F6 | H33: =VLOOKUP(F33,'4.) Faktoren'!$C$73:$D$80,2,0) -> 268 | I33: =D33*H33 -> 3725.2 | J33: =VLOOKUP(G33,'5.) LST UR+AR'!$B$16:$D$51,3,0) -> 0 | K33: =I33/J33 -> #DIV/0! | L33: =K33/12 -> #DIV/0! | M33: ='3.a) SVS UR'!$F$75 -> 0 | N33: =L33*M33 -> #DIV/0!
A34: 4.26 | B34: WC Damen | C34: FL | D34: 9.79 | E34: F | F34: 6 | G34: =IF(F34="k. R.",E34,CONCATENATE(E34,F34)) -> F6 | H34: =VLOOKUP(F34,'4.) Faktoren'!$C$73:$D$80,2,0) -> 268 | I34: =D34*H34 -> 2623.72 | J34: =VLOOKUP(G34,'5.) LST UR+AR'!$B$16:$D$51,3,0) -> 0 | K34: =I34/J34 -> #DIV/0! | L34: =K34/12 -> #DIV/0! | M34: ='3.a) SVS UR'!$F$75 -> 0 | N34: =L34*M34 -> #DIV/0!
A35: 4.27 | B35: Reinigungsraum Eigenreinigung | C35: FL | D35: 4.02 | E35: Z | F35: k. R. | G35: =IF(F35="k. R.",E35,CONCATENATE(E35,F35)) -> Z | O35: Eigenreinigung
A36: 4.28 | B36: Pförtner | C36: L | D36: 23.44 | E36: C | F36: 6 | G36: =IF(F36="k. R.",E36,CONCATENATE(E36,F36)) -> C6 | H36: =VLOOKUP(F36,'4.) Faktoren'!$C$73:$D$80,2,0) -> 268 | I36: =D36*H36 -> 6281.92 | J36: =VLOOKUP(G36,'5.) LST UR+AR'!$B$16:$D$51,3,0) -> 0 | K36: =I36/J36 -> #DIV/0! | L36: =K36/12 -> #DIV/0! | M36: ='3.a) SVS UR'!$F$75 -> 0 | N36: =L36*M36 -> #DIV/0!
A37: 4.29 | B37: Flur | C37: L | D37: 46.61 | E37: H | F37: 6 | G37: =IF(F37="k. R.",E37,CONCATENATE(E37,F37)) -> H6 | H37: =VLOOKUP(F37,'4.) Faktoren'!$C$73:$D$80,2,0) -> 268 | I37: =D37*H37 -> 12491.48 | J37: =VLOOKUP(G37,'5.) LST UR+AR'!$B$16:$D$51,3,0) -> 0 | K37: =I37/J37 -> #DIV/0! | L37: =K37/12 -> #DIV/0! | M37: ='3.a) SVS UR'!$F$75 -> 0 | N37: =L37*M37 -> #DIV/0!
A38: 4.30 | B38: Hausinspektoren | C38: L | D38: 18.21 | E38: C | F38: 2 | G38: =IF(F38="k. R.",E38,CONCATENATE(E38,F38)) -> C2 | H38: =VLOOKUP(F38,'4.) Faktoren'!$C$73:$D$80,2,0) -> 92 | I38: =D38*H38 -> 1675.32 | J38: =VLOOKUP(G38,'5.) LST UR+AR'!$B$16:$D$51,3,0) -> 0 | K38: =I38/J38 -> #DIV/0! | L38: =K38/12 -> #DIV/0! | M38: ='3.a) SVS UR'!$F$75 -> 0 | N38: =L38*M38 -> #DIV/0!
A39: 4.31 | B39: Serverraum | C39: L | D39: 11.35 | E39: D | F39: k. R. | G39: =IF(F39="k. R.",E39,CONCATENATE(E39,F39)) -> D
B40: Kostümfundus | C40: L | D40: 29.63 | E40: D | F40: k. R. | G40: =IF(F40="k. R.",E40,CONCATENATE(E40,F40)) -> D
A41: 4.32 | B41: Elektroraum | C41: L | D41: 8.46 | E41: D | F41: k. R. | G41: =IF(F41="k. R.",E41,CONCATENATE(E41,F41)) -> D
A42: 4.33 | B42: Flur | C42: L | D42: 55.44 | E42: H | F42: 2 | G42: =IF(F42="k. R.",E42,CONCATENATE(E42,F42)) -> H2 | H42: =VLOOKUP(F42,'4.) Faktoren'!$C$73:$D$80,2,0) -> 92 | I42: =D42*H42 -> 5100.48 | J42: =VLOOKUP(G42,'5.) LST UR+AR'!$B$16:$D$51,3,0) -> 0 | K42: =I42/J42 -> #DIV/0! | L42: =K42/12 -> #DIV/0! | M42: ='3.a) SVS UR'!$F$75 -> 0 | N42: =L42*M42 -> #DIV/0!
...

Sheet 6.) UR-02
A1: Bezirksverband Pfalz | D1: Objekt: | F1: Werkstatt Blechhammer | K1: Jahresreinigungsfläche gesamt: | O1: =I19 -> 3598.4
A2: Bismarckstraße 17, 67655 Kaiserslautern | D2: Adresse: | F2: Blechhammerweg 51; 67659 Kaiserslautern | K2: Grundfläche gesamt: | O2: =D19 -> 69.2
D3: Leistung: | F3: Unterhaltsreinigung | K3: kalkulierte Monatskosten gesamt: | O3: =N19 -> #DIV/0!
D4: Bieter: | F4: ='2.a) GPB'!C3 -> 0 | K4: kalkulierte Monatsstunden gesamt: | O4: =L19 -> #DIV/0!
A6: Bemerkungen: | D6: - keine Schließzeit laut Gebäudenutzung
A11: Raum- nummer | B11: Raumbezeichnung | C11: Boden- art | D11: Grund- fläche | E11: Raum-gruppe | F11: Turnus | G11: Raum-gruppen-turnus | H11: Jahres- faktor | I11: Jahres- reinigungs- fläche m² | J11: Leistung m²/h | K11: Jahres- stunden | L11: Monats- stunden | M11: SVS UR | N11: Monats- kosten | O11: Bemerkung
A12: Erdgeschoss (EG)
A13: 1 | B13: Aufenthaltsraum | C13: PVC | D13: 19.84 | E13: A | F13: 1 | G13: =IF(F13="k. R.",E13,CONCATENATE(E13,F13)) -> A1 | H13: =VLOOKUP(F13,'4.) Faktoren'!$C$4:$D$4,2,0) -> 52 | I13: =D13*H13 -> 1031.68 | J13: =VLOOKUP(G13,'5.) LST UR+AR'!$B$16:$D$51,3,0) -> 0 | K13: =I13/J13 -> #DIV/0! | L13: =K13/12 -> #DIV/0! | M13: ='3.a) SVS UR'!$F$75 -> 0 | N13: =L13*M13 -> #DIV/0!
A14: 2 | B14: WC + Dusche | C14: FL | D14: 7.68 | E14: F | F14: 1 | G14: =IF(F14="k. R.",E14,CONCATENATE(E14,F14)) -> F1 | H14: =VLOOKUP(F14,'4.) Faktoren'!$C$4:$D$4,2,0) -> 52 | I14: =D14*H14 -> 399.36 | J14: =VLOOKUP(G14,'5.) LST UR+AR'!$B$16:$D$51,3,0) -> 0 | K14: =I14/J14 -> #DIV/0! | L14: =K14/12 -> #DIV/0! | M14: ='3.a) SVS UR'!$F$75 -> 0 | N14: =L14*M14 -> #DIV/0!
A15: 3 | B15: WC + Dusche | C15: FL | D15: 7.68 | E15: F | F15: 1 | G15: =IF(F15="k. R.",E15,CONCATENATE(E15,F15)) -> F1 | H15: =VLOOKUP(F15,'4.) Faktoren'!$C$4:$D$4,2,0) -> 52 | I15: =D15*H15 -> 399.36 | J15: =VLOOKUP(G15,'5.) LST UR+AR'!$B$16:$D$51,3,0) -> 0 | K15: =I15/J15 -> #DIV/0! | L15: =K15/12 -> #DIV/0! | M15: ='3.a) SVS UR'!$F$75 -> 0 | N15: =L15*M15 -> #DIV/0!
A16: 4 | B16: Flur | C16: PVC | D16: 34 | E16: H | F16: 1 | G16: =IF(F16="k. R.",E16,CONCATENATE(E16,F16)) -> H1 | H16: =VLOOKUP(F16,'4.) Faktoren'!$C$4:$D$4,2,0) -> 52 | I16: =D16*H16 -> 1768 | J16: =VLOOKUP(G16,'5.) LST UR+AR'!$B$16:$D$51,3,0) -> 0 | K16: =I16/J16 -> #DIV/0! | L16: =K16/12 -> #DIV/0! | M16: ='3.a) SVS UR'!$F$75 -> 0 | N16: =L16*M16 -> #DIV/0!
A17: Summe Erdgeschoss (EG) | D17: =SUM(D13:D16) -> 69.2
A19: Gesamtsumme UR | D19: =SUM(D12:D18)/2 -> 69.2 | I19: =SUM(I12:I18) -> 3598.4 | K19: =SUM(K12:K18) -> #DIV/0! | L19: =SUM(L12:L18) -> #DIV/0! | N19: =SUM(N12:N18) -> #DIV/0!

Sheet 6.) UR-03
A1: Bezirksverband Pfalz | D1: Objekt: | F1: Probebühne III Fischerstraße | K1: Jahresreinigungsfläche gesamt: | O1: =I21 -> 21922.68
A2: Bismarckstraße 17, 67655 Kaiserslautern | D2: Adresse: | F2: Fischerstraße 49; 67655 Kaiserslautern | K2: Grundfläche gesamt: | O2: =D21 -> 238.29
D3: Leistung: | F3: Unterhaltsreinigung | K3: kalkulierte Monatskosten gesamt: | O3: =N21 -> #DIV/0!
D4: Bieter: | F4: ='2.a) GPB'!C3 -> 0 | K4: kalkulierte Monatsstunden gesamt: | O4: =L21 -> #DIV/0!
A6: Bemerkungen: | D6: - 6 Wochen Theaterferien pro Jahr in den Monaten Juli/August
D7: - keine regelmäßige Reinigung während den Theaterferien, außer am letzten werktäglichen Schließtag
A11: Raum- nummer | B11: Raumbezeichnung | C11: Boden- art | D11: Grund- fläche | E11: Raum-gruppe | F11: Turnus | G11: Raum-gruppen-turnus | H11: Jahres- faktor | I11: Jahres- reinigungs- fläche m² | J11: Leistung m²/h | K11: Jahres- stunden | L11: Monats- stunden | M11: SVS UR | N11: Monats- kosten | O11: Bemerkung
A12: Erdgeschoss (EG)
A13: 1 | B13: Probenraum | C13: BÜBO | D13: 198.4 | E13: K | F13: 2 | G13: =IF(F13="k. R.",E13,CONCATENATE(E13,F13)) -> K2 | H13: =VLOOKUP(F13,'4.) Faktoren'!$C$73:$D$80,2,0) -> 92 | I13: =D13*H13 -> 18252.8 | J13: =VLOOKUP(G13,'5.) LST UR+AR'!$B$16:$D$51,3,0) -> 0 | K13: =I13/J13 -> #DIV/0! | L13: =K13/12 -> #DIV/0! | M13: ='3.a) SVS UR'!$F$75 -> 0 | N13: =L13*M13 -> #DIV/0!
A14: 2 | B14: WC | C14: FL | D14: 4 | E14: F | F14: 2 | G14: =IF(F14="k. R.",E14,CONCATENATE(E14,F14)) -> F2 | H14: =VLOOKUP(F14,'4.) Faktoren'!$C$73:$D$80,2,0) -> 92 | I14: =D14*H14 -> 368 | J14: =VLOOKUP(G14,'5.) LST UR+AR'!$B$16:$D$51,3,0) -> 0 | K14: =I14/J14 -> #DIV/0! | L14: =K14/12 -> #DIV/0! | M14: ='3.a) SVS UR'!$F$75 -> 0 | N14: =L14*M14 -> #DIV/0!
A15: 3 | B15: WC | C15: FL | D15: 4 | E15: F | F15: 2 | G15: =IF(F15="k. R.",E15,CONCATENATE(E15,F15)) -> F2 | H15: =VLOOKUP(F15,'4.) Faktoren'!$C$73:$D$80,2,0) -> 92 | I15: =D15*H15 -> 368 | J15: =VLOOKUP(G15,'5.) LST UR+AR'!$B$16:$D$51,3,0) -> 0 | K15: =I15/J15 -> #DIV/0! | L15: =K15/12 -> #DIV/0! | M15: ='3.a) SVS UR'!$F$75 -> 0 | N15: =L15*M15 -> #DIV/0!
A16: 4 | B16: Eingangsbereich | C16: BE | D16: 14.4 | E16: G | F16: 2 | G16: =IF(F16="k. R.",E16,CONCATENATE(E16,F16)) -> G2 | H16: =VLOOKUP(F16,'4.) Faktoren'!$C$73:$D$80,2,0) -> 92 | I16: =D16*H16 -> 1324.8 | J16: =VLOOKUP(G16,'5.) LST UR+AR'!$B$16:$D$51,3,0) -> 0 | K16: =I16/J16 -> #DIV/0! | L16: =K16/12 -> #DIV/0! | M16: ='3.a) SVS UR'!$F$75 -> 0 | N16: =L16*M16 -> #DIV/0!
A17: 5 | B17: Flur Aufenthalt | C17: PA | D17: 2.45 | E17: H | F17: 2 | G17: =IF(F17="k. R.",E17,CONCATENATE(E17,F17)) -> H2 | H17: =VLOOKUP(F17,'4.) Faktoren'!$C$73:$D$80,2,0) -> 92 | I17: =D17*H17 -> 225.4 | J17: =VLOOKUP(G17,'5.) LST UR+AR'!$B$16:$D$51,3,0) -> 0 | K17: =I17/J17 -> #DIV/0! | L17: =K17/12 -> #DIV/0! | M17: ='3.a) SVS UR'!$F$75 -> 0 | N17: =L17*M17 -> #DIV/0!
A18: 6 | B18: Aufenthaltsraum | C18: T | D18: 15.04 | E18: A | F18: 2 | G18: =IF(F18="k. R.",E18,CONCATENATE(E18,F18)) -> A2 | H18: =VLOOKUP(F18,'4.) Faktoren'!$C$73:$D$80,2,0) -> 92 | I18: =D18*H18 -> 1383.68 | J18: =VLOOKUP(G18,'5.) LST UR+AR'!$B$16:$D$51,3,0) -> 0 | K18: =I18/J18 -> #DIV/0! | L18: =K18/12 -> #DIV/0! | M18: ='3.a) SVS UR'!$F$75 -> 0 | N18: =L18*M18 -> #DIV/0!
A19: Summe Erdgeschoss (EG) | D19: =SUM(D13:D18) -> 238.29
A21: Gesamtsumme UR | D21: =SUM(D12:D20)/2 -> 238.29 | I21: =SUM(I12:I20) -> 21922.68 | K21: =SUM(K12:K20) -> #DIV/0! | L21: =SUM(L12:L20) -> #DIV/0! | N21: =SUM(N12:N20) -> #DIV/0!

Sheet 6.) UR-04
A1: Bezirksverband Pfalz | D1: Objekt: | F1: Werkstatt Lauterstraße | K1: Jahresreinigungsfläche gesamt: | O1: =I52 -> 56656.44
A2: Bismarckstraße 17, 67655 Kaiserslautern | D2: Adresse: | F2: Lauterstraße 135; 67657 Kaiserslautern | K2: Grundfläche gesamt: | O2: =D52 -> 400.39
D3: Leistung: | F3: Unterhaltsreinigung | K3: kalkulierte Monatskosten gesamt: | O3: =N52 -> #DIV/0!
D4: Bieter: | F4: ='2.a) GPB'!C3 -> 0 | K4: kalkulierte Monatsstunden gesamt: | O4: =L52 -> #DIV/0!
A6: Bemerkungen: | D6: - 2 Schließwochen pro Jahr in den Monaten Juli/August
D7: - keine regelmäßige Reinigung während der Schließzeit
A11: Raum- nummer | B11: Raumbezeichnung | C11: Boden- art | D11: Grund- fläche | E11: Raum-gruppe | F11: Turnus | G11: Raum-gruppen-turnus | H11: Jahres- faktor | I11: Jahres- reinigungs- fläche m² | J11: Leistung m²/h | K11: Jahres- stunden | L11: Monats- stunden | M11: SVS UR | N11: Monats- kosten | O11: Bemerkung
A12: Kellergeschoss (KG)
A13: KG 01 | B13: Kellertreppe | C13: FL | D13: 3.48 | E13: G | F13: 1 | G13: =IF(F13="k. R.",E13,CONCATENATE(E13,F13)) -> G1 | H13: =VLOOKUP(F13,'4.) Faktoren'!$C$23:$D$26,2,0) -> 50 | I13: =D13*H13 -> 174 | J13: =VLOOKUP(G13,'5.) LST UR+AR'!$B$16:$D$51,3,0) -> 0 | K13: =I13/J13 -> #DIV/0! | L13: =K13/12 -> #DIV/0! | M13: ='3.a) SVS UR'!$F$75 -> 0 | N13: =L13*M13 -> #DIV/0!
A14: KG 02 | B14: Vorraum Keller | C14: FL | D14: 9.36 | E14: G | F14: 1 | G14: =IF(F14="k. R.",E14,CONCATENATE(E14,F14)) -> G1 | H14: =VLOOKUP(F14,'4.) Faktoren'!$C$23:$D$26,2,0) -> 50 | I14: =D14*H14 -> 468 | J14: =VLOOKUP(G14,'5.) LST UR+AR'!$B$16:$D$51,3,0) -> 0 | K14: =I14/J14 -> #DIV/0! | L14: =K14/12 -> #DIV/0! | M14: ='3.a) SVS UR'!$F$75 -> 0 | N14: =L14*M14 -> #DIV/0!
A15: KG 03 | B15: Flur Keller | C15: FL | D15: 8.76 | E15: H | F15: 1 | G15: =IF(F15="k. R.",E15,CONCATENATE(E15,F15)) -> H1 | H15: =VLOOKUP(F15,'4.) Faktoren'!$C$23:$D$26,2,0) -> 50 | I15: =D15*H15 -> 438 | J15: =VLOOKUP(G15,'5.) LST UR+AR'!$B$16:$D$51,3,0) -> 0 | K15: =I15/J15 -> #DIV/0! | L15: =K15/12 -> #DIV/0! | M15: ='3.a) SVS UR'!$F$75 -> 0 | N15: =L15*M15 -> #DIV/0!
A16: Summe Kellergeschoss (KG) | D16: =SUM(D13:D15) -> 21.6
A17: Erdgeschoss (EG)
A18: EG 01 | B18: Eingangsbereich | C18: PVC | D18: 19.76 | E18: G | F18: 5 | G18: =IF(F18="k. R.",E18,CONCATENATE(E18,F18)) -> G5 | H18: =VLOOKUP(F18,'4.) Faktoren'!$C$23:$D$26,2,0) -> 242 | I18: =D18*H18 -> 4781.92 | J18: =VLOOKUP(G18,'5.) LST UR+AR'!$B$16:$D$51,3,0) -> 0 | K18: =I18/J18 -> #DIV/0! | L18: =K18/12 -> #DIV/0! | M18: ='3.a) SVS UR'!$F$75 -> 0 | N18: =L18*M18 -> #DIV/0!
A19: EG 02 | B19: Flur Werkstattleiter | C19: PVC | D19: 5.64 | E19: H | F19: 2 | G19: =IF(F19="k. R.",E19,CONCATENATE(E19,F19)) -> H2 | H19: =VLOOKUP(F19,'4.) Faktoren'!$C$23:$D$26,2,0) -> 100 | I19: =D19*H19 -> 564 | J19: =VLOOKUP(G19,'5.) LST UR+AR'!$B$16:$D$51,3,0) -> 0 | K19: =I19/J19 -> #DIV/0! | L19: =K19/12 -> #DIV/0! | M19: ='3.a) SVS UR'!$F$75 -> 0 | N19: =L19*M19 -> #DIV/0!
A20: EG 03 | B20: Sitzungszimmer | C20: PVC | D20: 33.55 | E20: C | F20: 2 | G20: =IF(F20="k. R.",E20,CONCATENATE(E20,F20)) -> C2 | H20: =VLOOKUP(F20,'4.) Faktoren'!$C$23:$D$26,2,0) -> 100 | I20: =D20*H20 -> 3355 | J20: =VLOOKUP(G20,'5.) LST UR+AR'!$B$16:$D$51,3,0) -> 0 | K20: =I20/J20 -> #DIV/0! | L20: =K20/12 -> #DIV/0! | M20: ='3.a) SVS UR'!$F$75 -> 0 | N20: =L20*M20 -> #DIV/0!
A21: EG 04 | B21: Büro Werkstattleiter | C21: PVC | D21: 15.58 | E21: C | F21: 2 | G21: =IF(F21="k. R.",E21,CONCATENATE(E21,F21)) -> C2 | H21: =VLOOKUP(F21,'4.) Faktoren'!$C$23:$D$26,2,0) -> 100 | I21: =D21*H21 -> 1558 | J21: =VLOOKUP(G21,'5.) LST UR+AR'!$B$16:$D$51,3,0) -> 0 | K21: =I21/J21 -> #DIV/0! | L21: =K21/12 -> #DIV/0! | M21: ='3.a) SVS UR'!$F$75 -> 0 | N21: =L21*M21 -> #DIV/0!
A22: EG 05 | B22: Lager Werkstattleiter | C22: PVC | D22: 8.28 | E22: D | F22: k. R. | G22: =IF(F22="k. R.",E22,CONCATENATE(E22,F22)) -> D
A23: EG 06 | B23: WC Werkstattleiter | C23: FL | D23: 1.5 | E23: F | F23: 5 | G23: =IF(F23="k. R.",E23,CONCATENATE(E23,F23)) -> F5 | H23: =VLOOKUP(F23,'4.) Faktoren'!$C$23:$D$26,2,0) -> 242 | I23: =D23*H23 -> 363 | J23: =VLOOKUP(G23,'5.) LST UR+AR'!$B$16:$D$51,3,0) -> 0 | K23: =I23/J23 -> #DIV/0! | L23: =K23/12 -> #DIV/0! | M23: ='3.a) SVS UR'!$F$75 -> 0 | N23: =L23*M23 -> #DIV/0!
A24: EG 07 | B24: Küche Werkstattleiter | C24: PVC | D24: 6.21 | E24: A | F24: 5 | G24: =IF(F24="k. R.",E24,CONCATENATE(E24,F24)) -> A5 | H24: =VLOOKUP(F24,'4.) Faktoren'!$C$23:$D$26,2,0) -> 242 | I24: =D24*H24 -> 1502.82 | J24: =VLOOKUP(G24,'5.) LST UR+AR'!$B$16:$D$51,3,0) -> 0 | K24: =I24/J24 -> #DIV/0! | L24: =K24/12 -> #DIV/0! | M24: ='3.a) SVS UR'!$F$75 -> 0 | N24: =L24*M24 -> #DIV/0!
A25: EG 08 | B25: Flur Kellerabgang | C25: PVC | D25: 3.75 | E25: H | F25: 2 | G25: =IF(F25="k. R.",E25,CONCATENATE(E25,F25)) -> H2 | H25: =VLOOKUP(F25,'4.) Faktoren'!$C$23:$D$26,2,0) -> 100 | I25: =D25*H25 -> 375 | J25: =VLOOKUP(G25,'5.) LST UR+AR'!$B$16:$D$51,3,0) -> 0 | K25: =I25/J25 -> #DIV/0! | L25: =K25/12 -> #DIV/0! | M25: ='3.a) SVS UR'!$F$75 -> 0 | N25: =L25*M25 -> #DIV/0!
A26: EG 09 | B26: Flur Polsterei | C26: BE/SAUB | D26: 9.46 | E26: H | F26: 2 | G26: =IF(F26="k. R.",E26,CONCATENATE(E26,F26)) -> H2 | H26: =VLOOKUP(F26,'4.) Faktoren'!$C$23:$D$26,2,0) -> 100 | I26: =D26*H26 -> 946 | J26: =VLOOKUP(G26,'5.) LST UR+AR'!$B$16:$D$51,3,0) -> 0 | K26: =I26/J26 -> #DIV/0! | L26: =K26/12 -> #DIV/0! | M26: ='3.a) SVS UR'!$F$75 -> 0 | N26: =L26*M26 -> #DIV/0!
A27: EG 10 | B27: Polsterei | C27: PVC | D27: 66.5 | E27: M | F27: 2 | G27: =IF(F27="k. R.",E27,CONCATENATE(E27,F27)) -> M2 | H27: =VLOOKUP(F27,'4.) Faktoren'!$C$23:$D$26,2,0) -> 100 | I27: =D27*H27 -> 6650 | J27: =VLOOKUP(G27,'5.) LST UR+AR'!$B$16:$D$51,3,0) -> 0 | K27: =I27/J27 -> #DIV/0! | L27: =K27/12 -> #DIV/0! | M27: ='3.a) SVS UR'!$F$75 -> 0 | N27: =L27*M27 -> #DIV/0!
A28: Summe Erdgeschoss (EG) | D28: =SUM(D18:D27) -> 170.23
A29: 1. Obergeschoss (OG1)
A30: 1OG 01 | B30: Treppe | C30: KA | D30: 11.04 | E30: G | F30: 2 | G30: =IF(F30="k. R.",E30,CONCATENATE(E30,F30)) -> G2 | H30: =VLOOKUP(F30,'4.) Faktoren'!$C$23:$D$26,2,0) -> 100 | I30: =D30*H30 -> 1104 | J30: =VLOOKUP(G30,'5.) LST UR+AR'!$B$16:$D$51,3,0) -> 0 | K30: =I30/J30 -> #DIV/0! | L30: =K30/12 -> #DIV/0! | M30: ='3.a) SVS UR'!$F$75 -> 0 | N30: =L30*M30 -> #DIV/0!
A31: 1OG 02 | B31: Flur | C31: PVC | D31: 10.44 | E31: H | F31: 2 | G31: =IF(F31="k. R.",E31,CONCATENATE(E31,F31)) -> H2 | H31: =VLOOKUP(F31,'4.) Faktoren'!$C$23:$D$26,2,0) -> 100 | I31: =D31*H31 -> 1044 | J31: =VLOOKUP(G31,'5.) LST UR+AR'!$B$16:$D$51,3,0) -> 0 | K31: =I31/J31 -> #DIV/0! | L31: =K31/12 -> #DIV/0! | M31: ='3.a) SVS UR'!$F$75 -> 0 | N31: =L31*M31 -> #DIV/0!
A32: 1OG 03 | B32: Küche | C32: FL | D32: 4 | E32: A | F32: 5 | G32: =IF(F32="k. R.",E32,CONCATENATE(E32,F32)) -> A5 | H32: =VLOOKUP(F32,'4.) Faktoren'!$C$23:$D$26,2,0) -> 242 | I32: =D32*H32 -> 968 | J32: =VLOOKUP(G32,'5.) LST UR+AR'!$B$16:$D$51,3,0) -> 0 | K32: =I32/J32 -> #DIV/0! | L32: =K32/12 -> #DIV/0! | M32: ='3.a) SVS UR'!$F$75 -> 0 | N32: =L32*M32 -> #DIV/0!
A33: 1OG 04 | B33: Umkleide Damen | C33: FL | D33: 9.43 | E33: I | F33: 5 | G33: =IF(F33="k. R.",E33,CONCATENATE(E33,F33)) -> I5 | H33: =VLOOKUP(F33,'4.) Faktoren'!$C$23:$D$26,2,0) -> 242 | I33: =D33*H33 -> 2282.06 | J33: =VLOOKUP(G33,'5.) LST UR+AR'!$B$16:$D$51,3,0) -> 0 | K33: =I33/J33 -> #DIV/0! | L33: =K33/12 -> #DIV/0! | M33: ='3.a) SVS UR'!$F$75 -> 0 | N33: =L33*M33 -> #DIV/0!
A34: 1OG 05 | B34: Sanitär Damen | C34: FL | D34: 13.66 | E34: F | F34: 5 | G34: =IF(F34="k. R.",E34,CONCATENATE(E34,F34)) -> F5 | H34: =VLOOKUP(F34,'4.) Faktoren'!$C$23:$D$26,2,0) -> 242 | I34: =D34*H34 -> 3305.72 | J34: =VLOOKUP(G34,'5.) LST UR+AR'!$B$16:$D$51,3,0) -> 0 | K34: =I34/J34 -> #DIV/0! | L34: =K34/12 -> #DIV/0! | M34: ='3.a) SVS UR'!$F$75 -> 0 | N34: =L34*M34 -> #DIV/0!
A35: 1OG 06 | B35: Aufenthaltsraum | C35: L | D35: 20 | E35: A | F35: 5 | G35: =IF(F35="k. R.",E35,CONCATENATE(E35,F35)) -> A5 | H35: =VLOOKUP(F35,'4.) Faktoren'!$C$23:$D$26,2,0) -> 242 | I35: =D35*H35 -> 4840 | J35: =VLOOKUP(G35,'5.) LST UR+AR'!$B$16:$D$51,3,0) -> 0 | K35: =I35/J35 -> #DIV/0! | L35: =K35/12 -> #DIV/0! | M35: ='3.a) SVS UR'!$F$75 -> 0 | N35: =L35*M35 -> #DIV/0!
A36: 1OG 07 | B36: Umkleide Herren | C36: L | D36: 18.6 | E36: I | F36: 5 | G36: =IF(F36="k. R.",E36,CONCATENATE(E36,F36)) -> I5 | H36: =VLOOKUP(F36,'4.) Faktoren'!$C$23:$D$26,2,0) -> 242 | I36: =D36*H36 -> 4501.2 | J36: =VLOOKUP(G36,'5.) LST UR+AR'!$B$16:$D$51,3,0) -> 0 | K36: =I36/J36 -> #DIV/0! | L36: =K36/12 -> #DIV/0! | M36: ='3.a) SVS UR'!$F$75 -> 0 | N36: =L36*M36 -> #DIV/0!
A37: 1OG 08 | B37: Dusche Herren | C37: FL | D37: 15.99 | E37: F | F37: 5 | G37: =IF(F37="k. R.",E37,CONCATENATE(E37,F37)) -> F5 | H37: =VLOOKUP(F37,'4.) Faktoren'!$C$23:$D$26,2,0) -> 242 | I37: =D37*H37 -> 3869.58 | J37: =VLOOKUP(G37,'5.) LST UR+AR'!$B$16:$D$51,3,0) -> 0 | K37: =I37/J37 -> #DIV/0! | L37: =K37/12 -> #DIV/0! | M37: ='3.a) SVS UR'!$F$75 -> 0 | N37: =L37*M37 -> #DIV/0!
A38: 1OG 09 | B38: Vorraum WC Herren | C38: FL | D38: 2.16 | E38: F | F38: 5 | G38: =IF(F38="k. R.",E38,CONCATENATE(E38,F38)) -> F5 | H38: =VLOOKUP(F38,'4.) Faktoren'!$C$23:$D$26,2,0) -> 242 | I38: =D38*H38 -> 522.72 | J38: =VLOOKUP(G38,'5.) LST UR+AR'!$B$16:$D$51,3,0) -> 0 | K38: =I38/J38 -> #DIV/0! | L38: =K38/12 -> #DIV/0! | M38: ='3.a) SVS UR'!$F$75 -> 0 | N38: =L38*M38 -> #DIV/0!
A39: 1OG 10 | B39: WC Herren | C39: FL | D39: 5.04 | E39: F | F39: 5 | G39: =IF(F39="k. R.",E39,CONCATENATE(E39,F39)) -> F5 | H39: =VLOOKUP(F39,'4.) Faktoren'!$C$23:$D$26,2,0) -> 242 | I39: =D39*H39 -> 1219.68 | J39: =VLOOKUP(G39,'5.) LST UR+AR'!$B$16:$D$51,3,0) -> 0 | K39: =I39/J39 -> #DIV/0! | L39: =K39/12 -> #DIV/0! | M39: ='3.a) SVS UR'!$F$75 -> 0 | N39: =L39*M39 -> #DIV/0!
A40: Summe 1. Obergeschoss (OG1) | D40: =SUM(D30:D39) -> 110.36
A41: 2. Obergeschoss (OG2)
A42: 2OG 01 | B42: Treppe | C42: KA | D42: 11.16 | E42: G | F42: 2 | G42: =IF(F42="k. R.",E42,CONCATENATE(E42,F42)) -> G2 | H42: =VLOOKUP(F42,'4.) Faktoren'!$C$23:$D$26,2,0) -> 100 | I42: =D42*H42 -> 1116 | J42: =VLOOKUP(G42,'5.) LST UR+AR'!$B$16:$D$51,3,0) -> 0 | K42: =I42/J42 -> #DIV/0! | L42: =K42/12 -> #DIV/0! | M42: ='3.a) SVS UR'!$F$75 -> 0 | N42: =L42*M42 -> #DIV/0!
A43: 2OG 02 | B43: Flur | C43: PVC | D43: 11.76 | E43: H | F43: 2 | G43: =IF(F43="k. R.",E43,CONCATENATE(E43,F43)) -> H2 | H43: =VLOOKUP(F43,'4.) Faktoren'!$C$23:$D$26,2,0) -> 100 | I43: =D43*H43 -> 1176 | J43: =VLOOKUP(G43,'5.) LST UR+AR'!$B$16:$D$51,3,0) -> 0 | K43: =I43/J43 -> #DIV/0! | L43: =K43/12 -> #DIV/0! | M43: ='3.a) SVS UR'!$F$75 -> 0 | N43: =L43*M43 -> #DIV/0!
A44: 2OG 03 | B44: WC Herren | C44: FL | D44: 8.4 | E44: F | F44: 5 | G44: =IF(F44="k. R.",E44,CONCATENATE(E44,F44)) -> F5 | H44: =VLOOKUP(F44,'4.) Faktoren'!$C$23:$D$26,2,0) -> 242 | I44: =D44*H44 -> 2032.8 | J44: =VLOOKUP(G44,'5.) LST UR+AR'!$B$16:$D$51,3,0) -> 0 | K44: =I44/J44 -> #DIV/0! | L44: =K44/12 -> #DIV/0! | M44: ='3.a) SVS UR'!$F$75 -> 0 | N44: =L44*M44 -> #DIV/0!
...

Sheet 6.) UR-05
