Workbook

Sheet 1.) Erläuterungen
A1: 1.) Erläuterungen zur Kalkulationsdatei - Bezirksverband Pfalz - Pfalztheater Kaiserslautern
A3: . | B3: Allgemeine Hinweise zur Bearbeitung der Kalkulationsdatei
B4: Bitte füllen Sie auf allen Blättern alle grünen Felder aus. Alle Angaben sind in den dazu vorgesehenen grünen Feldern zu machen. Eine Veränderung der geltenden Angaben und Formeln führt zwingend zum Ausschluss Ihres Angebotes. Die von Ihnen ausgefüllte Kalkulation CS_2026_0286_005_Kalkulation ist unbedingt dem Angebot beizufügen / hochzuladen. Das Fehlen der Kalkulationsdatei führt zwingend zum Ausschluss Ihres Angebotes. Alle hier ermittelten Preise werden in netto angegeben, ohne Angabe der jeweils gültigen USt. Im Tabellenblatt 2.a) GPB ist in Zelle C13 standardmäßig ein Umsatzsteuersatz von 19 % hinterlegt. Sollte für Ihr Unternehmen ein abweichender Umsatzsteuersatz gelten, ist dieser Wert entsprechend durch Sie anzupassen, damit sich dann der Gesamtpreis brutto korrekt errechnet.
A12: . | B12: Objektspezifische Hinweise
B13: Vertretungsreinigungen: Das Pfalztheater Kaiserslautern beschäftigt in verschiedenen Bereichen auch noch eigenes Personal und benötigt ggf. eine Urlaubs- und Krankheitsvertretung der Eigenreinigungskräfte. Die Beauftragung und Abrechnung von Vertretungsreinigungen erfolgt nach Stundenaufwand. Vorlaufzeit für die benötigten Vertretungsreinigungen: Der Auftraggeber teilt dem Auftragnehmer mit einer maximalen Vorlaufzeit von 24 Stunden, schriftlich den entsprechenden Bedarf an Vertretungsreinigungen mit. Aus dieser Bedarfsmeldung geht hervor, welche Vertretungsleistung tatsächlich benötigt wird. Die vorgegebene Reaktionszeit von 24 Stunden ist vom Auftragnehmer während der Vertragslaufzeit sicherzustellen und durch entsprechende Personalplanung zu gewährleisten. Abrufreinigungen nach Veranstaltungen/Aufführungen/Proben: In den Objekten "Großes Haus - Probebühne II" und "Probebühne Mühlstraße", sind Abrufreinigungen nach/vor Veranstaltungen/Aufführungen/Proben zu erbringen. Es ist in der jeweiligen Objektkalkulation "6.) AR-01 bis AR-02" eine eigene Preisermittlung für diese Abrufreinigungen hinterlegt. Die Beauftragung und Abrechnung von Abrufreinigungen erfolgt nach der jeweiligen Objektkalkulation pro Paket. Für diese Leistungserbringung, wird der ermittelte Stundenverrechnungssatz "SVS AR" automatisch in die Objektkalkulation "6.) AR-01 bis AR-02" übernommen. Paket 1: "Großes Haus - Probebühne II": Für die Gesamtjahrespreis-/ und Gesamtjahresstundenermittlung (AR-01), wurden für diese Positionen ein geschätzter Jahreseinsatz von 30 werktäglichen Einsätzen herangezogen. Ein tatsächlicher Anspruch auf diese Leistungserbringung im genannten Umfang besteht nicht, ist aber im Bedarfsfall bei Beauftragung zu erbringen. Paket 2: "Probebühne Mühlstraße": Für die Gesamtjahrespreis-/ und Gesamtjahresstundenermittlung (AR-02), wurden für diese Positionen ein geschätzter Jahreseinsatz von 30 werktäglichen Einsätzen herangezogen. Ein tatsächlicher Anspruch auf diese Leistungserbringung im genannten Umfang besteht nicht, ist aber im Bedarfsfall bei Beauftragung zu erbringen.
A43: . | B43: Hinweise zur Bearbeitung der jeweiligen Tabellenblätter
A45: 1. | B45: Stundenverrechnungssatz Unterhaltsreinigung - UR (werktags)
B46: Als Berechnungsgrundlage dient eine Zuschlagskalkulation angelehnt an die Vorlagen des Bundesinnungsverbandes des Gebäudereiniger-Handwerks. Für die rechnerische und wirtschaftliche Überprüfung Ihres Angebotes muss die Stundenverrechnungssatzkalkulation UR zwingend vollständig, auftragsbezogen und auskömmlich für voll-sozialversicherungspflichtige (Voll-SV) Mitarbeiter, Midi-jobber (Midijob) sowie geringfügig beschäftigte (GV) Mitarbeiter ausgefüllt werden. Hierzu sind alle grün hinterlegten Felder auszufüllen. Es ist darauf zu achten, dass jede einzelne Position ausgefüllt wird, gegebenenfalls mit dem Zahlenwert "0". Bitte tragen Sie jeweils die Zuschläge in % in die Stundenverrechnungssatzkalkulation UR bezogen auf den Produktivlohn ein. Als Mindestlohnvorgabe dient der für allgemeinverbindlich erklärte Mindestlohntarifvertrag für das Gebäudereiniger-Handwerk mit dem Tariflohn Lohngruppe 1 zum Zeitpunkt der Angebotsabgabe (verbindliche Kalkulationsvorgabe). Eine Nicht-Einhaltung des aktuellen und für allgemeinverbindlich erklärten Mindestlohntarifvertrages und des Rahmentarifvertrages für das Gebäudereiniger-Handwerk, führt wegen Abweichung der verbindlichen Kalkulationsvorgaben zwingend zum Ausschluss Ihres Angebotes. Kalkulationen, bei denen die Sozialversicherungen (Arbeitgeberanteil); bei der Krankenversicherung inkl. kassenindividueller Zusatzbeiträge; nicht mindestens den gesetzlichen Bestimmungen zum Zeitpunkt der Angebotsabgabe entsprechen, führen wegen Abweichung der verbindlichen Kalkulationsvorgabe zwingend zum Ausschluss Ihres Angebotes. Eine Unterschreitung der Lohnfolgekosten (Soziallöhne) aus den von Ihnen dargelegten firmenspezifischen Angaben im Stundenverrechnungssatz UR zur Ermittlung der produktiven Arbeitstage pro Mitarbeiter und Jahr Ihres Unternehmens, im Durchschnitt einer 5-Tage-Woche (verbindliche Kalkulationsvorgabe), führt wegen Abweichung der verbindlichen Kalkulationsvorgabe zwingend zum Ausschluss Ihres Angebotes. Kalkulationen, bei denen die Sozialversicherungen auf die Lohnfolgekosten nicht mindestens den gesetzlichen Bestimmungen zum Zeitpunkt der Angebotsabgabe entsprechen, führen wegen Abweichung der verbindlichen Kalkulationsvorgabe zwingend zum Ausschluss Ihres Angebotes. Bitte beachten Sie, dass die von Ihnen gemachten Angaben "Mindeststunden für die qualifizierte Objektbetreuung" für die regelmäßige Unterhaltsreinigung (UR) im Formular CS_2026_0286_006_Aufsichts- und Kontrollstunden im Stundenverrechnungssatz UR rechnerisch überprüfbar und auskömmlich sein müssen. Eine Unterschreitung bei der rechnerischen Überprüfung der unter Position 4.2) im Stundenverrechnungssatz UR kalkulierten Zuschläge in % (Aufsichts- und Kontrollkosten Objektleitung, inkl. Lohnfolgekosten) führt wegen Abweichung der verbindlichen Kalkulationsvorgabe zwingend zum Ausschluss Ihres Angebotes. Die rechnerische Überprüfung erfolgt anhand dem von Ihnen kalkulierten Stundenverrechnungssatz OL, den von Ihnen kalkulierten Jahresmindeststunden für die qualifizierte Objektbetreuung durch die Objektleitung für die Leistungsart (UR) sowie den von Ihnen kalkulierten Jahresgesamtstunden UR. Die Überwachung und Einhaltung der Leistungserbringung (UR) wird zusätzlich durch ein neutrales Fachbüro stichprobenartig durchgeführt. Es sind hierfür für den kompletten Auftrag zwei Kontrolldurchgänge pro Jahr veranschlagt. Ein Kontrolldurchgang verursacht Kosten in Höhe von 1490,00 € (netto). Diese Kosten sind durch den AN zu tragen und in den Stundenverrechnungssatz UR unter der Position 5.2) externe Qualitätssicherung einzukalkulieren. Am Ende geben Sie bitte das geplante Verhältnis von voll-sozialversicherungspflichtige (Voll-SV) Mitarbeiter, Midijobber (Midijob) sowie geringfügig beschäftigte (GV) Mitarbeiter an. Die Summe muss zwingend 100 % ergeben und erscheint nur dann im Kontrollfeld grün. Der so ermittelte Stundenverrechnungssatz "UR werktags" wird automatisch in die Objekt-kalkulationen "6.) UR-01 bis UR-05" übernommen.
A91: 2. | B91: Stundenverrechnungssatz Abrufreinigung - AR (werktags)
B92: Als Berechnungsgrundlage dient eine Zuschlagskalkulation angelehnt an die Vorlagen des Bundesinnungsverbandes des Gebäudereiniger-Handwerks. Für die rechnerische und wirtschaftliche Überprüfung Ihres Angebotes muss die Stundenverrechnungssatzkalkulation AR zwingend vollständig, auftragsbezogen und auskömmlich für voll-sozialversicherungspflichtige (Voll-SV) Mitarbeiter, Midi-jobber (Midijob) sowie geringfügig beschäftigte (GV) Mitarbeiter ausgefüllt werden. Hierzu sind alle grün hinterlegten Fel- der auszufüllen. Es ist darauf zu achten, dass jede einzelne Position ausgefüllt wird, gegebenenfalls mit dem Zahlenwert "0". Bitte tragen Sie jeweils die Zuschläge in % in die Stundenverrechnungssatzkalkulation AR bezogen auf den Produk-tivlohn ein. Als Mindestlohnvorgabe dient der für allgemeinverbindlich erklärte Mindestlohntarifvertrag für das Gebäudereiniger-Handwerk mit dem Tariflohn Lohngruppe 1 zum Zeitpunkt der Angebotsabgabe (verbindliche Kalkulationsvorgabe). Eine Nicht-Einhaltung des aktuellen und für allgemeinverbindlich erklärten Mindestlohntarifvertrages und des Rahmentarif-vertrages für das Gebäudereiniger-Handwerk, führt wegen Abweichung der verbindlichen Kalkulationsvorgaben zwingend zum Ausschluss Ihres Angebotes. Kalkulationen, bei denen die Sozialversicherungen (Arbeitgeberanteil); bei der Krankenversicherung inkl. kassenindividu- eller Zusatzbeiträge; nicht mindestens den gesetzlichen Bestimmungen zum Zeitpunkt der Angebotsabgabe entsprech- en, führen wegen Abweichung der verbindlichen Kalkulationsvorgabe zwingend zum Ausschluss Ihres Angebotes. Eine Unterschreitung der Lohnfolgekosten (Soziallöhne) aus den von Ihnen dargelegten firmenspezifischen Angaben im Stundenverrechnungssatz AR zur Ermittlung der produktiven Arbeitstage pro Mitarbeiter und Jahr Ihres Unternehmens, im Durchschnitt einer 5-Tage-Woche (verbindliche Kalkulationsvorgabe), führt wegen Abweichung der verbindlichen Kal- kulationsvorgabe zwingend zum Ausschluss Ihres Angebotes. Kalkulationen, bei denen die Sozialversicherungen auf die Lohnfolgekosten nicht mindestens den gesetzlichen Bestimmungen zum Zeitpunkt der Angebotsabgabe entsprechen, führen wegen Abweichung der verbindlichen Kalkulationsvorgabe zwingend zum Ausschluss Ihres Angebotes. Am Ende geben Sie bitte das geplante Verhältnis von voll-sozialversicherungspflichtige (Voll-SV) Mitarbeiter, Midijobber (Midijob) sowie geringfügig beschäftigte (GV) Mitarbeiter an. Die Summe muss zwingend 100 % ergeben und erscheint nur dann im Kontrollfeld grün. Der so ermittelte Stundenverrechnungssatz "AR werktags" wird automatisch in die Objektkalkulationen "6.) AR-01 bis AR-02" übernommen.
A122: 3. | B122: Stundenverrechnungssatz Objektleitung - OL (werktags)
B123: Als Berechnungsgrundlage dient eine Zuschlagskalkulation angelehnt an die Vorlagen des Bundesinnungsverbandes des Gebäudereiniger-Handwerks. Für die rechnerische und wirtschaftliche Überprüfung Ihres Angebotes muss die Stundenverrechnungssatzkalkulation OL zwingend vollständig, auftragsbezogen und auskömmlich ausgefüllt werden. Hierzu sind alle grün hinterlegten Felder aus-zufüllen. Es ist darauf zu achten, dass jede einzelne Position ausgefüllt wird, gegebenenfalls mit dem Zahlenwert "0". Bit- te tragen Sie jeweils die Zuschläge in % in die Stundenverrechnungssatzkalkulation OL bezogen auf den Produktivlohn ein. Kalkulationen, bei denen die Sozialversicherungen (Arbeitgeberanteil); bei der Krankenversicherung inkl. kassenindividu- eller Zusatzbeiträge; nicht mindestens den gesetzlichen Bestimmungen zum Zeitpunkt der Angebotsabgabe entsprechen, führen wegen Abweichung der verbindlichen Kalkulationsvorgabe zwingend zum Ausschluss Ihres Angebotes. Eine Unterschreitung der Lohnfolgekosten (Soziallöhne) aus den von Ihnen dargelegten firmenspezifischen Angaben im Stundenverrechnungssatz OL zur Ermittlung der produktiven Arbeitstage pro Objektleitung und Jahr Ihres Unternehmens, im Durchschnitt einer 5-Tage-Woche (verbindliche Kalkulationsvorgabe), führt wegen Abweichung der verbindlichen Kalkulationsvorgabe zwingend zum Ausschluss Ihres Angebotes. Kalkulationen, bei denen die Sozialversicherungen auf die Lohnfolgekosten nicht mindestens den gesetzlichen Bestimmungen zum Zeitpunkt der Angebotsabgabe entsprechen, führen wegen Abweichung der verbindlichen Kalkulationsvorgabe zwingend zum Ausschluss Ihres Angebotes. Bitte beachten Sie, dass der von Ihnen kalkulierte Stundenlohn für die Objektleitung mindestens der in der "Eigenerklärung zur Eignung und zu Ausschlussgründen" geforderten Mindestqualifikation, der geforderten Sprachkenntnisse sowie der geforderten Berufserfahrung der eingesetzten Objektleitung realistisch und entsprechend branchenüblich sein muss. Unrealistische (zu niedrige) bzw. nicht branchenübliche Stundenlöhne führen zum Ausschluss Ihres Angebotes.
A151: 4. | B151: Bearbeitung der Kalkulationsdatei
B152: Für eine vereinfachte Bearbeitung tragen Sie bitte im Tabellenblatt "5.) LST UR+AR" Ihre realistischen Leistungswerte für die UR und AR auf der Grundlage der geforderten Leistungsbeschreibung und den objektespezifischen Anforderungen in die grünen Felder ein. Die einzelnen Leistungswerte werden dann automatisch in die Objektkalkulationen "6.) UR-01 bis UR-06" sowie "6.) AR-01 bis AR-02" übernommen. Sie haben die Möglichkeit, in den einzelnen Objektkalkulationen den zugeordneten Leistungswert manuell pro Raum zu korrigieren bzw. anzupassen, um ggf. der Raumgröße, dem Verschmutzungsgrad, der Bodenart, den Wege- und Rüst-zeiten, Mindestarbeitszeiten sowie speziellen Hygieneanforderungen und ggf. Individualleistungen gerecht zu werden. Sollten die von Ihnen angegebenen Leistungswerte für die UR und AR nicht als realistisch und aus der praktischen Erfahrung des AG heraus als nicht machbar erscheinen, kann der AG zur Überprüfung der Angemessenheit hier Aufklärung zu den gemachten Angaben im Zuge einer "kostenfreien Probereinigung" verlangen. Hier muss der AN im Objekt mit den Objektgegebenheiten die Machbarkeit der angezweifelten Leistungswerte mit allen in der Leistungsbeschreibung definierten Teilleistungen im Zuge einer Testreinigung in einem vom AG bestimmten Bereich/Raum mit einem Erfüllungsgehilfen des Bieters kostenlos beweisen. Sollte der Leistungswert sich dadurch als nicht machbar darstellen oder der AN nicht dieser Aufklärungspflicht kostenfrei nachkommen, ist das Angebot zwingend auszuschließen. Alle aus den einzelnen Kalkulationen/Positionen gewonnenen Daten/Preise UR und AR führen zu einem Gesamtpreis und den Gesamtstunden für die Wertung.
A173: 5. | B173: Legende der Bodenbeläge
B175: H | C175: Holz | G175: FL | H175: Fliesen
B176: L | C176: Linoleum | G176: PVC | H176: Polyvinylchlorid
B177: T | C177: Teppich | G177: NAST | H177: Naturstein
B178: KA | C178: Kautschuk | G178: GUNO | H178: Gumminoppe
B179: LA | C179: Laminat | G179: BÜBO | H179: Bühnenboden
B180: BE | C180: Beton | G180: SAUB | H180: Sauberlaufzone
B181: PA | C181: Parkett

Sheet 2.a) GPB
A1: ="2.a) Gesamtpreisblatt -"&MID('1.) Erläuterungen'!A1, FIND("-", '1.) Erläuterungen'!A1) + 1, LEN('1.) Erläuterungen'!A1)) -> 2.a) Gesamtpreisblatt - Bezirksverband Pfalz - Pfalztheater Kaiserslautern
B3: Bieter (Firma):
B4: è | C4: Angabe der Firma
A6: . | B6: Preisübersicht Kalkulation Gebäudereinigung (in € netto)
C8: Jahrespreis | D8: Jahresstunden
B10: Gesamtsumme Unterhaltsreinigung (UR) | C10: ='2.b) PB'!E15 -> #DIV/0! | D10: ='2.b) PB'!F15 -> #DIV/0!
B11: Gesamtsumme Abrufreinigung (AR) | C11: ='2.b) PB'!E33 -> #DIV/0! | D11: ='2.b) PB'!F33 -> #DIV/0!
B12: Gesamtsumme Reinigung aus UR + AR | C12: =SUM(C10:C11) -> #DIV/0! | D12: =SUM(D10:F11) -> #DIV/0!
B13: Umsatzsteuer (USt.) | C13: 0.19
B14: Gesamtsumme Reinigung brutto aus UR + AR | C14: =C12*(1+C13) -> #DIV/0!
A16: . | B16: Regieleistungen (in € netto)
B18: Sonderreinigung (werktags) | F18: € / Stunde
B19: Sonderreinigung (sonn- und feiertags) | F19: € / Stunde
B20: Vertretungsreinigung (werktags) | F20: € / Stunde
B21: Vertretungsreinigung (sonn- und feiertags) | F21: € / Stunde
B22: Desinfektionsreinigung - Mittel stellt der AG - (werktags) | F22: € / Stunde
B23: Grundreinigung (werktags) | F23: € / Stunde
B24: Baureinigung (werktags) | F24: € / Stunde
B25: Fliesenboden Sanitärbereich maschinell grundreinigen (werktags) | D25: bis 10 m² | F25: € / m²
D26: ab 10 m²
B27: Steinboden maschinell grundreinigen (werktags) | D27: bis 50 m² | F27: € / m²
D28: ab 50 m²
B29: Linoleumboden maschinell grundreinigen (werktags) | D29: bis 50 m² | F29: € / m²
D30: ab 50 m²
B31: Linoleumboden maschinell grundreinigen und mind. 2-fach beschichten (werktags) | D31: bis 50 m² | F31: € / m²
D32: ab 50 m²
B33: PVC-Boden maschinell grundreinigen (werktags) | D33: bis 50 m² | F33: € / m²
D34: ab 50 m²
B35: PVC-Boden maschinell grundreinigen und mind. 2-fach beschichten (werktags) | D35: bis 50 m² | F35: € / m²
D36: ab 50 m²
B37: Vinyl-/ Kautschukboden maschinell grundreinigen (werktags) | D37: bis 50 m² | F37: € / m²
D38: ab 50 m²
B39: Vinyl-/ Kautschukboden maschinell grundreinigen und einpflegen (werktags) | D39: bis 50 m² | F39: € / m²
D40: ab 50 m²
B41: Holzboden/Parkett maschinell grundreinigen (werktags) | D41: bis 50 m² | F41: € / m²
D42: ab 50 m²
B43: Holzboden/Parkett maschinell grundreinigen und einpflegen (werktags) | D43: bis 50 m² | F43: € / m²
D44: ab 50 m²
B45: Teppichreinigung Sprühextraktion (werktags) | D45: bis 50 m² | F45: € / m²
D46: ab 50 m²
B47: Teppichreinigung Kombiverfahren (werktags) | D47: bis 50 m² | F47: € / m²
D48: ab 50 m²
B49: In den Preisen sind Material-, Maschinen- und Gerätekosten, sowie sonstige Nebenkosten enthalten.

Sheet 2.b) PB
A1: ="2.b) Preisblatt -"&MID('1.) Erläuterungen'!A1, FIND("-", '1.) Erläuterungen'!A1) + 1, LEN('1.) Erläuterungen'!A1)) -> 2.b) Preisblatt - Bezirksverband Pfalz - Pfalztheater Kaiserslautern
B3: Bieter (Firma): | D3: ='2.a) GPB'!C3 -> 0
A5: . | B5: Preisübersicht Kalkulation Gebäudereinigung (in € netto)
B7: Objekte | C7: Kalk. | D7: Unterhaltsreinigung
B9: Unterhaltsreinigung | D9: Monats- kosten | E9: Jahres- kosten | F9: Jahres- stunden | G9: Æ Stunden pro Tag
B10: Großes Haus Willy-Brandt-Platz 4+5 67657 Kaiserslautern | C10: 6.) UR-01 | D10: {=INDIRECT("'"&LEFT(C10,SEARCH(CHAR(10),C10&CHAR(10))-1)&"'!O3")} -> #DIV/0! | E10: =D10*12 -> #DIV/0! | F10: {=INDIRECT("'"&LEFT(C10,SEARCH(CHAR(10),C10&CHAR(10))-1)&"'!O4")*12} -> #DIV/0! | G10: =F10/268 -> #DIV/0!
B11: Werkstatt Blechhammer Blechhammerweg 51 67659 Kaiserslautern | C11: 6.) UR-02 | D11: {=INDIRECT("'"&LEFT(C11,SEARCH(CHAR(10),C11&CHAR(10))-1)&"'!O3")} -> #DIV/0! | E11: =D11*12 -> #DIV/0! | F11: {=INDIRECT("'"&LEFT(C11,SEARCH(CHAR(10),C11&CHAR(10))-1)&"'!O4")*12} -> #DIV/0! | G11: =F11/52 -> #DIV/0!
B12: Probebühne III Fischerstraße Fischerstraße 49 67655 Kaiserslautern | C12: 6.) UR-03 | D12: {=INDIRECT("'"&LEFT(C12,SEARCH(CHAR(10),C12&CHAR(10))-1)&"'!O3")} -> #DIV/0! | E12: =D12*12 -> #DIV/0! | F12: {=INDIRECT("'"&LEFT(C12,SEARCH(CHAR(10),C12&CHAR(10))-1)&"'!O4")*12} -> #DIV/0! | G12: =F12/92 -> #DIV/0!
B13: Werkstatt Lauterstraße Lauterstraße 135 67657 Kaiserslautern | C13: 6.) UR-04 | D13: {=INDIRECT("'"&LEFT(C13,SEARCH(CHAR(10),C13&CHAR(10))-1)&"'!O3")} -> #DIV/0! | E13: =D13*12 -> #DIV/0! | F13: {=INDIRECT("'"&LEFT(C13,SEARCH(CHAR(10),C13&CHAR(10))-1)&"'!O4")*12} -> #DIV/0! | G13: =F13/242 -> #DIV/0!
B14: Villa Munzinger Willy-Brandt-Platz 5 67657 Kaiserslautern | C14: 6.) UR-05 | D14: {=INDIRECT("'"&LEFT(C14,SEARCH(CHAR(10),C14&CHAR(10))-1)&"'!O3")} -> #DIV/0! | E14: =D14*12 -> #DIV/0! | F14: {=INDIRECT("'"&LEFT(C14,SEARCH(CHAR(10),C14&CHAR(10))-1)&"'!O4")*12} -> #DIV/0! | G14: =F14/231 -> #DIV/0!
B15: Gesamtsumme Reinigung aus UR | D15: =SUM(D10:D14) -> #DIV/0! | E15: =SUM(E10:E14) -> #DIV/0! | F15: =SUM(F10:F14) -> #DIV/0! | G15: - - -
A17: . | B17: Preisübersicht Kalkulation Gebäudereinigung (in € netto)
B19: Objekte | C19: Kalk. | D19: Abrufreinigung - Paket 1 - "Probebühne II"
B21: Abrufreinigung | D21: Preis pro Reinigung | E21: Preis 30 x Reinigung | F21: Jahresstunden 30 x Reinigung | G21: Stunden pro Reinigung
B22: Großes Haus Willy-Brandt-Platz 4+5 67657 Kaiserslautern | C22: 6.) AR-01 | D22: {=INDIRECT("'"&LEFT(C22,SEARCH(CHAR(10),C22&CHAR(10))-1)&"'!O3")} -> #DIV/0! | E22: =D22*30 -> #DIV/0! | F22: =G22*30 -> #DIV/0! | G22: {=INDIRECT("'"&LEFT(C22,SEARCH(CHAR(10),C22&CHAR(10))-1)&"'!O4")} -> #DIV/0!
B23: Summe Reinigung aus AR-01 | D23: =SUM(D22:D22) -> #DIV/0! | E23: =SUM(E22:E22) -> #DIV/0! | F23: =SUM(F22:F22) -> #DIV/0! | G23: - - -
A25: . | B25: Preisübersicht Kalkulation Gebäudereinigung (in € netto)
B27: Objekte | C27: Kalk. | D27: Abrufreinigung - Paket 2 - "Probebühne Mühlstraße"
B29: Abrufreinigung | D29: Preis pro Reinigung | E29: Preis 30 x Reinigung | F29: Jahresstunden 30 x Reinigung | G29: Stunden pro Reinigung
B30: Probebühne Mühlstraße Mühlstraße 10 67659 Kaiserslautern | C30: 6.) AR-02 | D30: {=INDIRECT("'"&LEFT(C30,SEARCH(CHAR(10),C30&CHAR(10))-1)&"'!O3")} -> #DIV/0! | E30: =D30*30 -> #DIV/0! | F30: =G30*30 -> #DIV/0! | G30: {=INDIRECT("'"&LEFT(C30,SEARCH(CHAR(10),C30&CHAR(10))-1)&"'!O4")} -> #DIV/0!
B31: Summe Reinigung aus AR-02 | D31: =SUM(D30:D30) -> #DIV/0! | E31: =SUM(E30:E30) -> #DIV/0! | F31: =SUM(F30:F30) -> #DIV/0! | G31: - - -
B33: Gesamtsumme Reinigung aus AR-01 bis AR-02 | E33: =E31+E23 -> #DIV/0! | F33: =F31+F23 -> #DIV/0!

Sheet 3.a) SVS UR
A1: . | B1: Kalkulation des Stundenverrechnungssatzes Unterhaltsreinigung (UR) -auftragsbezogen-
B3: Bieter: | C3: ='2.a) GPB'!C3:F3 -> 0
B5: Tage Urlaub pro Mitarbeiter und Jahr:
B6: durchschnittliche Tage tarifliche Arbeitsfreistellung pro Mitarbeiter und Jahr:
B7: durchschnittliche Krankheitstage pro Mitarbeiter und Jahr:
B8: durchschnittliche Feiertage pro Jahr (Rheinland-Pfalz):
D10: Voll-SV | E10: Midijob | F10: GV
B11: Tariflicher Stundenlohn 01.01.2026 Lohngruppe 1 (in €)
B12: 1) Produktiver Stundenlohn | D12: 1 | E12: 1 | F12: 1
B13: 1.1) freiwillige Zulagen (übertarifliche Entlohnung) (in €)
B14: Stundenlohn mit Zulagen | D14: =D11+D13 -> 0 | E14: =E11+E13 -> 0 | F14: =F11+F13 -> 0
B15: 2) Sozialversicherung (Arbeitgeberanteil) - 2026
B16: 2.1) Krankenversicherung - inkl. kassenindividueller Zusatzbeitrag
B17: 2.2) Rentenversicherung
B18: 2.3) Arbeitslosenversicherung | F18: ="-" -> -
B19: 2.4) Pflegeversicherung | F19: ="-" -> -
B20: 2.5) U2 Mutterschaftsaufwendungen
B21: 2.6) U3 Insolvenzgeldumlage
B22: 2.7) Gesetzliche Unfallversicherung
B23: Summe Sozialversicherungsbeiträge 2 | D23: =SUM(D16:D22) -> 0 | E23: =SUM(E16:E22) -> 0 | F23: =SUM(F16:F22) -> 0
B24: 3) Lohnfolgekosten (Soziallöhne)
B25: 3.1) Gesetzliche Feiertage
B26: 3.1.1) Sozialversicherung auf Feiertage
B27: 3.2) Urlaubsentgelt
B28: 3.2.1) Sozialversicherung auf Urlaubsentgelt
B29: 3.3) Tarifliche Arbeitsfreistellung
B30: 3.3.1) Sozialversicherung auf Arbeitsfreistellung
B31: 3.4) Gesetzliche Lohnfortzahlung im Krankheitsfall
B32: 3.4.1) Sozialversicherung auf Lohnfortzahlung im Krankheitsfall
B33: 3.5) zusätzliches Urlaubsgeld
B34: 3.5.1) Sozialversicherung auf zusätzliches Urlaubsgeld
B35: Summe Sozialversicherungsbeiträge und Soziallöhne 2 und 3 | D35: =SUM(D23:D34) -> 0 | E35: =SUM(E23:E34) -> 0 | F35: =SUM(F23:F34) -> 0
B36: 4) Zusätzliche auftragsbezogene, lohngebundene Kosten
B37: 4.1) Vorarbeiter inkl. Lohnfolgekosten
B38: 4.2) Aufsichts- und Kontrollkosten Objektleitung inkl. Lohnfolgekosten
B39: 4.3) Sonstige Personalkosten z. B. Schulung und Einarbeitung
B40: 4.4) Haftpflichtversicherung
B41: Summe Lohn- und lohngebundene Kosten 1, 2, 3 und 4 | D41: =SUM(D37:D40)+D35+D12 -> 1 | E41: =SUM(E37:E40)+E35+E12 -> 1 | F41: =SUM(F37:F40)+F35+F12 -> 1
B42: 5) Sonstige auftragsbezogene Kosten
B43: 5.1) Qualitätssicherung
B44: 5.2) externe Qualitätssicherung
B45: 5.3) Arbeitskleidung, Fahrtkostenzuschuss
B46: 5.4) Reinigungsmittel, Fertigungsmaterial
B47: 5.5) Sondereinzelkosten z. B. Moppwäsche, etc.
B48: 5.6) Maschinen (AfA, Wartung, Betriebskosten, Verschleiß)
B49: 5.7) Robotik (AfA, Wartung, Betriebskosten, Verschleiß)
B50: Zwischensumme sonstige auftragsbezogene Kosten 5 | D50: =SUM(D43:D49) -> 0 | E50: =SUM(E43:E49) -> 0 | F50: =SUM(F43:F49) -> 0
B51: 6) Unternehmensbezogene Kosten
B52: 6.1) Technische Angestellte, inkl. Lohnfolgekosten
B53: 6.2) Kaufmännische Angestellte, inkl. Lohnfolgekosten
B54: 6.3) Fuhrparkkosten
B55: 6.4) sonstige Verwaltungskosten
B56: 6.5) Schwerbehindertenabgabe
B57: 6.6) Betriebsratskosten
B58: 6.7) Sonstige Kosten (Verbandsbeiträge, Zertifizierung etc.)
B59: 6.8) Vorfinanzierung Sozialversicherungsbeiträge
B60: Zwischensumme unternehmensbezogene Kosten 6 | D60: =SUM(D52:D59) -> 0 | E60: =SUM(E52:E59) -> 0 | F60: =SUM(F52:F59) -> 0
B61: 7) Selbstkosten (Pos. 1 bis 6) | D61: =D41+D50+D60 -> 1 | E61: =E41+E50+E60 -> 1 | F61: =F41+F50+F60 -> 1
B62: 8) Gewerbesteuer
B63: 9) Zuschlag für Wagnis + Gewinn
B64: 10 a) Kalkulationszuschlag inkl. Fertigungslohn (Pos. 7 bis 9) | D64: =SUM(D61:D63) -> 1 | E64: =SUM(E61:E63) -> 1 | F64: =SUM(F61:F63) -> 1
B65: 10 b) Kalkulationszuschlag abzüglich Fertigungslohn | D65: =D64-D12 -> 0 | E65: =E64-E12 -> 0 | F65: =F64-F12 -> 0
B66: 10 c) Stundenverrechnungssatz werktags (in €) | D66: =$D$14*D64 -> 0 | E66: =$E$14*E64 -> 0 | F66: =$F$14*F64 -> 0
B67: Lohnkostenanteil | D67: =D41/D64 -> 1 | E67: =E41/E64 -> 1 | F67: =F41/F64 -> 1
B69: Geplante Gewichtung Mitarbeitereinsatz | D69: Voll-SV | E69: Midijob | F69: GV | G69: Kontrollfeld
G70: =D70+F70+E70 -> 0
B72: Durchschnittlicher Lohnkostenanteil aus Voll-SV, Midijob und GV | D72: =(D67*D70+F67*F70+E67*E70) -> 0
B73: Durchschnittlicher Kalkulationszuschlag aus Voll-SV, Midijob und GV | D73: =(D65*D70+F65*F70+E65*E70) -> 0 | G73: =F75 -> 0
B75: Durchschnittlicher Stundenverrechnungssatz UR aus Voll-SV, Midijob und GV (in €) - werktags - | F75: =(D66*D70+F66*F70+E66*E70) -> 0

Sheet 3.b) SVS AR
A1: . | B1: Kalkulation des Stundenverrechnungssatzes Abrufreinigung (AR) -auftragsbezogen-
B3: Bieter: | C3: ='2.a) GPB'!C3:F3 -> 0
B5: Tage Urlaub pro Mitarbeiter und Jahr:
B6: durchschnittliche Tage tarifliche Arbeitsfreistellung pro Mitarbeiter und Jahr:
B7: durchschnittliche Krankheitstage pro Mitarbeiter und Jahr:
B8: durchschnittliche Feiertage pro Jahr (Rheinland-Pfalz):
D10: Voll-SV | E10: Midijob | F10: GV
B11: Tariflicher Stundenlohn 01.01.2026 Lohngruppe 1 (in €)
B12: 1) Produktiver Stundenlohn | D12: 1 | E12: 1 | F12: 1
B13: 1.1) freiwillige Zulagen (übertarifliche Entlohnung) (in €)
B14: Stundenlohn mit Zulagen | D14: =D11+D13 -> 0 | E14: =E11+E13 -> 0 | F14: =F11+F13 -> 0
B15: 2) Sozialversicherung (Arbeitgeberanteil) - 2026
B16: 2.1) Krankenversicherung - inkl. kassenindividueller Zusatzbeitrag
B17: 2.2) Rentenversicherung
B18: 2.3) Arbeitslosenversicherung | F18: ="-" -> -
B19: 2.4) Pflegeversicherung | F19: ="-" -> -
B20: 2.5) U2 Mutterschaftsaufwendungen
B21: 2.6) U3 Insolvenzgeldumlage
B22: 2.7) Gesetzliche Unfallversicherung
B23: Summe Sozialversicherungsbeiträge 2 | D23: =SUM(D16:D22) -> 0 | E23: =SUM(E16:E22) -> 0 | F23: =SUM(F16:F22) -> 0
B24: 3) Lohnfolgekosten (Soziallöhne)
B25: 3.1) Gesetzliche Feiertage
B26: 3.1.1) Sozialversicherung auf Feiertage
B27: 3.2) Urlaubsentgelt
B28: 3.2.1) Sozialversicherung auf Urlaubsentgelt
B29: 3.3) Tarifliche Arbeitsfreistellung
B30: 3.3.1) Sozialversicherung auf Arbeitsfreistellung
B31: 3.4) Gesetzliche Lohnfortzahlung im Krankheitsfall
B32: 3.4.1) Sozialversicherung auf Lohnfortzahlung im Krankheitsfall
B33: 3.5) zusätzliches Urlaubsgeld
B34: 3.5.1) Sozialversicherung auf zusätzliches Urlaubsgeld
B35: Summe Sozialversicherungsbeiträge und Soziallöhne 2 und 3 | D35: =SUM(D23:D34) -> 0 | E35: =SUM(E23:E34) -> 0 | F35: =SUM(F23:F34) -> 0
B36: 4) Zusätzliche auftragsbezogene, lohngebundene Kosten
B37: 4.1) Vorarbeiter inkl. Lohnfolgekosten
B38: 4.2) Aufsichts- und Kontrollkosten Objektleitung inkl. Lohnfolgekosten
B39: 4.3) Sonstige Personalkosten z. B. Schulung und Einarbeitung
B40: 4.4) Haftpflichtversicherung
B41: Summe Lohn- und lohngebundene Kosten 1, 2, 3 und 4 | D41: =SUM(D37:D40)+D35+D12 -> 1 | E41: =SUM(E37:E40)+E35+E12 -> 1 | F41: =SUM(F37:F40)+F35+F12 -> 1
B42: 5) Sonstige auftragsbezogene Kosten
B43: 5.1) Qualitätssicherung
B44: 5.2) Arbeitskleidung, Fahrtkostenzuschuss
B45: 5.3) Reinigungsmittel, Fertigungsmaterial
B46: 5.4) Sondereinzelkosten z. B. Moppwäsche, etc.
B47: 5.5) Maschinen (AfA, Wartung, Betriebskosten, Verschleiß)
B48: 5.6) Robotik (AfA, Wartung, Betriebskosten, Verschleiß)
B49: Zwischensumme sonstige auftragsbezogene Kosten 5 | D49: =SUM(D43:D48) -> 0 | E49: =SUM(E43:E48) -> 0 | F49: =SUM(F43:F48) -> 0
B50: 6) Unternehmensbezogene Kosten
B51: 6.1) Technische Angestellte, inkl. Lohnfolgekosten
B52: 6.2) Kaufmännische Angestellte, inkl. Lohnfolgekosten
B53: 6.3) Fuhrparkkosten
B54: 6.4) sonstige Verwaltungskosten
B55: 6.5) Schwerbehindertenabgabe
B56: 6.6) Betriebsratskosten
B57: 6.7) Sonstige Kosten (Verbandsbeiträge, Zertifizierung etc.)
B58: 6.8) Vorfinanzierung Sozialversicherungsbeiträge
B59: Zwischensumme unternehmensbezogene Kosten 6 | D59: =SUM(D51:D58) -> 0 | E59: =SUM(E51:E58) -> 0 | F59: =SUM(F51:F58) -> 0
B60: 7) Selbstkosten (Pos. 1 bis 6) | D60: =D41+D49+D59 -> 1 | E60: =E41+E49+E59 -> 1 | F60: =F41+F49+F59 -> 1
B61: 8) Gewerbesteuer
B62: 9) Zuschlag für Wagnis + Gewinn
B63: 10 a) Kalkulationszuschlag inkl. Fertigungslohn (Pos. 7 bis 9) | D63: =SUM(D60:D62) -> 1 | E63: =SUM(E60:E62) -> 1 | F63: =SUM(F60:F62) -> 1
B64: 10 b) Kalkulationszuschlag abzüglich Fertigungslohn | D64: =D63-D12 -> 0 | E64: =E63-E12 -> 0 | F64: =F63-F12 -> 0
B65: 10 c) Stundenverrechnungssatz werktags (in €) | D65: =$D$14*D63 -> 0 | E65: =$E$14*E63 -> 0 | F65: =$F$14*F63 -> 0
B66: Lohnkostenanteil | D66: =D41/D63 -> 1 | E66: =E41/E63 -> 1 | F66: =F41/F63 -> 1
B68: Geplante Gewichtung Mitarbeitereinsatz | D68: Voll-SV | E68: Midijob | F68: GV | G68: Kontrollfeld
G69: =D69+F69+E69 -> 0
B71: Durchschnittlicher Lohnkostenanteil aus Voll-SV, Midijob und GV | D71: =(D66*D69+F66*F69+E66*E69) -> 0
B72: Durchschnittlicher Kalkulationszuschlag aus Voll-SV, Midijob und GV | D72: =(D64*D69+F64*F69+E64*E69) -> 0 | G72: =F74 -> 0
B74: Durchschnittlicher Stundenverrechnungssatz AR aus Voll-SV, Midijob und GV (in €) - werktags - | F74: =(D65*D69+F65*F69+E65*E69) -> 0

Sheet 3.c) SVS OL
A1: . | B1: Kalkulation des Stundenverrechnungssatz Objektleitung (OL) -auftragsbezogen-
B3: Bieter: | C3: ='2.a) GPB'!C3:F3 -> 0
B5: Tage Urlaub pro Mitarbeiter und Jahr:
B6: durchschnittliche Tage Arbeitsfreistellung pro Mitarbeiter und Jahr:
B7: durchschnittliche Krankheitstage pro Mitarbeiter und Jahr:
B8: durchschnittliche Feiertage pro Jahr (Rheinland-Pfalz):
B10: Stundenlohn (in €)
B11: 1) Produktiver Stundenlohn für die einzusetzende Objektleitung unter Berücksichtigung der geforderten Berufserfahrung, Sprachkenntnis und Qualifikation gemäß den Angaben in der „Eigenerklärung zur Eignung und zu Ausschlussgründen“. | D11: 1
B12: 2) Sozialversicherung (Arbeitgeberanteil) - 2026
B13: 2.1) Krankenversicherung - inkl. kassenindividueller Zusatzbeitrag
B14: 2.2) Rentenversicherung
B15: 2.3) Arbeitslosenversicherung
B16: 2.4) Pflegeversicherung
B17: 2.5) U2 Mutterschaftsaufwendungen
B18: 2.6) U3 Insolvenzgeldumlage
B19: 2.7) Gesetzliche Unfallversicherung
B20: Summe Sozialversicherungsbeiträge 2 | D20: =SUM(D13:D19) -> 0
B21: 3) Lohnfolgekosten (Soziallöhne)
B22: 3.1) Gesetzliche Feiertage
B23: 3.1.1) Sozialversicherung auf Feiertage
B24: 3.2) Urlaubsentgelt
B25: 3.2.1) Sozialversicherung auf Urlaubsentgelt
B26: 3.3) Arbeitsfreistellung
B27: 3.3.1) Sozialversicherung auf Arbeitsfreistellung
B28: 3.4) Gesetzliche Lohnfortzahlung im Krankheitsfall
B29: 3.4.1) Sozialversicherung auf Lohnfortzahlung im Krankheitsfall
B30: 3.5) zusätzliches Urlaubsgeld
B31: 3.5.1) Sozialversicherung auf zusätzliches Urlaubsgeld
B32: Summe Sozialversicherungsbeiträge und Soziallöhne 2 und 3 | D32: =SUM(D20:D31) -> 0
B33: 4) Zusätzliche auftragsbezogene, lohngebundene Kosten
B34: 4.1) Sonstige Personalkosten z. B. Schulung und Einarbeitung
B35: 4.2) Haftpflichtversicherung
B36: Summe Lohn- und lohngebundene Kosten 1, 2, 3 und 4 | D36: =SUM(D34:D35)+D32+D11 -> 1
B37: 5) Sonstige auftragsbezogene Kosten
B38: 5.1) Qualitätssicherung
B39: 5.2) Arbeitskleidung
B40: 5.3) EDV + Mobilfunkkosten
B41: 5.4) Fuhrparkkosten
B42: Zwischensumme sonstige auftragsbezogene Kosten 5 | D42: =SUM(D38:D41) -> 0
B43: 6) Unternehmensbezogene Kosten
B44: 6.1) sonstige Verwaltungskosten
B45: 6.2) Schwerbehindertenabgabe
B46: 6.3) Betriebsratskosten
B47: 6.4) Sonstige Kosten (Verbandsbeiträge, Zertifizierung etc.)
B48: 6.5) Vorfinanzierung Sozialversicherungsbeiträge
B49: Zwischensumme unternehmensbezogene Kosten 6 | D49: =SUM(D44:D48) -> 0
B50: 7) Selbstkosten (Pos. 1 bis 6) | D50: =D36+D42+D49 -> 1
B51: 8) Gewerbesteuer
B52: 9) Zuschlag für Wagnis + Gewinn
B53: 10 a) Kalkulationszuschlag inkl. Fertigungslohn (Pos. 7 bis 9) | D53: =SUM(D50:D52) -> 1
B54: 10 b) Kalkulationszuschlag abzüglich Fertigungslohn | D54: =D53-D11 -> 0
B55: 10 c) Stundenverrechnungssatz werktags (in €) | D55: =$D$10*D53 -> 0
B56: Lohnkostenanteil | D56: =D36/D53 -> 1
B58: Stundenverrechnungssatz OL (in €) - werktags - | D58: =($D$10*D53) -> 0

Sheet 4.) Faktoren
A1: . | B1: Erläuterung der Faktoren für die Kalkulation in Tagen pro Jahr: Werkstatt Blechhammer
B3: Häufigkeit | C3: Turnus | D3: Anzahl Reinigungen/Jahr
B4: 1 x wöchentlich | C4: 1 | D4: 52
B6: Hinweise: - k. R. = keine regelmäßige Reinigung. - keine Schließzeit laut Gebäudenutzung
A20: . | B20: Erläuterung der Faktoren für die Kalkulation in Tagen pro Jahr: Werkstatt Lauterstr. 135
B22: Häufigkeit | C22: Turnus | D22: Anzahl Reinigungen/Jahr
B23: keine Reinigung | C23: k. R. | D23: 0
B24: 1 x wöchentlich | C24: 1 | D24: 50
B25: 2 x wöchentlich | C25: 2 | D25: 100
B26: 5 x wöchentlich | C26: 5 | D26: 242
B28: Hinweise: - k. R. = keine regelmäßige Reinigung. - 2 Schließwochen pro Jahr in den Monaten Juli/August - keine regelmäßige Reinigung während der Schließzeit
A48: . | B48: Erläuterung der Faktoren für die Kalkulation in Tagen pro Jahr: Villa Munzinger
B50: Häufigkeit | C50: Turnus | D50: Anzahl Reinigungen/Jahr
B51: keine Reinigung | C51: k. R. | D51: 0
B52: 1 x wöchentlich | C52: 1 | D52: 48
B53: 2 x wöchentlich | C53: 2 | D53: 96
B54: 5 x wöchentlich | C54: 5 | D54: 232
B56: Hinweise: - k. R. = keine regelmäßige Reinigung. - 4 Schließwochen pro Jahr in den Monaten Juli/August - keine regelmäßige Reinigung während der Schließzeit, außer am letzten werktäglichen Schließtag
A70: . | B70: Erläuterung der Faktoren für die Kalkulation in Tagen pro Jahr: Großes Haus, Probebühne III
B72: Häufigkeit | C72: Turnus | D72: Anzahl Reinigungen/Jahr
B73: keine Reinigung | C73: k. R. | D73: 0
B74: 1 x Quartal | C74: 1Q | D74: 4
B75: 1 x monatlich | C75: 1M | D75: 11
B76: 1 x wöchentlich | C76: 1 | D76: 46
B77: 2 x wöchentlich | C77: 2 | D77: 92
B78: 3 x wöchentlich | C78: 3 | D78: 138
B79: 5 x wöchentlich | C79: 5 | D79: 222
B80: 6 x wöchentlich | C80: 6 | D80: 268
B82: Hinweise: - k. R. = keine regelmäßige Reinigung. - 6 Wochen Theaterferien pro Jahr in den Monaten Juli/August - keine regelmäßige Reinigung während den Theaterferien, außer am letzten werktäglichen Schließtag - eventuell vereinzelte Reinigungen während der Theaterferien (Beauftragung nach Bedarf und gesonderter Abrechnung)

Sheet 5.) LST UR+AR
A1: . | B1: Raumgruppen mit Leistung m² pro Stunde
B2: Bitte tragen Sie pro Raumgruppe im Bereich der Unterhaltsreinigung auf der Grundlage der geforderten Leistungs-beschreibung und den objektspezifischen Anforderungen für die jeweilige Raumart, einen realistischen Leistungswert in die grünen Felder ein. Sie haben die Möglichkeit, in der/den einzelnen Objektkalkulation/en "6.) UR-01 bis UR-05" sowie "6.) AR-01 bis AR-02" den zugeordneten Leistungswert manuell pro Raum zu korrigieren, bzw. anzupassen, um ggf. der Raumgröße, dem Verschmutzungsgrad, der Bodenart, den Wege- und Rüstzeiten, Mindestarbeitszeiten, sowie speziellen Hygieneanforderungen und ggf. Individualleistungen gerecht zu werden. Die von Ihnen kalkulierten Leistungen m² pro Stunde und die daraus resultierenden produktiven Reinigungsstunden, werden ausdrücklich Vertragsgegenstand und sind zwingend zu erbringen und entsprechend elektronisch nachzuweisen.
B13: Bieter: | C13: {='2.a) GPB'!C3:C3} -> 0
B15: Raumgruppen Unterhalts- und Abrufreinigung | D15: Leistung m² pro Stunde
B16: A1 | C16: Aufenthaltsräume, Sozialräume, Teeküchen
B17: A2 | C17: Aufenthaltsräume, Sozialräume, Küchen, Teeküchen
B18: A5 | C18: Aufenthaltsräume, Sozialräume, Küchen, Teeküchen
B19: A6 | C19: Aufenthaltsräume, Sozialräume, Kantine, Küchen, Teeküchen
B20: C2 | C20: Büros, Besprechungsräume, Poststellen, Regieräume
B21: C6 | C21: Büros, Abo- und Vorverkaufskassen, Pförtner
B22: D2 | C22: Lager, Nebenräume, Wäschelager
B23: E6 | C23: Ballettsaal
B24: F1 | C24: Sanitäranlagen, WCs, Duschen
B25: F2 | C25: Sanitäranlagen, WCs
B26: F5 | C26: Sanitäranlagen, WCs, Duschen
B27: F6 | C27: Sanitäranlagen, Waschräume, WCs, Duschen
... B49: P-AR | C49: Probebühnen
B50: Z1 | C50: Reinigungsräume | D50: - - -
B51: k. R. | C51: keine regelmäßige Reinigung | D51: - - -

Sheet 6.) UR-01
A1: Bezirksverband Pfalz | D1: Objekt: | F1: Großes Haus | K1: Jahresreinigungsfläche gesamt: | O1: =I268 -> 878695.57
A2: Bismarckstraße 17, 67655 Kaiserslautern | D2: Adresse: | F2: Willy-Brandt-Platz 4+5; 67657 Kaiserslautern | K2: Grundfläche gesamt: | O2: =D268 -> 9174.31
D3: Leistung: | F3: Unterhaltsreinigung | K3: kalkulierte Monatskosten gesamt: | O3: =N268 -> #DIV/0!
D4: Bieter: | F4: ='2.a) GPB'!C3 -> 0 | K4: kalkulierte Monatsstunden gesamt: | O4: =L268 -> #DIV/0!
A6: Bemerkungen: | D6: - 6 Wochen Theaterferien pro Jahr in den Monaten Juli/August
D7: - keine regelmäßige Reinigung während den Theaterferien, außer am letzten werktäglichen Schließtag
D8: - eventuell vereinzelte Reinigungen während der Theaterferien (Beauftragung nach Bedarf und gesonderter Abrechnung)
D9: - Die Leistungserbringung muss hier werktags von Montag bis Samstag erfolgen
A11: Raum- nummer | B11: Raumbezeichnung | C11: Boden- art | D11: Grund- fläche | E11: Raum-gruppe | F11: Turnus | G11: Raum-gruppen-turnus | H11: Jahres- faktor | I11: Jahres- reinigungs- fläche m² | J11: Leistung m²/h | K11: Jahres- stunden | L11: Monats- stunden | M11: SVS UR | N11: Monats- kosten | O11: Bemerkung
A12: Ebene U1
A13: 4.10 | B13: Halle | C13: GUNO | D13: 54.72 | E13: H | F13: 6 | G13: =IF(F13="k. R.",E13,CONCATENATE(E13,F13)) -> H6 | H13: =VLOOKUP(F13,'4.) Faktoren'!$C$73:$D$80,2,0) -> 268 | I13: =D13*H13 -> 14664.96 | J13: =VLOOKUP(G13,'5.) LST UR+AR'!$B$16:$D$51,3,0) -> 0 | K13: =I13/J13 -> #DIV/0! | L13: =K13/12 -> #DIV/0! | M13: ='3.a) SVS UR'!$F$75 -> 0 | N13: =L13*M13 -> #DIV/0!
A14: 4.10 | B14: Stuhllager | C14: GUNO | D14: 20.85 | E14: D | F14: k. R. | G14: =IF(F14="k. R.",E14,CONCATENATE(E14,F14)) -> D
A15: 4.11 | B15: Eingangsbereich | C15: GUNO | D15: 70.59 | E15: G | F15: 6 | G15: =IF(F15="k. R.",E15,CONCATENATE(E15,F15)) -> G6 | H15: =VLOOKUP(F15,'4.) Faktoren'!$C$73:$D$80,2,0) -> 268 | I15: =D15*H15 -> 18918.12 | J15: =VLOOKUP(G15,'5.) LST UR+AR'!$B$16:$D$51,3,0) -> 0 | K15: =I15/J15 -> #DIV/0! | L15: =K15/12 -> #DIV/0! | M15: ='3.a) SVS UR'!$F$75 -> 0 | N15: =L15*M15 -> #DIV/0!
B16: Aufzug 1 | C16: L | D16: 5.72 | E16: G | F16: 2 | G16: =IF(F16="k. R.",E16,CONCATENATE(E16,F16)) -> G2 | H16: =VLOOKUP(F16,'4.) Faktoren'!$C$73:$D$80,2,0) -> 92 | I16: =D16*H16 -> 526.24 | J16: =VLOOKUP(G16,'5.) LST UR+AR'!$B$16:$D$51,3,0) -> 0 | K16: =I16/J16 -> #DIV/0! | L16: =K16/12 -> #DIV/0! | M16: ='3.a) SVS UR'!$F$75 -> 0 | N16: =L16*M16 -> #DIV/0!
A17: 4.12 | B17: Requisitenwerkstatt | C17: L | D17: 28.89 | E17: M | F17: 1M | G17: =IF(F17="k. R.",E17,CONCATENATE(E17,F17)) -> M1M | H17: =VLOOKUP(F17,'4.) Faktoren'!$C$73:$D$80,2,0) -> 11 | I17: =D17*H17 -> 317.79 | J17: =VLOOKUP(G17,'5.) LST UR+AR'!$B$16:$D$51,3,0) -> 0 | K17: =I17/J17 -> #DIV/0! | L17: =K17/12 -> #DIV/0! | M17: ='3.a) SVS UR'!$F$75 -> 0 | N17: =L17*M17 -> #DIV/0!
A18: 4.13 | B18: Tischlerei | C18: H | D18: 88.52 | E18: M | F18: 1M | G18: =IF(F18="k. R.",E18,CONCATENATE(E18,F18)) -> M1M | H18: =VLOOKUP(F18,'4.) Faktoren'!$C$73:$D$80,2,0) -> 11 | I18: =D18*H18 -> 973.72 | J18: =VLOOKUP(G18,'5.) LST UR+AR'!$B$16:$D$51,3,0) -> 0 | K18: =I18/J18 -> #DIV/0! | L18: =K18/12 -> #DIV/0! | M18: ='3.a) SVS UR'!$F$75 -> 0 | N18: =L18*M18 -> #DIV/0!
A19: 4.14 | B19: Schlosserei | C19: H | D19: 39.29 | E19: M | F19: 1M | G19: =IF(F19="k. R.",E19,CONCATENATE(E19,F19)) -> M1M | H19: =VLOOKUP(F19,'4.) Faktoren'!$C$73:$D$80,2,0) -> 11 | I19: =D19*H19 -> 432.19 | J19: =VLOOKUP(G19,'5.) LST UR+AR'!$B$16:$D$51,3,0) -> 0 | K19: =I19/J19 -> #DIV/0! | L19: =K19/12 -> #DIV/0! | M19: ='3.a) SVS UR'!$F$75 -> 0 | N19: =L19*M19 -> #DIV/0!
A20: 4.15 | B20: Tapezierwerkstatt | C20: H | D20: 19.85 | E20: M | F20: 1M | G20: =IF(F20="k. R.",E20,CONCATENATE(E20,F20)) -> M1M | H20: =VLOOKUP(F20,'4.) Faktoren'!$C$73:$D$80,2,0) -> 11 | I20: =D20*H20 -> 218.35 | J20: =VLOOKUP(G20,'5.) LST UR+AR'!$B$16:$D$51,3,0) -> 0 | K20: =I20/J20 -> #DIV/0! | L20: =K20/12 -> #DIV/0! | M20: ='3.a) SVS UR'!$F$75 -> 0 | N20: =L20*M20 -> #DIV/0!
A21: 4.15 | B21: Büro Tapezierwerkstatt | C21: H | D21: 17.68 | E21: C | F21: 2 | G21: =IF(F21="k. R.",E21,CONCATENATE(E21,F21)) -> C2 | H21: =VLOOKUP(F21,'4.) Faktoren'!$C$73:$D$80,2,0) -> 92 | I21: =D21*H21 -> 1626.56 | J21: =VLOOKUP(G21,'5.) LST UR+AR'!$B$16:$D$51,3,0) -> 0 | K21: =I21/J21 -> #DIV/0! | L21: =K21/12 -> #DIV/0! | M21: ='3.a) SVS UR'!$F$75 -> 0 | N21: =L21*M21 -> #DIV/0!
A22: 4.16 | B22: Elektrowerkstatt | C22: H | D22: 35.5 | E22: M | F22: 1M | G22: =IF(F22="k. R.",E22,CONCATENATE(E22,F22)) -> M1M | H22: =VLOOKUP(F22,'4.) Faktoren'!$C$73:$D$80,2,0) -> 11 | I22: =D22*H22 -> 390.5 | J22: =VLOOKUP(G22,'5.) LST UR+AR'!$B$16:$D$51,3,0) -> 0 | K22: =I22/J22 -> #DIV/0! | L22: =K22/12 -> #DIV/0! | M22: ='3.a) SVS UR'!$F$75 -> 0 | N22: =L22*M22 -> #DIV/0!
A23: 4.17 | B23: Flur | C23: L | D23: 55.16 | E23: H | F23: 6 | G23: =IF(F23="k. R.",E23,CONCATENATE(E23,F23)) -> H6 | H23: =VLOOKUP(F23,'4.) Faktoren'!$C$73:$D$80,2,0) -> 268 | I23: =D23*H23 -> 14782.88 | J23: =VLOOKUP(G23,'5.) LST UR+AR'!$B$16:$D$51,3,0) -> 0 | K23: =I23/J23 -> #DIV/0! | L23: =K23/12 -> #DIV/0! | M23: ='3.a) SVS UR'!$F$75 -> 0 | N23: =L23*M23 -> #DIV/0!
A24: 4.18 | B24: Büro Haustechnik | C24: L | D24: 33.47 | E24: C | F24: 2 | G24: =IF(F24="k. R.",E24,CONCATENATE(E24,F24)) -> C2 | H24: =VLOOKUP(F24,'4.) Faktoren'!$C$73:$D$80,2,0) -> 92 | I24: =D24*H24 -> 3079.24 | J24: =VLOOKUP(G24,'5.) LST UR+AR'!$B$16:$D$51,3,0) -> 0 | K24: =I24/J24 -> #DIV/0! | L24: =K24/12 -> #DIV/0! | M24: ='3.a) SVS UR'!$F$75 -> 0 | N24: =L24*M24 -> #DIV/0!
A25: 4.19 | B25: Aufenthalt/Umkleide Beleuchtung | C25: L | D25: 28.41 | E25: A | F25: 6 | G25: =IF(F25="k. R.",E25,CONCATENATE(E25,F25)) -> A6 | H25: =VLOOKUP(F25,'4.) Faktoren'!$C$73:$D$80,2,0) -> 268 | I25: =D25*H25 -> 7613.88 | J25: =VLOOKUP(G25,'5.) LST UR+AR'!$B$16:$D$51,3,0) -> 0 | K25: =I25/J25 -> #DIV/0! | L25: =K25/12 -> #DIV/0! | M25: ='3.a) SVS UR'!$F$75 -> 0 | N25: =L25*M25 -> #DIV/0!
A26: 4.20 | B26: Waschraum/Dusche Bühnenarbeiter | C26: FL | D26: 8.47 | E26: F | F26: 6 | G26: =IF(F26="k. R.",E26,CONCATENATE(E26,F26)) -> F6 | H26: =VLOOKUP(F26,'4.) Faktoren'!$C$73:$D$80,2,0) -> 268 | I26: =D26*H26 -> 2269.96 | J26: =VLOOKUP(G26,'5.) LST UR+AR'!$B$16:$D$51,3,0) -> 0 | K26: =I26/J26 -> #DIV/0! | L26: =K26/12 -> #DIV/0! | M26: ='3.a) SVS UR'!$F$75 -> 0 | N26: =L26*M26 -> #DIV/0!
A27: 4.21 | B27: Umkleide Damen | C27: L | D27: 24.19 | E27: I | F27: 6 | G27: =IF(F27="k. R.",E27,CONCATENATE(E27,F27)) -> I6 | H27: =VLOOKUP(F27,'4.) Faktoren'!$C$73:$D$80,2,0) -> 268 | I27: =D27*H27 -> 6482.92 | J27: =VLOOKUP(G27,'5.) LST UR+AR'!$B$16:$D$51,3,0) -> 0 | K27: =I27/J27 -> #DIV/0! | L27: =K27/12 -> #DIV/0! | M27: ='3.a) SVS UR'!$F$75 -> 0 | N27: =L27*M27 -> #DIV/0!
A28: 4.22 | B28: Dusche Damen | C28: FL | D28: 8.47 | E28: F | F28: 6 | G28: =IF(F28="k. R.",E28,CONCATENATE(E28,F28)) -> F6 | H28: =VLOOKUP(F28,'4.) Faktoren'!$C$73:$D$80,2,0) -> 268 | I28: =D28*H28 -> 2269.96 | J28: =VLOOKUP(G28,'5.) LST UR+AR'!$B$16:$D$51,3,0) -> 0 | K28: =I28/J28 -> #DIV/0! | L28: =K28/12 -> #DIV/0! | M28: ='3.a) SVS UR'!$F$75 -> 0 | N28: =L28*M28 -> #DIV/0!
A29: 4.23 | B29: Aufenthalt Technik | C29: L | D29: 30.15 | E29: A | F29: 6 | G29: =IF(F29="k. R.",E29,CONCATENATE(E29,F29)) -> A6 | H29: =VLOOKUP(F29,'4.) Faktoren'!$C$73:$D$80,2,0) -> 268 | I29: =D29*H29 -> 8080.2 | J29: =VLOOKUP(G29,'5.) LST UR+AR'!$B$16:$D$51,3,0) -> 0 | K29: =I29/J29 -> #DIV/0! | L29: =K29/12 -> #DIV/0! | M29: ='3.a) SVS UR'!$F$75 -> 0 | N29: =L29*M29 -> #DIV/0!
A30: 4.23.1 | B30: Aufenthalt Raucher | C30: L | D30: 13.75 | E30: A | F30: 6 | G30: =IF(F30="k. R.",E30,CONCATENATE(E30,F30)) -> A6 | H30: =VLOOKUP(F30,'4.) Faktoren'!$C$73:$D$80,2,0) -> 268 | I30: =D30*H30 -> 3685 | J30: =VLOOKUP(G30,'5.) LST UR+AR'!$B$16:$D$51,3,0) -> 0 | K30: =I30/J30 -> #DIV/0! | L30: =K30/12 -> #DIV/0! | M30: ='3.a) SVS UR'!$F$75 -> 0 | N30: =L30*M30 -> #DIV/0!
A31: 4.24.1 | B31: Umkleide | C31: L | D31: 24.92 | E31: I | F31: 6 | G31: =IF(F31="k. R.",E31,CONCATENATE(E31,F31)) -> I6 | H31: =VLOOKUP(F31,'4.) Faktoren'!$C$73:$D$80,2,0) -> 268 | I31: =D31*H31 -> 6678.56 | J31: =VLOOKUP(G31,'5.) LST UR+AR'!$B$16:$D$51,3,0) -> 0 | K31: =I31/J31 -> #DIV/0! | L31: =K31/12 -> #DIV/0! | M31: ='3.a) SVS UR'!$F$75 -> 0 | N31: =L31*M31 -> #DIV/0!
A32: 4.24 | B32: Dusche | C32: FL | D32: 19.18 | E32: F | F32: 6 | G32: =IF(F32="k. R.",E32,CONCATENATE(E32,F32)) -> F6 | H32: =VLOOKUP(F32,'4.) Faktoren'!$C$73:$D$80,2,0) -> 268 | I32: =D32*H32 -> 5140.24 | J32: =VLOOKUP(G32,'5.) LST UR+AR'!$B$16:$D$51,3,0) -> 0 | K32: =I32/J32 -> #DIV/0! | L32: =K32/12 -> #DIV/0! | M32: ='3.a) SVS UR'!$F$75 -> 0 | N32: =L32*M32 -> #DIV/0!
A33: 4.25 | B33: WC Herren | C33: FL | D33: 13.9 | E33: F | F33: 6 | G33: =IF(F33="k. R.",E33,CONCATENATE(E33,F33)) -> F6 | H33: =VLOOKUP(F33,'4.) Faktoren'!$C$73:$D$80,2,0) -> 268 | I33: =D33*H33 -> 3725.2 | J33: =VLOOKUP(G33,'5.) LST UR+AR'!$B$16:$D$51,3,0) -> 0 | K33: =I33/J33 -> #DIV/0! | L33: =K33/12 -> #DIV/0! | M33: ='3.a) SVS UR'!$F$75 -> 0 | N33: =L33*M33 -> #DIV/0!
A34: 4.26 | B34: WC Damen | C34: FL | D34: 9.79 | E34: F | F34: 6 | G34: =IF(F34="k. R.",E34,CONCATENATE(E34,F34)) -> F6 | H34: =VLOOKUP(F34,'4.) Faktoren'!$C$73:$D$80,2,0) -> 268 | I34: =D34*H34 -> 2623.72 | J34: =VLOOKUP(G34,'5.) LST UR+AR'!$B$16:$D$51,3,0) -> 0 | K34: =I34/J34 -> #DIV/0! | L34: =K34/12 -> #DIV/0! | M34: ='3.a) SVS UR'!$F$75 -> 0 | N34: =L34*M34 -> #DIV/0!
A35: 4.27 | B35: Reinigungsraum Eigenreinigung | C35: FL | D35: 4.02 | E35: Z | F35: k. R. | G35: =IF(F35="k. R.",E35,CONCATENATE(E35,F35)) -> Z | O35: Eigenreinigung
A36: 4.28 | B36: Pförtner | C36: L | D36: 23.44 | E36: C | F36: 6 | G36: =IF(F36="k. R.",E36,CONCATENATE(E36,F36)) -> C6 | H36: =VLOOKUP(F36,'4.) Faktoren'!$C$73:$D$80,2,0) -> 268 | I36: =D36*H36 -> 6281.92 | J36: =VLOOKUP(G36,'5.) LST UR+AR'!$B$16:$D$51,3,0) -> 0 | K36: =I36/J36 -> #DIV/0! | L36: =K36/12 -> #DIV/0! | M36: ='3.a) SVS UR'!$F$75 -> 0 | N36: =L36*M36 -> #DIV/0!
A37: 4.29 | B37: Flur | C37: L | D37: 46.61 | E37: H | F37: 6 | G37: =IF(F37="k. R.",E37,CONCATENATE(E37,F37)) -> H6 | H37: =VLOOKUP(F37,'4.) Faktoren'!$C$73:$D$80,2,0) -> 268 | I37: =D37*H37 -> 12491.48 | J37: =VLOOKUP(G37,'5.) LST UR+AR'!$B$16:$D$51,3,0) -> 0 | K37: =I37/J37 -> #DIV/0! | L37: =K37/12 -> #DIV/0! | M37: ='3.a) SVS UR'!$F$75 -> 0 | N37: =L37*M37 -> #DIV/0!
A38: 4.30 | B38: Hausinspektoren | C38: L | D38: 18.21 | E38: C | F38: 2 | G38: =IF(F38="k. R.",E38,CONCATENATE(E38,F38)) -> C2 | H38: =VLOOKUP(F38,'4.) Faktoren'!$C$73:$D$80,2,0) -> 92 | I38: =D38*H38 -> 1675.32 | J38: =VLOOKUP(G38,'5.) LST UR+AR'!$B$16:$D$51,3,0) -> 0 | K38: =I38/J38 -> #DIV/0! | L38: =K38/12 -> #DIV/0! | M38: ='3.a) SVS UR'!$F$75 -> 0 | N38: =L38*M38 -> #DIV/0!
A39: 4.31 | B39: Serverraum | C39: L | D39: 11.35 | E39: D | F39: k. R. | G39: =IF(F39="k. R.",E39,CONCATENATE(E39,F39)) -> D
B40: Kostümfundus | C40: L | D40: 29.63 | E40: D | F40: k. R. | G40: =IF(F40="k. R.",E40,CONCATENATE(E40,F40)) -> D
A41: 4.32 | B41: Elektroraum | C41: L | D41: 8.46 | E41: D | F41: k. R. | G41: =IF(F41="k. R.",E41,CONCATENATE(E41,F41)) -> D
A42: 4.33 | B42: Flur | C42: L | D42: 55.44 | E42: H | F42: 2 | G42: =IF(F42="k. R.",E42,CONCATENATE(E42,F42)) -> H2 | H42: =VLOOKUP(F42,'4.) Faktoren'!$C$73:$D$80,2,0) -> 92 | I42: =D42*H42 -> 5100.48 | J42: =VLOOKUP(G42,'5.) LST UR+AR'!$B$16:$D$51,3,0) -> 0 | K42: =I42/J42 -> #DIV/0! | L42: =K42/12 -> #DIV/0! | M42: ='3.a) SVS UR'!$F$75 -> 0 | N42: =L42*M42 -> #DIV/0!
A43: 4.34 | B43: Stimmzimmer I | C43: T | D43: 63.14 | E43: K | F43: 2 | G43: =IF(F43="k. R.",E43,CONCATENATE(E43,F43)) -> K2 | H43: =VLOOKUP(F43,'4.) Faktoren'!$C$73:$D$80,2,0) -> 92 | I43: =D43*H43 -> 5808.88 | J43: =VLOOKUP(G43,'5.) LST UR+AR'!$B$16:$D$51,3,0) -> 0 | K43: =I43/J43 -> #DIV/0! | L43: =K43/12 -> #DIV/0! | M43: ='3.a) SVS UR'!$F$75 -> 0 | N43: =L43*M43 -> #DIV/0!
A44: 4.35 | B44: Stimmzimmer II | C44: T | D44: 33.86 | E44: K | F44: 2 | G44: =IF(F44="k. R.",E44,CONCATENATE(E44,F44)) -> K2 | H44: =VLOOKUP(F44,'4.) Faktoren'!$C$73:$D$80,2,0) -> 92 | I44: =D44*H44 -> 3115.12 | J44: =VLOOKUP(G44,'5.) LST UR+AR'!$B$16:$D$51,3,0) -> 0 | K44: =I44/J44 -> #DIV/0! | L44: =K44/12 -> #DIV/0! | M44: ='3.a) SVS UR'!$F$75 -> 0 | N44: =L44*M44 -> #DIV/0!
A45: 4.36 | B45: Stimmzimmer III | C45: T | D45: 53.99 | E45: K | F45: 2 | G45: =IF(F45="k. R.",E45,CONCATENATE(E45,F45)) -> K2 | H45: =VLOOKUP(F45,'4.) Faktoren'!$C$73:$D$80,2,0) -> 92 | I45: =D45*H45 -> 4967.08 | J45: =VLOOKUP(G45,'5.) LST UR+AR'!$B$16:$D$51,3,0) -> 0 | K45: =I45/J45 -> #DIV/0! | L45: =K45/12 -> #DIV/0! | M45: ='3.a) SVS UR'!$F$75 -> 0 | N45: =L45*M45 -> #DIV/0!
A46: 4.45 | B46: Instrumente | C46: L | D46: 8.46 | E46: D | F46: k. R. | G46: =IF(F46="k. R.",E46,CONCATENATE(E46,F46)) -> D
A47: 4.46 | B47: Abobüro | C47: L | D47: 18.21 | E47: C | F47: 2 | G47: =IF(F47="k. R.",E47,CONCATENATE(E47,F47)) -> C2 | H47: =VLOOKUP(F47,'4.) Faktoren'!$C$73:$D$80,2,0) -> 92 | I47: =D47*H47 -> 1675.32 | J47: =VLOOKUP(G47,'5.) LST UR+AR'!$B$16:$D$51,3,0) -> 0 | K47: =I47/J47 -> #DIV/0! | L47: =K47/12 -> #DIV/0! | M47: ='3.a) SVS UR'!$F$75 -> 0 | N47: =L47*M47 -> #DIV/0!
A48: 4.47 | B48: Büro Marketing | C48: L | D48: 18.05 | E48: C | F48: 2 | G48: =IF(F48="k. R.",E48,CONCATENATE(E48,F48)) -> C2 | H48: =VLOOKUP(F48,'4.) Faktoren'!$C$73:$D$80,2,0) -> 92 | I48: =D48*H48 -> 1660.6 | J48: =VLOOKUP(G48,'5.) LST UR+AR'!$B$16:$D$51,3,0) -> 0 | K48: =I48/J48 -> #DIV/0! | L48: =K48/12 -> #DIV/0! | M48: ='3.a) SVS UR'!$F$75 -> 0 | N48: =L48*M48 -> #DIV/0!
A49: 4.49 | B49: Orchestergraben | C49: H | D49: 124.49 | E49: P | F49: k. R. | G49: =IF(F49="k. R.",E49,CONCATENATE(E49,F49)) -> P
A50: 4.55 | B50: Vorverkaufskasse | C50: NAST | D50: 10.23 | E50: C | F50: 6 | G50: =IF(F50="k. R.",E50,CONCATENATE(E50,F50)) -> C6 | H50: =VLOOKUP(F50,'4.) Faktoren'!$C$73:$D$80,2,0) -> 268 | I50: =D50*H50 -> 2741.64 | J50: =VLOOKUP(G50,'5.) LST UR+AR'!$B$16:$D$51,3,0) -> 0 | K50: =I50/J50 -> #DIV/0! | L50: =K50/12 -> #DIV/0! | M50: ='3.a) SVS UR'!$F$75 -> 0 | N50: =L50*M50 -> #DIV/0!
A51: 4.57 | B51: Abokasse | C51: NAST | D51: 10.23 | E51: C | F51: 6 | G51: =IF(F51="k. R.",E51,CONCATENATE(E51,F51)) -> C6 | H51: =VLOOKUP(F51,'4.) Faktoren'!$C$73:$D$80,2,0) -> 268 | I51: =D51*H51 -> 2741.64 | J51: =VLOOKUP(G51,'5.) LST UR+AR'!$B$16:$D$51,3,0) -> 0 | K51: =I51/J51 -> #DIV/0! | L51: =K51/12 -> #DIV/0! | M51: ='3.a) SVS UR'!$F$75 -> 0 | N51: =L51*M51 -> #DIV/0!
A52: 4.59 | B52: WC Damen | C52: NAST | D52: 32.61 | E52: F | F52: k. R. | G52: =IF(F52="k. R.",E52,CONCATENATE(E52,F52)) -> F | O52: Eigenreinigung
A53: 4.60 | B53: WC Herren | C53: NAST | D53: 27.36 | E53: F | F53: k. R. | G53: =IF(F53="k. R.",E53,CONCATENATE(E53,F53)) -> F | O53: Eigenreinigung
A54: 4.61 | B54: WC Behinderte | C54: FL | D54: 3.89 | E54: F | F54: k. R. | G54: =IF(F54="k. R.",E54,CONCATENATE(E54,F54)) -> F | O54: Eigenreinigung
A55: 4.62 | B55: Flur inkl. Stufen | C55: FL | D55: 29.54 | E55: H | F55: 2 | G55: =IF(F55="k. R.",E55,CONCATENATE(E55,F55)) -> H2 | H55: =VLOOKUP(F55,'4.) Faktoren'!$C$73:$D$80,2,0) -> 92 | I55: =D55*H55 -> 2717.68 | J55: =VLOOKUP(G55,'5.) LST UR+AR'!$B$16:$D$51,3,0) -> 0 | K55: =I55/J55 -> #DIV/0! | L55: =K55/12 -> #DIV/0! | M55: ='3.a) SVS UR'!$F$75 -> 0 | N55: =L55*M55 -> #DIV/0!
A56: 4.63 | B56: Elektroraum | C56: L | D56: 6.4 | E56: D | F56: k. R. | G56: =IF(F56="k. R.",E56,CONCATENATE(E56,F56)) -> D
A57: 4.53 | B57: Unteres Foyer (mit großem Spiegel) | C57: NAST | D57: 653.51 | E57: H | F57: k. R. | G57: =IF(F57="k. R.",E57,CONCATENATE(E57,F57)) -> H | O57: Eigenreinigung
B58: Aufzug 2 | C58: FL | D58: 2.09 | E58: G | F58: k. R. | G58: =IF(F58="k. R.",E58,CONCATENATE(E58,F58)) -> G | O58: Eigenreinigung
A59: 4.56 | B59: Eingang/Windfang | C59: NAST | D59: 69.22 | E59: G | F59: 6 | G59: =IF(F59="k. R.",E59,CONCATENATE(E59,F59)) -> G6 | H59: =VLOOKUP(F59,'4.) Faktoren'!$C$73:$D$80,2,0) -> 268 | I59: =D59*H59 -> 18550.96 | J59: =VLOOKUP(G59,'5.) LST UR+AR'!$B$16:$D$51,3,0) -> 0 | K59: =I59/J59 -> #DIV/0! | L59: =K59/12 -> #DIV/0! | M59: ='3.a) SVS UR'!$F$75 -> 0 | N59: =L59*M59 -> #DIV/0!
A60: Summe Ebene U1 | D60: =SUM(D13:D59) -> 2013.91
A61: Ebene 0
A62: 5.1 | B62: Vorraum | C62: L | D62: 8.76 | E62: G | F62: k. R. | G62: =IF(F62="k. R.",E62,CONCATENATE(E62,F62)) -> G | O62: Eigenreinigung
B63: Aufzug 3 | C63: FL | D63: 1.53 | E63: G | F63: k. R. | G63: =IF(F63="k. R.",E63,CONCATENATE(E63,F63)) -> G | O63: Eigenreinigung
A64: 5.2 | B64: Foyer Werkstattbühne | C64: L | D64: 31.09 | E64: H | F64: k. R. | G64: =IF(F64="k. R.",E64,CONCATENATE(E64,F64)) -> H | O64: Eigenreinigung
A65: 5.2a | B65: Flur | C65: L | D65: 20.72 | E65: H | F65: 6 | G65: =IF(F65="k. R.",E65,CONCATENATE(E65,F65)) -> H6 | H65: =VLOOKUP(F65,'4.) Faktoren'!$C$73:$D$80,2,0) -> 268 | I65: =D65*H65 -> 5552.96 | J65: =VLOOKUP(G65,'5.) LST UR+AR'!$B$16:$D$51,3,0) -> 0 | K65: =I65/J65 -> #DIV/0! | L65: =K65/12 -> #DIV/0! | M65: ='3.a) SVS UR'!$F$75 -> 0 | N65: =L65*M65 -> #DIV/0!
A66: 5.3 | B66: WC Behinderten | C66: FL | D66: 4.67 | E66: F | F66: 6 | G66: =IF(F66="k. R.",E66,CONCATENATE(E66,F66)) -> F6 | H66: =VLOOKUP(F66,'4.) Faktoren'!$C$73:$D$80,2,0) -> 268 | I66: =D66*H66 -> 1251.56 | J66: =VLOOKUP(G66,'5.) LST UR+AR'!$B$16:$D$51,3,0) -> 0 | K66: =I66/J66 -> #DIV/0! | L66: =K66/12 -> #DIV/0! | M66: ='3.a) SVS UR'!$F$75 -> 0 | N66: =L66*M66 -> #DIV/0!
A67: 5.4 | B67: WC Damen | C67: FL | D67: 8.47 | E67: F | F67: 6 | G67: =IF(F67="k. R.",E67,CONCATENATE(E67,F67)) -> F6 | H67: =VLOOKUP(F67,'4.) Faktoren'!$C$73:$D$80,2,0) -> 268 | I67: =D67*H67 -> 2269.96 | J67: =VLOOKUP(G67,'5.) LST UR+AR'!$B$16:$D$51,3,0) -> 0 | K67: =I67/J67 -> #DIV/0! | L67: =K67/12 -> #DIV/0! | M67: ='3.a) SVS UR'!$F$75 -> 0 | N67: =L67*M67 -> #DIV/0!
A68: 5.5 | B68: WC Herren | C68: FL | D68: 10.66 | E68: F | F68: 6 | G68: =IF(F68="k. R.",E68,CONCATENATE(E68,F68)) -> F6 | H68: =VLOOKUP(F68,'4.) Faktoren'!$C$73:$D$80,2,0) -> 268 | I68: =D68*H68 -> 2856.88 | J68: =VLOOKUP(G68,'5.) LST UR+AR'!$B$16:$D$51,3,0) -> 0 | K68: =I68/J68 -> #DIV/0! | L68: =K68/12 -> #DIV/0! | M68: ='3.a) SVS UR'!$F$75 -> 0 | N68: =L68*M68 -> #DIV/0!
A69: 5.6 | B69: Flur | C69: L | D69: 43.88 | E69: H | F69: 6 | G69: =IF(F69="k. R.",E69,CONCATENATE(E69,F69)) -> H6 | H69: =VLOOKUP(F69,'4.) Faktoren'!$C$73:$D$80,2,0) -> 268 | I69: =D69*H69 -> 11759.84 | J69: =VLOOKUP(G69,'5.) LST UR+AR'!$B$16:$D$51,3,0) -> 0 | K69: =I69/J69 -> #DIV/0! | L69: =K69/12 -> #DIV/0! | M69: ='3.a) SVS UR'!$F$75 -> 0 | N69: =L69*M69 -> #DIV/0!
A70: 5.7 | B70: Werkstattbühne | C70: BÜBO | D70: 310 | E70: P | F70: k. R. | G70: =IF(F70="k. R.",E70,CONCATENATE(E70,F70)) -> P | O70: Eigenreinigung
A71: 5.8 | B71: Probebühne II | C71: BÜBO | D71: 211.3 | E71: P | F71: k. R. | G71: =IF(F71="k. R.",E71,CONCATENATE(E71,F71)) -> P | O71: nur Abrufreinigung
A72: 5.9 | B72: Umkleide Solo Damen | C72: L | D72: 10.59 | E72: I | F72: 6 | G72: =IF(F72="k. R.",E72,CONCATENATE(E72,F72)) -> I6 | H72: =VLOOKUP(F72,'4.) Faktoren'!$C$73:$D$80,2,0) -> 268 | I72: =D72*H72 -> 2838.12 | J72: =VLOOKUP(G72,'5.) LST UR+AR'!$B$16:$D$51,3,0) -> 0 | K72: =I72/J72 -> #DIV/0! | L72: =K72/12 -> #DIV/0! | M72: ='3.a) SVS UR'!$F$75 -> 0 | N72: =L72*M72 -> #DIV/0!
A73: 5.10 | B73: Sanitärbereich | C73: FL | D73: 3.88 | E73: F | F73: 6 | G73: =IF(F73="k. R.",E73,CONCATENATE(E73,F73)) -> F6 | H73: =VLOOKUP(F73,'4.) Faktoren'!$C$73:$D$80,2,0) -> 268 | I73: =D73*H73 -> 1039.84 | J73: =VLOOKUP(G73,'5.) LST UR+AR'!$B$16:$D$51,3,0) -> 0 | K73: =I73/J73 -> #DIV/0! | L73: =K73/12 -> #DIV/0! | M73: ='3.a) SVS UR'!$F$75 -> 0 | N73: =L73*M73 -> #DIV/0!
A74: 5.11 | B74: Umkleide Solo Damen | C74: L | D74: 10.57 | E74: I | F74: 6 | G74: =IF(F74="k. R.",E74,CONCATENATE(E74,F74)) -> I6 | H74: =VLOOKUP(F74,'4.) Faktoren'!$C$73:$D$80,2,0) -> 268 | I74: =D74*H74 -> 2832.76 | J74: =VLOOKUP(G74,'5.) LST UR+AR'!$B$16:$D$51,3,0) -> 0 | K74: =I74/J74 -> #DIV/0! | L74: =K74/12 -> #DIV/0! | M74: ='3.a) SVS UR'!$F$75 -> 0 | N74: =L74*M74 -> #DIV/0!
A75: 5.12 | B75: Umkleide Solo Damen | C75: L | D75: 10.57 | E75: I | F75: 6 | G75: =IF(F75="k. R.",E75,CONCATENATE(E75,F75)) -> I6 | H75: =VLOOKUP(F75,'4.) Faktoren'!$C$73:$D$80,2,0) -> 268 | I75: =D75*H75 -> 2832.76 | J75: =VLOOKUP(G75,'5.) LST UR+AR'!$B$16:$D$51,3,0) -> 0 | K75: =I75/J75 -> #DIV/0! | L75: =K75/12 -> #DIV/0! | M75: ='3.a) SVS UR'!$F$75 -> 0 | N75: =L75*M75 -> #DIV/0!
A76: 5.13 | B76: Sanitärbereich | C76: FL | D76: 3.88 | E76: F | F76: 6 | G76: =IF(F76="k. R.",E76,CONCATENATE(E76,F76)) -> F6 | H76: =VLOOKUP(F76,'4.) Faktoren'!$C$73:$D$80,2,0) -> 268 | I76: =D76*H76 -> 1039.84 | J76: =VLOOKUP(G76,'5.) LST UR+AR'!$B$16:$D$51,3,0) -> 0 | K76: =I76/J76 -> #DIV/0! | L76: =K76/12 -> #DIV/0! | M76: ='3.a) SVS UR'!$F$75 -> 0 | N76: =L76*M76 -> #DIV/0!
A77: 5.14 | B77: Umkleide Solo Damen | C77: L | D77: 10.57 | E77: I | F77: 6 | G77: =IF(F77="k. R.",E77,CONCATENATE(E77,F77)) -> I6 | H77: =VLOOKUP(F77,'4.) Faktoren'!$C$73:$D$80,2,0) -> 268 | I77: =D77*H77 -> 2832.76 | J77: =VLOOKUP(G77,'5.) LST UR+AR'!$B$16:$D$51,3,0) -> 0 | K77: =I77/J77 -> #DIV/0! | L77: =K77/12 -> #DIV/0! | M77: ='3.a) SVS UR'!$F$75 -> 0 | N77: =L77*M77 -> #DIV/0!
A78: 5.15 | B78: Umkleide Solo Gast | C78: L | D78: 13 | E78: I | F78: 6 | G78: =IF(F78="k. R.",E78,CONCATENATE(E78,F78)) -> I6 | H78: =VLOOKUP(F78,'4.) Faktoren'!$C$73:$D$80,2,0) -> 268 | I78: =D78*H78 -> 3484 | J78: =VLOOKUP(G78,'5.) LST UR+AR'!$B$16:$D$51,3,0) -> 0 | K78: =I78/J78 -> #DIV/0! | L78: =K78/12 -> #DIV/0! | M78: ='3.a) SVS UR'!$F$75 -> 0 | N78: =L78*M78 -> #DIV/0!
A79: 5.16 | B79: Sanitärbereich | C79: FL | D79: 3.88 | E79: F | F79: 6 | G79: =IF(F79="k. R.",E79,CONCATENATE(E79,F79)) -> F6 | H79: =VLOOKUP(F79,'4.) Faktoren'!$C$73:$D$80,2,0) -> 268 | I79: =D79*H79 -> 1039.84 | J79: =VLOOKUP(G79,'5.) LST UR+AR'!$B$16:$D$51,3,0) -> 0 | K79: =I79/J79 -> #DIV/0! | L79: =K79/12 -> #DIV/0! | M79: ='3.a) SVS UR'!$F$75 -> 0 | N79: =L79*M79 -> #DIV/0!
A80: 5.17 | B80: Halle | C80: L | D80: 75.92 | E80: H | F80: 6 | G80: =IF(F80="k. R.",E80,CONCATENATE(E80,F80)) -> H6 | H80: =VLOOKUP(F80,'4.) Faktoren'!$C$73:$D$80,2,0) -> 268 | I80: =D80*H80 -> 20346.56 | J80: =VLOOKUP(G80,'5.) LST UR+AR'!$B$16:$D$51,3,0) -> 0 | K80: =I80/J80 -> #DIV/0! | L80: =K80/12 -> #DIV/0! | M80: ='3.a) SVS UR'!$F$75 -> 0 | N80: =L80*M80 -> #DIV/0!
A81: 5.18 | B81: Flur | C81: L | D81: 55.16 | E81: H | F81: 6 | G81: =IF(F81="k. R.",E81,CONCATENATE(E81,F81)) -> H6 | H81: =VLOOKUP(F81,'4.) Faktoren'!$C$73:$D$80,2,0) -> 268 | I81: =D81*H81 -> 14782.88 | J81: =VLOOKUP(G81,'5.) LST UR+AR'!$B$16:$D$51,3,0) -> 0 | K81: =I81/J81 -> #DIV/0! | L81: =K81/12 -> #DIV/0! | M81: ='3.a) SVS UR'!$F$75 -> 0 | N81: =L81*M81 -> #DIV/0!
A82: 5.19 | B82: Umkleide Chor Damen | C82: L | D82: 22.19 | E82: I | F82: 6 | G82: =IF(F82="k. R.",E82,CONCATENATE(E82,F82)) -> I6 | H82: =VLOOKUP(F82,'4.) Faktoren'!$C$73:$D$80,2,0) -> 268 | I82: =D82*H82 -> 5946.92 | J82: =VLOOKUP(G82,'5.) LST UR+AR'!$B$16:$D$51,3,0) -> 0 | K82: =I82/J82 -> #DIV/0! | L82: =K82/12 -> #DIV/0! | M82: ='3.a) SVS UR'!$F$75 -> 0 | N82: =L82*M82 -> #DIV/0!
A83: 5.19a | B83: Abstellraum | C83: L | D83: 10.82 | E83: D | F83: k. R. | G83: =IF(F83="k. R.",E83,CONCATENATE(E83,F83)) -> D
A84: 5.20 | B84: Vorraum | C84: L | D84: 4.27 | E84: G | F84: 6 | G84: =IF(F84="k. R.",E84,CONCATENATE(E84,F84)) -> G6 | H84: =VLOOKUP(F84,'4.) Faktoren'!$C$73:$D$80,2,0) -> 268 | I84: =D84*H84 -> 1144.36 | J84: =VLOOKUP(G84,'5.) LST UR+AR'!$B$16:$D$51,3,0) -> 0 | K84: =I84/J84 -> #DIV/0! | L84: =K84/12 -> #DIV/0! | M84: ='3.a) SVS UR'!$F$75 -> 0 | N84: =L84*M84 -> #DIV/0!
A85: 5.21 | B85: Umkleide Chor Damen | C85: L | D85: 23.93 | E85: I | F85: 6 | G85: =IF(F85="k. R.",E85,CONCATENATE(E85,F85)) -> I6 | H85: =VLOOKUP(F85,'4.) Faktoren'!$C$73:$D$80,2,0) -> 268 | I85: =D85*H85 -> 6413.24 | J85: =VLOOKUP(G85,'5.) LST UR+AR'!$B$16:$D$51,3,0) -> 0 | K85: =I85/J85 -> #DIV/0! | L85: =K85/12 -> #DIV/0! | M85: ='3.a) SVS UR'!$F$75 -> 0 | N85: =L85*M85 -> #DIV/0!
A86: 5.22 | B86: Dusche | C86: FL | D86: 8.01 | E86: F | F86: 6 | G86: =IF(F86="k. R.",E86,CONCATENATE(E86,F86)) -> F6 | H86: =VLOOKUP(F86,'4.) Faktoren'!$C$73:$D$80,2,0) -> 268 | I86: =D86*H86 -> 2146.68 | J86: =VLOOKUP(G86,'5.) LST UR+AR'!$B$16:$D$51,3,0) -> 0 | K86: =I86/J86 -> #DIV/0! | L86: =K86/12 -> #DIV/0! | M86: ='3.a) SVS UR'!$F$75 -> 0 | N86: =L86*M86 -> #DIV/0!
A87: 5.23 | B87: Vorraum | C87: L | D87: 4.49 | E87: G | F87: 6 | G87: =IF(F87="k. R.",E87,CONCATENATE(E87,F87)) -> G6 | H87: =VLOOKUP(F87,'4.) Faktoren'!$C$73:$D$80,2,0) -> 268 | I87: =D87*H87 -> 1203.32 | J87: =VLOOKUP(G87,'5.) LST UR+AR'!$B$16:$D$51,3,0) -> 0 | K87: =I87/J87 -> #DIV/0! | L87: =K87/12 -> #DIV/0! | M87: ='3.a) SVS UR'!$F$75 -> 0 | N87: =L87*M87 -> #DIV/0!
A88: 5.24 | B88: Dusche | C88: FL | D88: 8.01 | E88: F | F88: 6 | G88: =IF(F88="k. R.",E88,CONCATENATE(E88,F88)) -> F6 | H88: =VLOOKUP(F88,'4.) Faktoren'!$C$73:$D$80,2,0) -> 268 | I88: =D88*H88 -> 2146.68 | J88: =VLOOKUP(G88,'5.) LST UR+AR'!$B$16:$D$51,3,0) -> 0 | K88: =I88/J88 -> #DIV/0! | L88: =K88/12 -> #DIV/0! | M88: ='3.a) SVS UR'!$F$75 -> 0 | N88: =L88*M88 -> #DIV/0!
A89: 5.24.1 | B89: Umkleide Extra Chor Damen | C89: L | D89: 19.48 | E89: I | F89: 6 | G89: =IF(F89="k. R.",E89,CONCATENATE(E89,F89)) -> I6 | H89: =VLOOKUP(F89,'4.) Faktoren'!$C$73:$D$80,2,0) -> 268 | I89: =D89*H89 -> 5220.64 | J89: =VLOOKUP(G89,'5.) LST UR+AR'!$B$16:$D$51,3,0) -> 0 | K89: =I89/J89 -> #DIV/0! | L89: =K89/12 -> #DIV/0! | M89: ='3.a) SVS UR'!$F$75 -> 0 | N89: =L89*M89 -> #DIV/0!
A90: 5.25 | B90: Probe Ensemble | C90: L | D90: 30.8 | E90: K | F90: 6 | G90: =IF(F90="k. R.",E90,CONCATENATE(E90,F90)) -> K6 | H90: =VLOOKUP(F90,'4.) Faktoren'!$C$73:$D$80,2,0) -> 268 | I90: =D90*H90 -> 8254.4 | J90: =VLOOKUP(G90,'5.) LST UR+AR'!$B$16:$D$51,3,0) -> 0 | K90: =I90/J90 -> #DIV/0! | L90: =K90/12 -> #DIV/0! | M90: ='3.a) SVS UR'!$F$75 -> 0 | N90: =L90*M90 -> #DIV/0!
A91: 5.26 | B91: Büro Aufenthalt Ankleider | C91: L | D91: 13.35 | E91: C | F91: 6 | G91: =IF(F91="k. R.",E91,CONCATENATE(E91,F91)) -> C6 | H91: =VLOOKUP(F91,'4.) Faktoren'!$C$73:$D$80,2,0) -> 268 | I91: =D91*H91 -> 3577.8 | J91: =VLOOKUP(G91,'5.) LST UR+AR'!$B$16:$D$51,3,0) -> 0 | K91: =I91/J91 -> #DIV/0! | L91: =K91/12 -> #DIV/0! | M91: ='3.a) SVS UR'!$F$75 -> 0 | N91: =L91*M91 -> #DIV/0!
A92: 5.27 | B92: Probe Solisten | C92: L | D92: 12.37 | E92: K | F92: 6 | G92: =IF(F92="k. R.",E92,CONCATENATE(E92,F92)) -> K6 | H92: =VLOOKUP(F92,'4.) Faktoren'!$C$73:$D$80,2,0) -> 268 | I92: =D92*H92 -> 3315.16 | J92: =VLOOKUP(G92,'5.) LST UR+AR'!$B$16:$D$51,3,0) -> 0 | K92: =I92/J92 -> #DIV/0! | L92: =K92/12 -> #DIV/0! | M92: ='3.a) SVS UR'!$F$75 -> 0 | N92: =L92*M92 -> #DIV/0!
A93: 5.28 | B93: Probe Solisten | C93: L | D93: 11.38 | E93: K | F93: 6 | G93: =IF(F93="k. R.",E93,CONCATENATE(E93,F93)) -> K6 | H93: =VLOOKUP(F93,'4.) Faktoren'!$C$73:$D$80,2,0) -> 268 | I93: =D93*H93 -> 3049.84 | J93: =VLOOKUP(G93,'5.) LST UR+AR'!$B$16:$D$51,3,0) -> 0 | K93: =I93/J93 -> #DIV/0! | L93: =K93/12 -> #DIV/0! | M93: ='3.a) SVS UR'!$F$75 -> 0 | N93: =L93*M93 -> #DIV/0!
A94: 5.29 | B94: Probe Solisten | C94: L | D94: 10.39 | E94: K | F94: 6 | G94: =IF(F94="k. R.",E94,CONCATENATE(E94,F94)) -> K6 | H94: =VLOOKUP(F94,'4.) Faktoren'!$C$73:$D$80,2,0) -> 268 | I94: =D94*H94 -> 2784.52 | J94: =VLOOKUP(G94,'5.) LST UR+AR'!$B$16:$D$51,3,0) -> 0 | K94: =I94/J94 -> #DIV/0! | L94: =K94/12 -> #DIV/0! | M94: ='3.a) SVS UR'!$F$75 -> 0 | N94: =L94*M94 -> #DIV/0!
A95: 5.30 | B95: Ballettmeister | C95: L | D95: 10.75 | E95: C | F95: 6 | G95: =IF(F95="k. R.",E95,CONCATENATE(E95,F95)) -> C6 | H95: =VLOOKUP(F95,'4.) Faktoren'!$C$73:$D$80,2,0) -> 268 | I95: =D95*H95 -> 2881 | J95: =VLOOKUP(G95,'5.) LST UR+AR'!$B$16:$D$51,3,0) -> 0 | K95: =I95/J95 -> #DIV/0! | L95: =K95/12 -> #DIV/0! | M95: ='3.a) SVS UR'!$F$75 -> 0 | N95: =L95*M95 -> #DIV/0!
... A97: 5.32 | B97: WC Damen | C97: FL | D97: 9.79 | E97: F | F97: 6 | G97: =IF(F97="k. R.",E97,CONCATENATE(E97,F97)) -> F6 | H97: =VLOOKUP(F97,'4.) Faktoren'!$C$73:$D$80,2,0) -> 268 | I97: =D97*H97 -> 2623.72 | J97: =VLOOKUP(G97,'5.) LST UR+AR'!$B$16:$D$51,3,0) -> 0 | K97: =I97/J97 -> #DIV/0! | L97: =K97/12 -> #DIV/0! | M97: ='3.a) SVS UR'!$F$75 -> 0 | N97: =L97*M97 -> #DIV/0!
A98: 5.33 | B98: Reinigungsraum | C98: FL | D98: 4.02 | E98: Z | F98: 1 | G98: =IF(F98="k. R.",E98,CONCATENATE(E98,F98)) -> Z1 | O98: Dienstleister
A99: 5.34 | B99: Flur | C99: L | D99: 36.77 | E99: H | F99: 6 | G99: =IF(F99="k. R.",E99,CONCATENATE(E99,F99)) -> H6 | H99: =VLOOKUP(F99,'4.) Faktoren'!$C$73:$D$80,2,0) -> 268 | I99: =D99*H99 -> 9854.36 | J99: =VLOOKUP(G99,'5.) LST UR+AR'!$B$16:$D$51,3,0) -> 0 | K99: =I99/J99 -> #DIV/0! | L99: =K99/12 -> #DIV/0! | M99: ='3.a) SVS UR'!$F$75 -> 0 | N99: =L99*M99 -> #DIV/0!
A100: 5.35 | B100: Untere Kantine | C100: L | D100: 38.35 | E100: A | F100: 6 | G100: =IF(F100="k. R.",E100,CONCATENATE(E100,F100)) -> A6 | H100: =VLOOKUP(F100,'4.) Faktoren'!$C$73:$D$80,2,0) -> 268 | I100: =D100*H100 -> 10277.8 | J100: =VLOOKUP(G100,'5.) LST UR+AR'!$B$16:$D$51,3,0) -> 0 | K100: =I100/J100 -> #DIV/0! | L100: =K100/12 -> #DIV/0! | M100: ='3.a) SVS UR'!$F$75 -> 0 | N100: =L100*M100 -> #DIV/0!
A101: 5.36 | B101: Abendmaske | C101: L | D101: 29.8 | E101: I | F101: 6 | G101: =IF(F101="k. R.",E101,CONCATENATE(E101,F101)) -> I6 | H101: =VLOOKUP(F101,'4.) Faktoren'!$C$73:$D$80,2,0) -> 268 | I101: =D101*H101 -> 7986.4 | J101: =VLOOKUP(G101,'5.) LST UR+AR'!$B$16:$D$51,3,0) -> 0 | K101: =I101/J101 -> #DIV/0! | L101: =K101/12 -> #DIV/0! | M101: ='3.a) SVS UR'!$F$75 -> 0 | N101: =L101*M101 -> #DIV/0!
A102: 5.37 | B102: Requisite | C102: L | D102: 25.1 | E102: I | F102: 6 | G102: =IF(F102="k. R.",E102,CONCATENATE(E102,F102)) -> I6 | H102: =VLOOKUP(F102,'4.) Faktoren'!$C$73:$D$80,2,0) -> 268 | I102: =D102*H102 -> 6726.8 | J102: =VLOOKUP(G102,'5.) LST UR+AR'!$B$16:$D$51,3,0) -> 0 | K102: =I102/J102 -> #DIV/0! | L102: =K102/12 -> #DIV/0! | M102: ='3.a) SVS UR'!$F$75 -> 0 | N102: =L102*M102 -> #DIV/0!
A103: 5.38 | B103: WC Herren | C103: FL | D103: 3.81 | E103: F | F103: 6 | G103: =IF(F103="k. R.",E103,CONCATENATE(E103,F103)) -> F6 | H103: =VLOOKUP(F103,'4.) Faktoren'!$C$73:$D$80,2,0) -> 268 | I103: =D103*H103 -> 1021.08 | J103: =VLOOKUP(G103,'5.) LST UR+AR'!$B$16:$D$51,3,0) -> 0 | K103: =I103/J103 -> #DIV/0! | L103: =K103/12 -> #DIV/0! | M103: ='3.a) SVS UR'!$F$75 -> 0 | N103: =L103*M103 -> #DIV/0!
...

Sheet 6.) UR-02
A1: Bezirksverband Pfalz | D1: Objekt: | F1: Werkstatt Blechhammer | K1: Jahresreinigungsfläche gesamt: | O1: =I19 -> 3598.4
A2: Bismarckstraße 17, 67655 Kaiserslautern | D2: Adresse: | F2: Blechhammerweg 51; 67659 Kaiserslautern | K2: Grundfläche gesamt: | O2: =D19 -> 69.2
D3: Leistung: | F3: Unterhaltsreinigung | K3: kalkulierte Monatskosten gesamt: | O3: =N19 -> #DIV/0!
D4: Bieter: | F4: ='2.a) GPB'!C3 -> 0 | K4: kalkulierte Monatsstunden gesamt: | O4: =L19 -> #DIV/0!
A6: Bemerkungen: | D6: - keine Schließzeit laut Gebäudenutzung
A11: Raum- nummer | B11: Raumbezeichnung | C11: Boden- art | D11: Grund- fläche | E11: Raum-gruppe | F11: Turnus | G11: Raum-gruppen-turnus | H11: Jahres- faktor | I11: Jahres- reinigungs- fläche m² | J11: Leistung m²/h | K11: Jahres- stunden | L11: Monats- stunden | M11: SVS UR | N11: Monats- kosten | O11: Bemerkung
A12: Erdgeschoss (EG)
A13: 1 | B13: Aufenthaltsraum | C13: PVC | D13: 19.84 | E13: A | F13: 1 | G13: =IF(F13="k. R.",E13,CONCATENATE(E13,F13)) -> A1 | H13: =VLOOKUP(F13,'4.) Faktoren'!$C$4:$D$4,2,0) -> 52 | I13: =D13*H13 -> 1031.68 | J13: =VLOOKUP(G13,'5.) LST UR+AR'!$B$16:$D$51,3,0) -> 0 | K13: =I13/J13 -> #DIV/0! | L13: =K13/12 -> #DIV/0! | M13: ='3.a) SVS UR'!$F$75 -> 0 | N13: =L13*M13 -> #DIV/0!
A14: 2 | B14: WC + Dusche | C14: FL | D14: 7.68 | E14: F | F14: 1 | G14: =IF(F14="k. R.",E14,CONCATENATE(E14,F14)) -> F1 | H14: =VLOOKUP(F14,'4.) Faktoren'!$C$4:$D$4,2,0) -> 52 | I14: =D14*H14 -> 399.36 | J14: =VLOOKUP(G14,'5.) LST UR+AR'!$B$16:$D$51,3,0) -> 0 | K14: =I14/J14 -> #DIV/0! | L14: =K14/12 -> #DIV/0! | M14: ='3.a) SVS UR'!$F$75 -> 0 | N14: =L14*M14 -> #DIV/0!
A15: 3 | B15: WC + Dusche | C15: FL | D15: 7.68 | E15: F | F15: 1 | G15: =IF(F15="k. R.",E15,CONCATENATE(E15,F15)) -> F1 | H15: =VLOOKUP(F15,'4.) Faktoren'!$C$4:$D$4,2,0) -> 52 | I15: =D15*H15 -> 399.36 | J15: =VLOOKUP(G15,'5.) LST UR+AR'!$B$16:$D$51,3,0) -> 0 | K15: =I15/J15 -> #DIV/0! | L15: =K15/12 -> #DIV/0! | M15: ='3.a) SVS UR'!$F$75 -> 0 | N15: =L15*M15 -> #DIV/0!
A16: 4 | B16: Flur | C16: PVC | D16: 34 | E16: H | F16: 1 | G16: =IF(F16="k. R.",E16,CONCATENATE(E16,F16)) -> H1 | H16: =VLOOKUP(F16,'4.) Faktoren'!$C$4:$D$4,2,0) -> 52 | I16: =D16*H16 -> 1768 | J16: =VLOOKUP(G16,'5.) LST UR+AR'!$B$16:$D$51,3,0) -> 0 | K16: =I16/J16 -> #DIV/0! | L16: =K16/12 -> #DIV/0! | M16: ='3.a) SVS UR'!$F$75 -> 0 | N16: =L16*M16 -> #DIV/0!
A17: Summe Erdgeschoss (EG) | D17: =SUM(D13:D16) -> 69.2
A19: Gesamtsumme UR | D19: =SUM(D12:D18)/2 -> 69.2 | I19: =SUM(I12:I18) -> 3598.4 | K19: =SUM(K12:K18) -> #DIV/0! | L19: =SUM(L12:L18) -> #DIV/0! | N19: =SUM(N12:N18) -> #DIV/0!

Sheet 6.) UR-03
A1: Bezirksverband Pfalz | D1: Objekt: | F1: Probebühne III Fischerstraße | K1: Jahresreinigungsfläche gesamt: | O1: =I21 -> 21922.68
A2: Bismarckstraße 17, 67655 Kaiserslautern | D2: Adresse: | F2: Fischerstraße 49; 67655 Kaiserslautern | K2: Grundfläche gesamt: | O2: =D21 -> 238.29
D3: Leistung: | F3: Unterhaltsreinigung | K3: kalkulierte Monatskosten gesamt: | O3: =N21 -> #DIV/0!
D4: Bieter: | F4: ='2.a) GPB'!C3 -> 0 | K4: kalkulierte Monatsstunden gesamt: | O4: =L21 -> #DIV/0!
A6: Bemerkungen: | D6: - 6 Wochen Theaterferien pro Jahr in den Monaten Juli/August
D7: - keine regelmäßige Reinigung während den Theaterferien, außer am letzten werktäglichen Schließtag
A11: Raum- nummer | B11: Raumbezeichnung | C11: Boden- art | D11: Grund- fläche | E11: Raum-gruppe | F11: Turnus | G11: Raum-gruppen-turnus | H11: Jahres- faktor | I11: Jahres- reinigungs- fläche m² | J11: Leistung m²/h | K11: Jahres- stunden | L11: Monats- stunden | M11: SVS UR | N11: Monats- kosten | O11: Bemerkung
A12: Erdgeschoss (EG)
A13: 1 | B13: Probenraum | C13: BÜBO | D13: 198.4 | E13: K | F13: 2 | G13: =IF(F13="k. R.",E13,CONCATENATE(E13,F13)) -> K2 | H13: =VLOOKUP(F13,'4.) Faktoren'!$C$73:$D$80,2,0) -> 92 | I13: =D13*H13 -> 18252.8 | J13: =VLOOKUP(G13,'5.) LST UR+AR'!$B$16:$D$51,3,0) -> 0 | K13: =I13/J13 -> #DIV/0! | L13: =K13/12 -> #DIV/0! | M13: ='3.a) SVS UR'!$F$75 -> 0 | N13: =L13*M13 -> #DIV/0!
A14: 2 | B14: WC | C14: FL | D14: 4 | E14: F | F14: 2 | G14: =IF(F14="k. R.",E14,CONCATENATE(E14,F14)) -> F2 | H14: =VLOOKUP(F14,'4.) Faktoren'!$C$73:$D$80,2,0) -> 92 | I14: =D14*H14 -> 368 | J14: =VLOOKUP(G14,'5.) LST UR+AR'!$B$16:$D$51,3,0) -> 0 | K14: =I14/J14 -> #DIV/0! | L14: =K14/12 -> #DIV/0! | M14: ='3.a) SVS UR'!$F$75 -> 0 | N14: =L14*M14 -> #DIV/0!
A15: 3 | B15: WC | C15: FL | D15: 4 | E15: F | F15: 2 | G15: =IF(F15="k. R.",E15,CONCATENATE(E15,F15)) -> F2 | H15: =VLOOKUP(F15,'4.) Faktoren'!$C$73:$D$80,2,0) -> 92 | I15: =D15*H15 -> 368 | J15: =VLOOKUP(G15,'5.) LST UR+AR'!$B$16:$D$51,3,0) -> 0 | K15: =I15/J15 -> #DIV/0! | L15: =K15/12 -> #DIV/0! | M15: ='3.a) SVS UR'!$F$75 -> 0 | N15: =L15*M15 -> #DIV/0!
A16: 4 | B16: Eingangsbereich | C16: BE | D16: 14.4 | E16: G | F16: 2 | G16: =IF(F16="k. R.",E16,CONCATENATE(E16,F16)) -> G2 | H16: =VLOOKUP(F16,'4.) Faktoren'!$C$73:$D$80,2,0) -> 92 | I16: =D16*H16 -> 1324.8 | J16: =VLOOKUP(G16,'5.) LST UR+AR'!$B$16:$D$51,3,0) -> 0 | K16: =I16/J16 -> #DIV/0! | L16: =K16/12 -> #DIV/0! | M16: ='3.a) SVS UR'!$F$75 -> 0 | N16: =L16*M16 -> #DIV/0!
A17: 5 | B17: Flur Aufenthalt | C17: PA | D17: 2.45 | E17: H | F17: 2 | G17: =IF(F17="k. R.",E17,CONCATENATE(E17,F17)) -> H2 | H17: =VLOOKUP(F17,'4.) Faktoren'!$C$73:$D$80,2,0) -> 92 | I17: =D17*H17 -> 225.4 | J17: =VLOOKUP(G17,'5.) LST UR+AR'!$B$16:$D$51,3,0) -> 0 | K17: =I17/J17 -> #DIV/0! | L17: =K17/12 -> #DIV/0! | M17: ='3.a) SVS UR'!$F$75 -> 0 | N17: =L17*M17 -> #DIV/0!
A18: 6 | B18: Aufenthaltsraum | C18: T | D18: 15.04 | E18: A | F18: 2 | G18: =IF(F18="k. R.",E18,CONCATENATE(E18,F18)) -> A2 | H18: =VLOOKUP(F18,'4.) Faktoren'!$C$73:$D$80,2,0) -> 92 | I18: =D18*H18 -> 1383.68 | J18: =VLOOKUP(G18,'5.) LST UR+AR'!$B$16:$D$51,3,0) -> 0 | K18: =I18/J18 -> #DIV/0! | L18: =K18/12 -> #DIV/0! | M18: ='3.a) SVS UR'!$F$75 -> 0 | N18: =L18*M18 -> #DIV/0!
A19: Summe Erdgeschoss (EG) | D19: =SUM(D13:D18) -> 238.29
A21: Gesamtsumme UR | D21: =SUM(D12:D20)/2 -> 238.29 | I21: =SUM(I12:I20) -> 21922.68 | K21: =SUM(K12:K20) -> #DIV/0! | L21: =SUM(L12:L20) -> #DIV/0! | N21: =SUM(N12:N20) -> #DIV/0!

Sheet 6.) UR-04
A1: Bezirksverband Pfalz | D1: Objekt: | F1: Werkstatt Lauterstraße | K1: Jahresreinigungsfläche gesamt: | O1: =I52 -> 56656.44
A2: Bismarckstraße 17, 67655 Kaiserslautern | D2: Adresse: | F2: Lauterstraße 135; 67657 Kaiserslautern | K2: Grundfläche gesamt: | O2: =D52 -> 400.39
D3: Leistung: | F3: Unterhaltsreinigung | K3: kalkulierte Monatskosten gesamt: | O3: =N52 -> #DIV/0!
D4: Bieter: | F4: ='2.a) GPB'!C3 -> 0 | K4: kalkulierte Monatsstunden gesamt: | O4: =L52 -> #DIV/0!
A6: Bemerkungen: | D6: - 2 Schließwochen pro Jahr in den Monaten Juli/August
D7: - keine regelmäßige Reinigung während der Schließzeit
A11: Raum- nummer | B11: Raumbezeichnung | C11: Boden- art | D11: Grund- fläche | E11: Raum-gruppe | F11: Turnus | G11: Raum-gruppen-turnus | H11: Jahres- faktor | I11: Jahres- reinigungs- fläche m² | J11: Leistung m²/h | K11: Jahres- stunden | L11: Monats- stunden | M11: SVS UR | N11: Monats- kosten | O11: Bemerkung
A12: Kellergeschoss (KG)
A13: KG 01 | B13: Kellertreppe | C13: FL | D13: 3.48 | E13: G | F13: 1 | G13: =IF(F13="k. R.",E13,CONCATENATE(E13,F13)) -> G1 | H13: =VLOOKUP(F13,'4.) Faktoren'!$C$23:$D$26,2,0) -> 50 | I13: =D13*H13 -> 174 | J13: =VLOOKUP(G13,'5.) LST UR+AR'!$B$16:$D$51,3,0) -> 0 | K13: =I13/J13 -> #DIV/0! | L13: =K13/12 -> #DIV/0! | M13: ='3.a) SVS UR'!$F$75 -> 0 | N13: =L13*M13 -> #DIV/0!
A14: KG 02 | B14: Vorraum Keller | C14: FL | D14: 9.36 | E14: G | F14: 1 | G14: =IF(F14="k. R.",E14,CONCATENATE(E14,F14)) -> G1 | H14: =VLOOKUP(F14,'4.) Faktoren'!$C$23:$D$26,2,0) -> 50 | I14: =D14*H14 -> 468 | J14: =VLOOKUP(G14,'5.) LST UR+AR'!$B$16:$D$51,3,0) -> 0 | K14: =I14/J14 -> #DIV/0! | L14: =K14/12 -> #DIV/0! | M14: ='3.a) SVS UR'!$F$75 -> 0 | N14: =L14*M14 -> #DIV/0!
A15: KG 03 | B15: Flur Keller | C15: FL | D15: 8.76 | E15: H | F15: 1 | G15: =IF(F15="k. R.",E15,CONCATENATE(E15,F15)) -> H1 | H15: =VLOOKUP(F15,'4.) Faktoren'!$C$23:$D$26,2,0) -> 50 | I15: =D15*H15 -> 438 | J15: =VLOOKUP(G15,'5.) LST UR+AR'!$B$16:$D$51,3,0) -> 0 | K15: =I15/J15 -> #DIV/0! | L15: =K15/12 -> #DIV/0! | M15: ='3.a) SVS UR'!$F$75 -> 0 | N15: =L15*M15 -> #DIV/0!
A16: Summe Kellergeschoss (KG) | D16: =SUM(D13:D15) -> 21.6
A17: Erdgeschoss (EG)
A18: EG 01 | B18: Eingangsbereich | C18: PVC | D18: 19.76 | E18: G | F18: 5 | G18: =IF(F18="k. R.",E18,CONCATENATE(E18,F18)) -> G5 | H18: =VLOOKUP(F18,'4.) Faktoren'!$C$23:$D$26,2,0) -> 242 | I18: =D18*H18 -> 4781.92 | J18: =VLOOKUP(G18,'5.) LST UR+AR'!$B$16:$D$51,3,0) -> 0 | K18: =I18/J18 -> #DIV/0! | L18: =K18/12 -> #DIV/0! | M18: ='3.a) SVS UR'!$F$75 -> 0 | N18: =L18*M18 -> #DIV/0!
A19: EG 02 | B19: Flur Werkstattleiter | C19: PVC | D19: 5.64 | E19: H | F19: 2 | G19: =IF(F19="k. R.",E19,CONCATENATE(E19,F19)) -> H2 | H19: =VLOOKUP(F19,'4.) Faktoren'!$C$23:$D$26,2,0) -> 100 | I19: =D19*H19 -> 564 | J19: =VLOOKUP(G19,'5.) LST UR+AR'!$B$16:$D$51,3,0) -> 0 | K19: =I19/J19 -> #DIV/0! | L19: =K19/12 -> #DIV/0! | M19: ='3.a) SVS UR'!$F$75 -> 0 | N19: =L19*M19 -> #DIV/0!
A20: EG 03 | B20: Sitzungszimmer | C20: PVC | D20: 33.55 | E20: C | F20: 2 | G20: =IF(F20="k. R.",E20,CONCATENATE(E20,F20)) -> C2 | H20: =VLOOKUP(F20,'4.) Faktoren'!$C$23:$D$26,2,0) -> 100 | I20: =D20*H20 -> 3355 | J20: =VLOOKUP(G20,'5.) LST UR+AR'!$B$16:$D$51,3,0) -> 0 | K20: =I20/J20 -> #DIV/0! | L20: =K20/12 -> #DIV/0! | M20: ='3.a) SVS UR'!$F$75 -> 0 | N20: =L20*M20 -> #DIV/0!
A21: EG 04 | B21: Büro Werkstattleiter | C21: PVC | D21: 15.58 | E21: C | F21: 2 | G21: =IF(F21="k. R.",E21,CONCATENATE(E21,F21)) -> C2 | H21: =VLOOKUP(F21,'4.) Faktoren'!$C$23:$D$26,2,0) -> 100 | I21: =D21*H21 -> 1558 | J21: =VLOOKUP(G21,'5.) LST UR+AR'!$B$16:$D$51,3,0) -> 0 | K21: =I21/J21 -> #DIV/0! | L21: =K21/12 -> #DIV/0! | M21: ='3.a) SVS UR'!$F$75 -> 0 | N21: =L21*M21 -> #DIV/0!
A22: EG 05 | B22: Lager Werkstattleiter | C22: PVC | D22: 8.28 | E22: D | F22: k. R. | G22: =IF(F22="k. R.",E22,CONCATENATE(E22,F22)) -> D
A23: EG 06 | B23: WC Werkstattleiter | C23: FL | D23: 1.5 | E23: F | F23: 5 | G23: =IF(F23="k. R.",E23,CONCATENATE(E23,F23)) -> F5 | H23: =VLOOKUP(F23,'4.) Faktoren'!$C$23:$D$26,2,0) -> 242 | I23: =D23*H23 -> 363 | J23: =VLOOKUP(G23,'5.) LST UR+AR'!$B$16:$D$51,3,0) -> 0 | K23: =I23/J23 -> #DIV/0! | L23: =K23/12 -> #DIV/0! | M23: ='3.a) SVS UR'!$F$75 -> 0 | N23: =L23*M23 -> #DIV/0!
A24: EG 07 | B24: Küche Werkstattleiter | C24: PVC | D24: 6.21 | E24: A | F24: 5 | G24: =IF(F24="k. R.",E24,CONCATENATE(E24,F24)) -> A5 | H24: =VLOOKUP(F24,'4.) Faktoren'!$C$23:$D$26,2,0) -> 242 | I24: =D24*H24 -> 1502.82 | J24: =VLOOKUP(G24,'5.) LST UR+AR'!$B$16:$D$51,3,0) -> 0 | K24: =I24/J24 -> #DIV/0! | L24: =K24/12 -> #DIV/0! | M24: ='3.a) SVS UR'!$F$75 -> 0 | N24: =L24*M24 -> #DIV/0!
A25: EG 08 | B25: Flur Kellerabgang | C25: PVC | D25: 3.75 | E25: H | F25: 2 | G25: =IF(F25="k. R.",E25,CONCATENATE(E25,F25)) -> H2 | H25: =VLOOKUP(F25,'4.) Faktoren'!$C$23:$D$26,2,0) -> 100 | I25: =D25*H25 -> 375 | J25: =VLOOKUP(G25,'5.) LST UR+AR'!$B$16:$D$51,3,0) -> 0 | K25: =I25/J25 -> #DIV/0! | L25: =K25/12 -> #DIV/0! | M25: ='3.a) SVS UR'!$F$75 -> 0 | N25: =L25*M25 -> #DIV/0!
A26: EG 09 | B26: Flur Polsterei | C26: BE/SAUB | D26: 9.46 | E26: H | F26: 2 | G26: =IF(F26="k. R.",E26,CONCATENATE(E26,F26)) -> H2 | H26: =VLOOKUP(F26,'4.) Faktoren'!$C$23:$D$26,2,0) -> 100 | I26: =D26*H26 -> 946 | J26: =VLOOKUP(G26,'5.) LST UR+AR'!$B$16:$D$51,3,0) -> 0 | K26: =I26/J26 -> #DIV/0! | L26: =K26/12 -> #DIV/0! | M26: ='3.a) SVS UR'!$F$75 -> 0 | N26: =L26*M26 -> #DIV/0!
A27: EG 10 | B27: Polsterei | C27: PVC | D27: 66.5 | E27: M | F27: 2 | G27: =IF(F27="k. R.",E27,CONCATENATE(E27,F27)) -> M2 | H27: =VLOOKUP(F27,'4.) Faktoren'!$C$23:$D$26,2,0) -> 100 | I27: =D27*H27 -> 6650 | J27: =VLOOKUP(G27,'5.) LST UR+AR'!$B$16:$D$51,3,0) -> 0 | K27: =I27/J27 -> #DIV/0! | L27: =K27/12 -> #DIV/0! | M27: ='3.a) SVS UR'!$F$75 -> 0 | N27: =L27*M27 -> #DIV/0!
A28: Summe Erdgeschoss (EG) | D28: =SUM(D18:D27) -> 170.23
A29: 1. Obergeschoss (OG1)
A30: 1OG 01 | B30: Treppe | C30: KA | D30: 11.04 | E30: G | F30: 2 | G30: =IF(F30="k. R.",E30,CONCATENATE(E30,F30)) -> G2 | H30: =VLOOKUP(F30,'4.) Faktoren'!$C$23:$D$26,2,0) -> 100 | I30: =D30*H30 -> 1104 | J30: =VLOOKUP(G30,'5.) LST UR+AR'!$B$16:$D$51,3,0) -> 0 | K30: =I30/J30 -> #DIV/0! | L30: =K30/12 -> #DIV/0! | M30: ='3.a) SVS UR'!$F$75 -> 0 | N30: =L30*M30 -> #DIV/0!
A31: 1OG 02 | B31: Flur | C31: PVC | D31: 10.44 | E31: H | F31: 2 | G31: =IF(F31="k. R.",E31,CONCATENATE(E31,F31)) -> H2 | H31: =VLOOKUP(F31,'4.) Faktoren'!$C$23:$D$26,2,0) -> 100 | I31: =D31*H31 -> 1044 | J31: =VLOOKUP(G31,'5.) LST UR+AR'!$B$16:$D$51,3,0) -> 0 | K31: =I31/J31 -> #DIV/0! | L31: =K31/12 -> #DIV/0! | M31: ='3.a) SVS UR'!$F$75 -> 0 | N31: =L31*M31 -> #DIV/0!
A32: 1OG 03 | B32: Küche | C32: FL | D32: 4 | E32: A | F32: 5 | G32: =IF(F32="k. R.",E32,CONCATENATE(E32,F32)) -> A5 | H32: =VLOOKUP(F32,'4.) Faktoren'!$C$23:$D$26,2,0) -> 242 | I32: =D32*H32 -> 968 | J32: =VLOOKUP(G32,'5.) LST UR+AR'!$B$16:$D$51,3,0) -> 0 | K32: =I32/J32 -> #DIV/0! | L32: =K32/12 -> #DIV/0! | M32: ='3.a) SVS UR'!$F$75 -> 0 | N32: =L32*M32 -> #DIV/0!
A33: 1OG 04 | B33: Umkleide Damen | C33: FL | D33: 9.43 | E33: I | F33: 5 | G33: =IF(F33="k. R.",E33,CONCATENATE(E33,F33)) -> I5 | H33: =VLOOKUP(F33,'4.) Faktoren'!$C$23:$D$26,2,0) -> 242 | I33: =D33*H33 -> 2282.06 | J33: =VLOOKUP(G33,'5.) LST UR+AR'!$B$16:$D$51,3,0) -> 0 | K33: =I33/J33 -> #DIV/0! | L33: =K33/12 -> #DIV/0! | M33: ='3.a) SVS UR'!$F$75 -> 0 | N33: =L33*M33 -> #DIV/0!
A34: 1OG 05 | B34: Sanitär Damen | C34: FL | D34: 13.66 | E34: F | F34: 5 | G34: =IF(F34="k. R.",E34,CONCATENATE(E34,F34)) -> F5 | H34: =VLOOKUP(F34,'4.) Faktoren'!$C$23:$D$26,2,0) -> 242 | I34: =D34*H34 -> 3305.72 | J34: =VLOOKUP(G34,'5.) LST UR+AR'!$B$16:$D$51,3,0) -> 0 | K34: =I34/J34 -> #DIV/0! | L34: =K34/12 -> #DIV/0! | M34: ='3.a) SVS UR'!$F$75 -> 0 | N34: =L34*M34 -> #DIV/0!
A35: 1OG 06 | B35: Aufenthaltsraum | C35: L | D35: 20 | E35: A | F35: 5 | G35: =IF(F35="k. R.",E35,CONCATENATE(E35,F35)) -> A5 | H35: =VLOOKUP(F35,'4.) Faktoren'!$C$23:$D$26,2,0) -> 242 | I35: =D35*H35 -> 4840 | J35: =VLOOKUP(G35,'5.) LST UR+AR'!$B$16:$D$51,3,0) -> 0 | K35: =I35/J35 -> #DIV/0! | L35: =K35/12 -> #DIV/0! | M35: ='3.a) SVS UR'!$F$75 -> 0 | N35: =L35*M35 -> #DIV/0!
A36: 1OG 07 | B36: Umkleide Herren | C36: L | D36: 18.6 | E36: I | F36: 5 | G36: =IF(F36="k. R.",E36,CONCATENATE(E36,F36)) -> I5 | H36: =VLOOKUP(F36,'4.) Faktoren'!$C$23:$D$26,2,0) -> 242 | I36: =D36*H36 -> 4501.2 | J36: =VLOOKUP(G36,'5.) LST UR+AR'!$B$16:$D$51,3,0) -> 0 | K36: =I36/J36 -> #DIV/0! | L36: =K36/12 -> #DIV/0! | M36: ='3.a) SVS UR'!$F$75 -> 0 | N36: =L36*M36 -> #DIV/0!
A37: 1OG 08 | B37: Dusche Herren | C37: FL | D37: 15.99 | E37: F | F37: 5 | G37: =IF(F37="k. R.",E37,CONCATENATE(E37,F37)) -> F5 | H37: =VLOOKUP(F37,'4.) Faktoren'!$C$23:$D$26,2,0) -> 242 | I37: =D37*H37 -> 3869.58 | J37: =VLOOKUP(G37,'5.) LST UR+AR'!$B$16:$D$51,3,0) -> 0 | K37: =I37/J37 -> #DIV/0! | L37: =K37/12 -> #DIV/0! | M37: ='3.a) SVS UR'!$F$75 -> 0 | N37: =L37*M37 -> #DIV/0!
A38: 1OG 09 | B38: Vorraum WC Herren | C38: FL | D38: 2.16 | E38: F | F38: 5 | G38: =IF(F38="k. R.",E38,CONCATENATE(E38,F38)) -> F5 | H38: =VLOOKUP(F38,'4.) Faktoren'!$C$23:$D$26,2,0) -> 242 | I38: =D38*H38 -> 522.72 | J38: =VLOOKUP(G38,'5.) LST UR+AR'!$B$16:$D$51,3,0) -> 0 | K38: =I38/J38 -> #DIV/0! | L38: =K38/12 -> #DIV/0! | M38: ='3.a) SVS UR'!$F$75 -> 0 | N38: =L38*M38 -> #DIV/0!
A39: 1OG 10 | B39: WC Herren | C39: FL | D39: 5.04 | E39: F | F39: 5 | G39: =IF(F39="k. R.",E39,CONCATENATE(E39,F39)) -> F5 | H39: =VLOOKUP(F39,'4.) Faktoren'!$C$23:$D$26,2,0) -> 242 | I39: =D39*H39 -> 1219.68 | J39: =VLOOKUP(G39,'5.) LST UR+AR'!$B$16:$D$51,3,0) -> 0 | K39: =I39/J39 -> #DIV/0! | L39: =K39/12 -> #DIV/0! | M39: ='3.a) SVS UR'!$F$75 -> 0 | N39: =L39*M39 -> #DIV/0!
A40: Summe 1. Obergeschoss (OG1) | D40: =SUM(D30:D39) -> 110.36
A41: 2. Obergeschoss (OG2)
A42: 2OG 01 | B42: Treppe | C42: KA | D42: 11.16 | E42: G | F42: 2 | G42: =IF(F42="k. R.",E42,CONCATENATE(E42,F42)) -> G2 | H42: =VLOOKUP(F42,'4.) Faktoren'!$C$23:$D$26,2,0) -> 100 | I42: =D42*H42 -> 1116 | J42: =VLOOKUP(G42,'5.) LST UR+AR'!$B$16:$D$51,3,0) -> 0 | K42: =I42/J42 -> #DIV/0! | L42: =K42/12 -> #DIV/0! | M42: ='3.a) SVS UR'!$F$75 -> 0 | N42: =L42*M42 -> #DIV/0!
A43: 2OG 02 | B43: Flur | C43: PVC | D43: 11.76 | E43: H | F43: 2 | G43: =IF(F43="k. R.",E43,CONCATENATE(E43,F43)) -> H2 | H43: =VLOOKUP(F43,'4.) Faktoren'!$C$23:$D$26,2,0) -> 100 | I43: =D43*H43 -> 1176 | J43: =VLOOKUP(G43,'5.) LST UR+AR'!$B$16:$D$51,3,0) -> 0 | K43: =I43/J43 -> #DIV/0! | L43: =K43/12 -> #DIV/0! | M43: ='3.a) SVS UR'!$F$75 -> 0 | N43: =L43*M43 -> #DIV/0!
A44: 2OG 03 | B44: WC Herren | C44: FL | D44: 8.4 | E44: F | F44: 5 | G44: =IF(F44="k. R.",E44,CONCATENATE(E44,F44)) -> F5 | H44: =VLOOKUP(F44,'4.) Faktoren'!$C$23:$D$26,2,0) -> 242 | I44: =D44*H44 -> 2032.8 | J44: =VLOOKUP(G44,'5.) LST UR+AR'!$B$16:$D$51,3,0) -> 0 | K44: =I44/J44 -> #DIV/0! | L44: =K44/12 -> #DIV/0! | M44: ='3.a) SVS UR'!$F$75 -> 0 | N44: =L44*M44 -> #DIV/0!
A45: 2OG 04 | B45: Büro Malervorstand | C45: PVC | D45: 15.58 | E45: C | F45: 2 | G45: =IF(F45="k. R.",E45,CONCATENATE(E45,F45)) -> C2 | H45: =VLOOKUP(F45,'4.) Faktoren'!$C$23:$D$26,2,0) -> 100 | I45: =D45*H45 -> 1558 | J45: =VLOOKUP(G45,'5.) LST UR+AR'!$B$16:$D$51,3,0) -> 0 | K45: =I45/J45 -> #DIV/0! | L45: =K45/12 -> #DIV/0! | M45: ='3.a) SVS UR'!$F$75 -> 0 | N45: =L45*M45 -> #DIV/0!
A46: 2OG 05 | B46: Küche | C46: PVC | D46: 2.04 | E46: A | F46: 5 | G46: =IF(F46="k. R.",E46,CONCATENATE(E46,F46)) -> A5 | H46: =VLOOKUP(F46,'4.) Faktoren'!$C$23:$D$26,2,0) -> 242 | I46: =D46*H46 -> 493.68 | J46: =VLOOKUP(G46,'5.) LST UR+AR'!$B$16:$D$51,3,0) -> 0 | K46: =I46/J46 -> #DIV/0! | L46: =K46/12 -> #DIV/0! | M46: ='3.a) SVS UR'!$F$75 -> 0 | N46: =L46*M46 -> #DIV/0!
A47: 2OG 06 | B47: Aufenthaltsraum | C47: PVC | D47: 13.53 | E47: A | F47: 5 | G47: =IF(F47="k. R.",E47,CONCATENATE(E47,F47)) -> A5 | H47: =VLOOKUP(F47,'4.) Faktoren'!$C$23:$D$26,2,0) -> 242 | I47: =D47*H47 -> 3274.26 | J47: =VLOOKUP(G47,'5.) LST UR+AR'!$B$16:$D$51,3,0) -> 0 | K47: =I47/J47 -> #DIV/0! | L47: =K47/12 -> #DIV/0! | M47: ='3.a) SVS UR'!$F$75 -> 0 | N47: =L47*M47 -> #DIV/0!
A48: 2OG 07 | B48: Büro Ausstattungsleiter | C48: PVC | D48: 21.73 | E48: C | F48: 2 | G48: =IF(F48="k. R.",E48,CONCATENATE(E48,F48)) -> C2 | H48: =VLOOKUP(F48,'4.) Faktoren'!$C$23:$D$26,2,0) -> 100 | I48: =D48*H48 -> 2173 | J48: =VLOOKUP(G48,'5.) LST UR+AR'!$B$16:$D$51,3,0) -> 0 | K48: =I48/J48 -> #DIV/0! | L48: =K48/12 -> #DIV/0! | M48: ='3.a) SVS UR'!$F$75 -> 0 | N48: =L48*M48 -> #DIV/0!
A49: 2OG 08 | B49: Dekolager | C49: PVC | D49: 14 | E49: D | F49: k. R. | G49: =IF(F49="k. R.",E49,CONCATENATE(E49,F49)) -> D
A50: Summe 2. Obergeschoss (OG2) | D50: =SUM(D42:D49) -> 98.2
A52: Gesamtsumme UR | D52: =SUM(D13:D51)/2 -> 400.39 | I52: =SUM(I13:I51) -> 56656.44 | K52: =SUM(K13:K51) -> #DIV/0! | L52: =SUM(L13:L51) -> #DIV/0! | N52: =SUM(N13:N51) -> #DIV/0!

Sheet 6.) UR-05
A1: Bezirksverband Pfalz | D1: Objekt: | F1: Villa Munzinger | K1: Jahresreinigungsfläche gesamt: | O1: =I58 -> 83653.6
A2: Bismarckstraße 17, 67655 Kaiserslautern | D2: Adresse: | F2: Willy-Brandt-Platz 5; 67657 Kaiserslautern | K2: Grundfläche gesamt: | O2: =D58 -> 767.11
D3: Leistung: | F3: Unterhaltsreinigung | K3: kalkulierte Monatskosten gesamt: | O3: =N58 -> #DIV/0!
D4: Bieter: | F4: ='2.a) GPB'!C3 -> 0 | K4: kalkulierte Monatsstunden gesamt: | O4: =L58 -> #DIV/0!
A6: Bemerkungen: | D6: - 4 Schließwochen pro Jahr in den Monaten Juli/August
D7: - keine regelmäßige Reinigung während der Schließzeit, außer am letzten werktäglichen Schließtag
A11: Raum- nummer | B11: Raumbezeichnung | C11: Boden- art | D11: Grund- fläche | E11: Raum-gruppe | F11: Turnus | G11: Raum-gruppen-turnus | H11: Jahres- faktor | I11: Jahres- reinigungs- fläche m² | J11: Leistung m²/h | K11: Jahres- stunden | L11: Monats- stunden | M11: SVS UR | N11: Monats- kosten | O11: Bemerkung
A12: Erdgeschoss (EG)
B13: Eingänge und Treppe zu EG | C13: FL | D13: 39.33 | E13: G | F13: 5 | G13: =IF(F13="k. R.",E13,CONCATENATE(E13,F13)) -> G5 | H13: =VLOOKUP(F13,'4.) Faktoren'!$C$51:$D$54,2,0) -> 232 | I13: =D13*H13 -> 9124.56 | J13: =VLOOKUP(G13,'5.) LST UR+AR'!$B$16:$D$51,3,0) -> 0 | K13: =I13/J13 -> #DIV/0! | L13: =K13/12 -> #DIV/0! | M13: ='3.a) SVS UR'!$F$75 -> 0 | N13: =L13*M13 -> #DIV/0!
A14: E 2 | B14: Büro Künstl. Betriebsdirektor | C14: T | D14: 33.28 | E14: C | F14: 2 | G14: =IF(F14="k. R.",E14,CONCATENATE(E14,F14)) -> C2 | H14: =VLOOKUP(F14,'4.) Faktoren'!$C$51:$D$54,2,0) -> 96 | I14: =D14*H14 -> 3194.88 | J14: =VLOOKUP(G14,'5.) LST UR+AR'!$B$16:$D$51,3,0) -> 0 | K14: =I14/J14 -> #DIV/0! | L14: =K14/12 -> #DIV/0! | M14: ='3.a) SVS UR'!$F$75 -> 0 | N14: =L14*M14 -> #DIV/0!
A15: E 3 | B15: Wintergarten | C15: FL | D15: 13.68 | E15: D | F15: k. R. | G15: =IF(F15="k. R.",E15,CONCATENATE(E15,F15)) -> D
A16: E 4 | B16: Büro Intendant | C16: H | D16: 45.05 | E16: C | F16: 2 | G16: =IF(F16="k. R.",E16,CONCATENATE(E16,F16)) -> C2 | H16: =VLOOKUP(F16,'4.) Faktoren'!$C$51:$D$54,2,0) -> 96 | I16: =D16*H16 -> 4324.8 | J16: =VLOOKUP(G16,'5.) LST UR+AR'!$B$16:$D$51,3,0) -> 0 | K16: =I16/J16 -> #DIV/0! | L16: =K16/12 -> #DIV/0! | M16: ='3.a) SVS UR'!$F$75 -> 0 | N16: =L16*M16 -> #DIV/0!
A17: E 4.1 | B17: Absatz | C17: H | D17: 4.05 | E17: G | F17: 2 | G17: =IF(F17="k. R.",E17,CONCATENATE(E17,F17)) -> G2 | H17: =VLOOKUP(F17,'4.) Faktoren'!$C$51:$D$54,2,0) -> 96 | I17: =D17*H17 -> 388.8 | J17: =VLOOKUP(G17,'5.) LST UR+AR'!$B$16:$D$51,3,0) -> 0 | K17: =I17/J17 -> #DIV/0! | L17: =K17/12 -> #DIV/0! | M17: ='3.a) SVS UR'!$F$75 -> 0 | N17: =L17*M17 -> #DIV/0!
A18: E 5 | B18: Vorzimmer | C18: T | D18: 29 | E18: C | F18: 2 | G18: =IF(F18="k. R.",E18,CONCATENATE(E18,F18)) -> C2 | H18: =VLOOKUP(F18,'4.) Faktoren'!$C$51:$D$54,2,0) -> 96 | I18: =D18*H18 -> 2784 | J18: =VLOOKUP(G18,'5.) LST UR+AR'!$B$16:$D$51,3,0) -> 0 | K18: =I18/J18 -> #DIV/0! | L18: =K18/12 -> #DIV/0! | M18: ='3.a) SVS UR'!$F$75 -> 0 | N18: =L18*M18 -> #DIV/0!
A19: E 6 | B19: Betriebsbüro | C19: T | D19: 23.03 | E19: C | F19: 2 | G19: =IF(F19="k. R.",E19,CONCATENATE(E19,F19)) -> C2 | H19: =VLOOKUP(F19,'4.) Faktoren'!$C$51:$D$54,2,0) -> 96 | I19: =D19*H19 -> 2210.88 | J19: =VLOOKUP(G19,'5.) LST UR+AR'!$B$16:$D$51,3,0) -> 0 | K19: =I19/J19 -> #DIV/0! | L19: =K19/12 -> #DIV/0! | M19: ='3.a) SVS UR'!$F$75 -> 0 | N19: =L19*M19 -> #DIV/0!
A20: E 7 | B20: Büro Betriebsdirektion | C20: T | D20: 27.5 | E20: C | F20: 2 | G20: =IF(F20="k. R.",E20,CONCATENATE(E20,F20)) -> C2 | H20: =VLOOKUP(F20,'4.) Faktoren'!$C$51:$D$54,2,0) -> 96 | I20: =D20*H20 -> 2640 | J20: =VLOOKUP(G20,'5.) LST UR+AR'!$B$16:$D$51,3,0) -> 0 | K20: =I20/J20 -> #DIV/0! | L20: =K20/12 -> #DIV/0! | M20: ='3.a) SVS UR'!$F$75 -> 0 | N20: =L20*M20 -> #DIV/0!
A21: E 9 | B21: WC Herren | C21: FL | D21: 3.5 | E21: F | F21: 5 | G21: =IF(F21="k. R.",E21,CONCATENATE(E21,F21)) -> F5 | H21: =VLOOKUP(F21,'4.) Faktoren'!$C$51:$D$54,2,0) -> 232 | I21: =D21*H21 -> 812 | J21: =VLOOKUP(G21,'5.) LST UR+AR'!$B$16:$D$51,3,0) -> 0 | K21: =I21/J21 -> #DIV/0! | L21: =K21/12 -> #DIV/0! | M21: ='3.a) SVS UR'!$F$75 -> 0 | N21: =L21*M21 -> #DIV/0!
A22: E 9.1 | B22: Vorraum WC Herren | C22: FL | D22: 2.9 | E22: F | F22: 5 | G22: =IF(F22="k. R.",E22,CONCATENATE(E22,F22)) -> F5 | H22: =VLOOKUP(F22,'4.) Faktoren'!$C$51:$D$54,2,0) -> 232 | I22: =D22*H22 -> 672.8 | J22: =VLOOKUP(G22,'5.) LST UR+AR'!$B$16:$D$51,3,0) -> 0 | K22: =I22/J22 -> #DIV/0! | L22: =K22/12 -> #DIV/0! | M22: ='3.a) SVS UR'!$F$75 -> 0 | N22: =L22*M22 -> #DIV/0!
A23: E 10 | B23: Halle | C23: FL | D23: 32.5 | E23: H | F23: 2 | G23: =IF(F23="k. R.",E23,CONCATENATE(E23,F23)) -> H2 | H23: =VLOOKUP(F23,'4.) Faktoren'!$C$51:$D$54,2,0) -> 96 | I23: =D23*H23 -> 3120 | J23: =VLOOKUP(G23,'5.) LST UR+AR'!$B$16:$D$51,3,0) -> 0 | K23: =I23/J23 -> #DIV/0! | L23: =K23/12 -> #DIV/0! | M23: ='3.a) SVS UR'!$F$75 -> 0 | N23: =L23*M23 -> #DIV/0!
A24: E 11 | B24: Besucherorganisation | C24: T | D24: 19.13 | E24: C | F24: 2 | G24: =IF(F24="k. R.",E24,CONCATENATE(E24,F24)) -> C2 | H24: =VLOOKUP(F24,'4.) Faktoren'!$C$51:$D$54,2,0) -> 96 | I24: =D24*H24 -> 1836.48 | J24: =VLOOKUP(G24,'5.) LST UR+AR'!$B$16:$D$51,3,0) -> 0 | K24: =I24/J24 -> #DIV/0! | L24: =K24/12 -> #DIV/0! | M24: ='3.a) SVS UR'!$F$75 -> 0 | N24: =L24*M24 -> #DIV/0!
A25: Summe Erdgeschoss (EG) | D25: =SUM(D13:D24) -> 272.95
A26: 1. Obergeschoss (OG1)
B27: Treppe EG zu 1. OG | C27: H | D27: 19.5 | E27: G | F27: 2 | G27: =IF(F27="k. R.",E27,CONCATENATE(E27,F27)) -> G2 | H27: =VLOOKUP(F27,'4.) Faktoren'!$C$51:$D$54,2,0) -> 96 | I27: =D27*H27 -> 1872 | J27: =VLOOKUP(G27,'5.) LST UR+AR'!$B$16:$D$51,3,0) -> 0 | K27: =I27/J27 -> #DIV/0! | L27: =K27/12 -> #DIV/0! | M27: ='3.a) SVS UR'!$F$75 -> 0 | N27: =L27*M27 -> #DIV/0!
A28: O 1 | B28: Vorraum | C28: T | D28: 25 | E28: H | F28: 2 | G28: =IF(F28="k. R.",E28,CONCATENATE(E28,F28)) -> H2 | H28: =VLOOKUP(F28,'4.) Faktoren'!$C$51:$D$54,2,0) -> 96 | I28: =D28*H28 -> 2400 | J28: =VLOOKUP(G28,'5.) LST UR+AR'!$B$16:$D$51,3,0) -> 0 | K28: =I28/J28 -> #DIV/0! | L28: =K28/12 -> #DIV/0! | M28: ='3.a) SVS UR'!$F$75 -> 0 | N28: =L28*M28 -> #DIV/0!
A29: O 2 | B29: Vorraum Küche | C29: T | D29: 4 | E29: A | F29: 5 | G29: =IF(F29="k. R.",E29,CONCATENATE(E29,F29)) -> A5 | H29: =VLOOKUP(F29,'4.) Faktoren'!$C$51:$D$54,2,0) -> 232 | I29: =D29*H29 -> 928 | J29: =VLOOKUP(G29,'5.) LST UR+AR'!$B$16:$D$51,3,0) -> 0 | K29: =I29/J29 -> #DIV/0! | L29: =K29/12 -> #DIV/0! | M29: ='3.a) SVS UR'!$F$75 -> 0 | N29: =L29*M29 -> #DIV/0!
A30: O 3 | B30: Poststelle | C30: T | D30: 17.55 | E30: C | F30: 2 | G30: =IF(F30="k. R.",E30,CONCATENATE(E30,F30)) -> C2 | H30: =VLOOKUP(F30,'4.) Faktoren'!$C$51:$D$54,2,0) -> 96 | I30: =D30*H30 -> 1684.8 | J30: =VLOOKUP(G30,'5.) LST UR+AR'!$B$16:$D$51,3,0) -> 0 | K30: =I30/J30 -> #DIV/0! | L30: =K30/12 -> #DIV/0! | M30: ='3.a) SVS UR'!$F$75 -> 0 | N30: =L30*M30 -> #DIV/0!
A31: O 4 | B31: Teeküche | C31: PVC | D31: 7.59 | E31: A | F31: 5 | G31: =IF(F31="k. R.",E31,CONCATENATE(E31,F31)) -> A5 | H31: =VLOOKUP(F31,'4.) Faktoren'!$C$51:$D$54,2,0) -> 232 | I31: =D31*H31 -> 1760.88 | J31: =VLOOKUP(G31,'5.) LST UR+AR'!$B$16:$D$51,3,0) -> 0 | K31: =I31/J31 -> #DIV/0! | L31: =K31/12 -> #DIV/0! | M31: ='3.a) SVS UR'!$F$75 -> 0 | N31: =L31*M31 -> #DIV/0!
A32: O 5 | B32: Vorzimmer Verwaltungsleitung | C32: T | D32: 32.5 | E32: C | F32: 2 | G32: =IF(F32="k. R.",E32,CONCATENATE(E32,F32)) -> C2 | H32: =VLOOKUP(F32,'4.) Faktoren'!$C$51:$D$54,2,0) -> 96 | I32: =D32*H32 -> 3120 | J32: =VLOOKUP(G32,'5.) LST UR+AR'!$B$16:$D$51,3,0) -> 0 | K32: =I32/J32 -> #DIV/0! | L32: =K32/12 -> #DIV/0! | M32: ='3.a) SVS UR'!$F$75 -> 0 | N32: =L32*M32 -> #DIV/0!
A33: O 7 | B33: Verwaltungsleitung | C33: T | D33: 39.96 | E33: C | F33: 2 | G33: =IF(F33="k. R.",E33,CONCATENATE(E33,F33)) -> C2 | H33: =VLOOKUP(F33,'4.) Faktoren'!$C$51:$D$54,2,0) -> 96 | I33: =D33*H33 -> 3836.16 | J33: =VLOOKUP(G33,'5.) LST UR+AR'!$B$16:$D$51,3,0) -> 0 | K33: =I33/J33 -> #DIV/0! | L33: =K33/12 -> #DIV/0! | M33: ='3.a) SVS UR'!$F$75 -> 0 | N33: =L33*M33 -> #DIV/0!
A34: O 9 | B34: Personalbüro | C34: T | D34: 30 | E34: C | F34: 2 | G34: =IF(F34="k. R.",E34,CONCATENATE(E34,F34)) -> C2 | H34: =VLOOKUP(F34,'4.) Faktoren'!$C$51:$D$54,2,0) -> 96 | I34: =D34*H34 -> 2880 | J34: =VLOOKUP(G34,'5.) LST UR+AR'!$B$16:$D$51,3,0) -> 0 | K34: =I34/J34 -> #DIV/0! | L34: =K34/12 -> #DIV/0! | M34: ='3.a) SVS UR'!$F$75 -> 0 | N34: =L34*M34 -> #DIV/0!
A35: O 10 | B35: Besprechungszimmer | C35: T | D35: 11 | E35: C | F35: 2 | G35: =IF(F35="k. R.",E35,CONCATENATE(E35,F35)) -> C2 | H35: =VLOOKUP(F35,'4.) Faktoren'!$C$51:$D$54,2,0) -> 96 | I35: =D35*H35 -> 1056 | J35: =VLOOKUP(G35,'5.) LST UR+AR'!$B$16:$D$51,3,0) -> 0 | K35: =I35/J35 -> #DIV/0! | L35: =K35/12 -> #DIV/0! | M35: ='3.a) SVS UR'!$F$75 -> 0 | N35: =L35*M35 -> #DIV/0!
A36: O 11 | B36: Büro Finanzabteilung | C36: T | D36: 19.35 | E36: C | F36: 2 | G36: =IF(F36="k. R.",E36,CONCATENATE(E36,F36)) -> C2 | H36: =VLOOKUP(F36,'4.) Faktoren'!$C$51:$D$54,2,0) -> 96 | I36: =D36*H36 -> 1857.6 | J36: =VLOOKUP(G36,'5.) LST UR+AR'!$B$16:$D$51,3,0) -> 0 | K36: =I36/J36 -> #DIV/0! | L36: =K36/12 -> #DIV/0! | M36: ='3.a) SVS UR'!$F$75 -> 0 | N36: =L36*M36 -> #DIV/0!
A37: O 12 | B37: Vorraum WC Damen | C37: FL | D37: 2.73 | E37: F | F37: 5 | G37: =IF(F37="k. R.",E37,CONCATENATE(E37,F37)) -> F5 | H37: =VLOOKUP(F37,'4.) Faktoren'!$C$51:$D$54,2,0) -> 232 | I37: =D37*H37 -> 633.36 | J37: =VLOOKUP(G37,'5.) LST UR+AR'!$B$16:$D$51,3,0) -> 0 | K37: =I37/J37 -> #DIV/0! | L37: =K37/12 -> #DIV/0! | M37: ='3.a) SVS UR'!$F$75 -> 0 | N37: =L37*M37 -> #DIV/0!
A38: O 14 | B38: WC Damen | C38: FL | D38: 3.36 | E38: F | F38: 5 | G38: =IF(F38="k. R.",E38,CONCATENATE(E38,F38)) -> F5 | H38: =VLOOKUP(F38,'4.) Faktoren'!$C$51:$D$54,2,0) -> 232 | I38: =D38*H38 -> 779.52 | J38: =VLOOKUP(G38,'5.) LST UR+AR'!$B$16:$D$51,3,0) -> 0 | K38: =I38/J38 -> #DIV/0! | L38: =K38/12 -> #DIV/0! | M38: ='3.a) SVS UR'!$F$75 -> 0 | N38: =L38*M38 -> #DIV/0!
A39: O 15 | B39: Vorraum | C39: T | D39: 17 | E39: H | F39: 2 | G39: =IF(F39="k. R.",E39,CONCATENATE(E39,F39)) -> H2 | H39: =VLOOKUP(F39,'4.) Faktoren'!$C$51:$D$54,2,0) -> 96 | I39: =D39*H39 -> 1632 | J39: =VLOOKUP(G39,'5.) LST UR+AR'!$B$16:$D$51,3,0) -> 0 | K39: =I39/J39 -> #DIV/0! | L39: =K39/12 -> #DIV/0! | M39: ='3.a) SVS UR'!$F$75 -> 0 | N39: =L39*M39 -> #DIV/0!
A40: Summe 1. Obergeschoss (OG1) | D40: =SUM(D27:D39) -> 229.54
A41: Dachgeschoss
B42: Treppe 1. OG zum DG | C42: H | D42: 13.2 | E42: G | F42: 2 | G42: =IF(F42="k. R.",E42,CONCATENATE(E42,F42)) -> G2 | H42: =VLOOKUP(F42,'4.) Faktoren'!$C$51:$D$54,2,0) -> 96 | I42: =D42*H42 -> 1267.2 | J42: =VLOOKUP(G42,'5.) LST UR+AR'!$B$16:$D$51,3,0) -> 0 | K42: =I42/J42 -> #DIV/0! | L42: =K42/12 -> #DIV/0! | M42: ='3.a) SVS UR'!$F$75 -> 0 | N42: =L42*M42 -> #DIV/0!
B43: Vorplatz Treppe DG | C43: H | D43: 7.94 | E43: G | F43: 2 | G43: =IF(F43="k. R.",E43,CONCATENATE(E43,F43)) -> G2 | H43: =VLOOKUP(F43,'4.) Faktoren'!$C$51:$D$54,2,0) -> 96 | I43: =D43*H43 -> 762.24 | J43: =VLOOKUP(G43,'5.) LST UR+AR'!$B$16:$D$51,3,0) -> 0 | K43: =I43/J43 -> #DIV/0! | L43: =K43/12 -> #DIV/0! | M43: ='3.a) SVS UR'!$F$75 -> 0 | N43: =L43*M43 -> #DIV/0!
B44: IT-Administration | C44: H | D44: 33.5 | E44: C | F44: 2 | G44: =IF(F44="k. R.",E44,CONCATENATE(E44,F44)) -> C2 | H44: =VLOOKUP(F44,'4.) Faktoren'!$C$51:$D$54,2,0) -> 96 | I44: =D44*H44 -> 3216 | J44: =VLOOKUP(G44,'5.) LST UR+AR'!$B$16:$D$51,3,0) -> 0 | K44: =I44/J44 -> #DIV/0! | L44: =K44/12 -> #DIV/0! | M44: ='3.a) SVS UR'!$F$75 -> 0 | N44: =L44*M44 -> #DIV/0!
B45: Notausgang | C45: H | D45: 14.78 | E45: G | F45: k. R. | G45: =IF(F45="k. R.",E45,CONCATENATE(E45,F45)) -> G
B46: Büro | C46: H | D46: 24.71 | E46: C | F46: 2 | G46: =IF(F46="k. R.",E46,CONCATENATE(E46,F46)) -> C2 | H46: =VLOOKUP(F46,'4.) Faktoren'!$C$51:$D$54,2,0) -> 96 | I46: =D46*H46 -> 2372.16 | J46: =VLOOKUP(G46,'5.) LST UR+AR'!$B$16:$D$51,3,0) -> 0 | K46: =I46/J46 -> #DIV/0! | L46: =K46/12 -> #DIV/0! | M46: ='3.a) SVS UR'!$F$75 -> 0 | N46: =L46*M46 -> #DIV/0!
B47: Büro | C47: H | D47: 24.13 | E47: C | F47: 2 | G47: =IF(F47="k. R.",E47,CONCATENATE(E47,F47)) -> C2 | H47: =VLOOKUP(F47,'4.) Faktoren'!$C$51:$D$54,2,0) -> 96 | I47: =D47*H47 -> 2316.48 | J47: =VLOOKUP(G47,'5.) LST UR+AR'!$B$16:$D$51,3,0) -> 0 | K47: =I47/J47 -> #DIV/0! | L47: =K47/12 -> #DIV/0! | M47: ='3.a) SVS UR'!$F$75 -> 0 | N47: =L47*M47 -> #DIV/0!
B48: Büro | C48: H | D48: 25.38 | E48: C | F48: 2 | G48: =IF(F48="k. R.",E48,CONCATENATE(E48,F48)) -> C2 | H48: =VLOOKUP(F48,'4.) Faktoren'!$C$51:$D$54,2,0) -> 96 | I48: =D48*H48 -> 2436.48 | J48: =VLOOKUP(G48,'5.) LST UR+AR'!$B$16:$D$51,3,0) -> 0 | K48: =I48/J48 -> #DIV/0! | L48: =K48/12 -> #DIV/0! | M48: ='3.a) SVS UR'!$F$75 -> 0 | N48: =L48*M48 -> #DIV/0!
B49: Büro | C49: H | D49: 23.38 | E49: C | F49: 2 | G49: =IF(F49="k. R.",E49,CONCATENATE(E49,F49)) -> C2 | H49: =VLOOKUP(F49,'4.) Faktoren'!$C$51:$D$54,2,0) -> 96 | I49: =D49*H49 -> 2244.48 | J49: =VLOOKUP(G49,'5.) LST UR+AR'!$B$16:$D$51,3,0) -> 0 | K49: =I49/J49 -> #DIV/0! | L49: =K49/12 -> #DIV/0! | M49: ='3.a) SVS UR'!$F$75 -> 0 | N49: =L49*M49 -> #DIV/0!
B50: Pausenraum | C50: H | D50: 27.05 | E50: A | F50: 5 | G50: =IF(F50="k. R.",E50,CONCATENATE(E50,F50)) -> A5 | H50: =VLOOKUP(F50,'4.) Faktoren'!$C$51:$D$54,2,0) -> 232 | I50: =D50*H50 -> 6275.6 | J50: =VLOOKUP(G50,'5.) LST UR+AR'!$B$16:$D$51,3,0) -> 0 | K50: =I50/J50 -> #DIV/0! | L50: =K50/12 -> #DIV/0! | M50: ='3.a) SVS UR'!$F$75 -> 0 | N50: =L50*M50 -> #DIV/0!
B51: WC | C51: FL | D51: 3.24 | E51: F | F51: 5 | G51: =IF(F51="k. R.",E51,CONCATENATE(E51,F51)) -> F5 | H51: =VLOOKUP(F51,'4.) Faktoren'!$C$51:$D$54,2,0) -> 232 | I51: =D51*H51 -> 751.68 | J51: =VLOOKUP(G51,'5.) LST UR+AR'!$B$16:$D$51,3,0) -> 0 | K51: =I51/J51 -> #DIV/0! | L51: =K51/12 -> #DIV/0! | M51: ='3.a) SVS UR'!$F$75 -> 0 | N51: =L51*M51 -> #DIV/0!
B52: Büro | C52: H | D52: 22.72 | E52: C | F52: 2 | G52: =IF(F52="k. R.",E52,CONCATENATE(E52,F52)) -> C2 | H52: =VLOOKUP(F52,'4.) Faktoren'!$C$51:$D$54,2,0) -> 96 | I52: =D52*H52 -> 2181.12 | J52: =VLOOKUP(G52,'5.) LST UR+AR'!$B$16:$D$51,3,0) -> 0 | K52: =I52/J52 -> #DIV/0! | L52: =K52/12 -> #DIV/0! | M52: ='3.a) SVS UR'!$F$75 -> 0 | N52: =L52*M52 -> #DIV/0!
B53: Flur | C53: H | D53: 16.3 | E53: H | F53: 2 | G53: =IF(F53="k. R.",E53,CONCATENATE(E53,F53)) -> H2 | H53: =VLOOKUP(F53,'4.) Faktoren'!$C$51:$D$54,2,0) -> 96 | I53: =D53*H53 -> 1564.8 | J53: =VLOOKUP(G53,'5.) LST UR+AR'!$B$16:$D$51,3,0) -> 0 | K53: =I53/J53 -> #DIV/0! | L53: =K53/12 -> #DIV/0! | M53: ='3.a) SVS UR'!$F$75 -> 0 | N53: =L53*M53 -> #DIV/0!
B54: Flur | C54: H | D54: 8.49 | E54: H | F54: 2 | G54: =IF(F54="k. R.",E54,CONCATENATE(E54,F54)) -> H2 | H54: =VLOOKUP(F54,'4.) Faktoren'!$C$51:$D$54,2,0) -> 96 | I54: =D54*H54 -> 815.04 | J54: =VLOOKUP(G54,'5.) LST UR+AR'!$B$16:$D$51,3,0) -> 0 | K54: =I54/J54 -> #DIV/0! | L54: =K54/12 -> #DIV/0! | M54: ='3.a) SVS UR'!$F$75 -> 0 | N54: =L54*M54 -> #DIV/0!
B55: Vorraum | C55: H | D55: 19.8 | E55: G | F55: 2 | G55: =IF(F55="k. R.",E55,CONCATENATE(E55,F55)) -> G2 | H55: =VLOOKUP(F55,'4.) Faktoren'!$C$51:$D$54,2,0) -> 96 | I55: =D55*H55 -> 1900.8 | J55: =VLOOKUP(G55,'5.) LST UR+AR'!$B$16:$D$51,3,0) -> 0 | K55: =I55/J55 -> #DIV/0! | L55: =K55/12 -> #DIV/0! | M55: ='3.a) SVS UR'!$F$75 -> 0 | N55: =L55*M55 -> #DIV/0!
A56: Summe 2. Obergeschoss (OG2) | D56: =SUM(D42:D55) -> 264.62
A58: Gesamtsumme UR | D58: =SUM(D12:D57)/2 -> 767.11 | I58: =SUM(I12:I57) -> 83653.6 | K58: =SUM(K12:K57) -> #DIV/0! | L58: =SUM(L12:L57) -> #DIV/0! | N58: =SUM(N12:N57) -> #DIV/0!

Sheet 6.) AR-01
A1: Bezirksverband Pfalz | D1: Objekt: | F1: Großes Haus
A2: Bismarckstraße 17, 67655 Kaiserslautern | D2: Adresse: | F2: Willy-Brandt-Platz 4+5; 67657 Kaiserslautern
D3: Leistung: | F3: Abrufreinigung - Paket 1 "Probebühne II" | K3: Kosten pro Reinigung: | O3: =N16 -> #DIV/0!
D4: Bieter: | F4: ='2.a) GPB'!C3 -> 0 | K4: Stunden pro Reinigung: | O4: =L16 -> #DIV/0!
A6: Bemerkungen: | C6: - Abrufreinigung nach, bzw. vor Veranstaltungen/Proben mit 30 geschätzten Reinigungen pro Jahr (Beauftragung nach Bedarf) - werktags
C7: - Abrechnung und Beauftragung als Paket 1
A11: Raum- nummer | B11: Raumbezeichnung | C11: Boden- art | D11: Grund- fläche | E11: Raum-gruppe | F11: Turnus | G11: Raum-gruppen-turnus | H11: Jahres- faktor | I11: Jahres- reinigungs- fläche m² | J11: Leistung m²/h | K11: Jahres- stunden | L11: Stunden pro Reinigung | M11: SVS AR | N11: Kosten pro Reinigung | O11: Bemerkung
A12: Erdgeschoss (EG)
A13: 5.8 | B13: Probebühne II | C13: BÜBO | D13: 211.3 | E13: P | F13: AR | G13: =IF(F13="k. R.",E13,IF(F13="AR",E13&"-"&F13,E13&F13)) -> P-AR | H13: 30 | I13: =D13*H13 -> 6339 | J13: =VLOOKUP(G13,'5.) LST UR+AR'!$B$16:$D$51,3,0) -> 0 | K13: =I13/J13 -> #DIV/0! | L13: =K13/H13 -> #DIV/0! | M13: ='3.b) SVS AR'!$F$74 -> 0 | N13: =K13/H13*M13 -> #DIV/0!
A14: Summe Erdgeschoss (EG) | D14: =SUM(D13:D13) -> 211.3
A16: Gesamtsumme AR-01 | D16: =SUM(D12:D15)/2 -> 211.3 | I16: =SUM(I12:I15) -> 6339 | K16: =SUM(K12:K15) -> #DIV/0! | L16: =SUM(L12:L15) -> #DIV/0! | N16: =SUM(N12:N15) -> #DIV/0!

Sheet 6.) AR-02
A1: Bezirksverband Pfalz | D1: Objekt: | F1: Probebühne Mühlstraße
A2: Bismarckstraße 17, 67655 Kaiserslautern | D2: Adresse: | F2: Mühlstraße 10; 67659 Kaiserslautern
D3: Leistung: | F3: Abrufreinigung - Paket 2 "Probebühne Mühlstraße" | K3: Kosten pro Reinigung: | O3: =N17 -> #DIV/0!
D4: Bieter: | F4: ='2.a) GPB'!C3 -> 0 | K4: Stunden pro Reinigung: | O4: =L17 -> #DIV/0!
A6: Bemerkungen: | C6: - Abrufreinigung nach, bzw. vor Veranstaltungen/Proben mit 30 geschätzten Reinigungen pro Jahr (Beauftragung nach Bedarf) - werktags
C7: - Abrechnung und Beauftragung als Paket 2
A11: Raum- nummer | B11: Raumbezeichnung | C11: Boden- art | D11: Grund- fläche | E11: Raum-gruppe | F11: Turnus | G11: Raum-gruppen-turnus | H11: Jahres- faktor | I11: Jahres- reinigungs- fläche m² | J11: Leistung m²/h | K11: Jahres- stunden | L11: Stunden pro Reinigung | M11: SVS AR | N11: Kosten pro Reinigung | O11: Bemerkung
A12: Erdgeschoss (EG)
A13: 1 | B13: Proberaum | C13: PVC | D13: 64 | E13: K | F13: AR | G13: =IF(F13="k. R.",E13,IF(F13="AR",E13&"-"&F13,E13&F13)) -> K-AR | H13: 30 | I13: =D13*H13 -> 1920 | J13: =VLOOKUP(G13,'5.) LST UR+AR'!$B$16:$D$51,3,0) -> 0 | K13: =I13/J13 -> #DIV/0! | L13: =K13/H13 -> #DIV/0! | M13: ='3.b) SVS AR'!$F$74 -> 0 | N13: =K13/H13*M13 -> #DIV/0!
A14: 2 | B14: WC | C14: FL | D14: 2.7 | E14: F | F14: AR | G14: =IF(F14="k. R.",E14,IF(F14="AR",E14&"-"&F14,E14&F14)) -> F-AR | H14: 30 | I14: =D14*H14 -> 81 | J14: =VLOOKUP(G14,'5.) LST UR+AR'!$B$16:$D$51,3,0) -> 0 | K14: =I14/J14 -> #DIV/0! | L14: =K14/H14 -> #DIV/0! | M14: ='3.b) SVS AR'!$F$74 -> 0 | N14: =K14/H14*M14 -> #DIV/0!
A15: Summe Erdgeschoss (EG) | D15: =SUM(D13:D14) -> 66.7
A17: Gesamtsumme AR-02 | D17: =SUM(D12:D16)/2 -> 66.7 | I17: =SUM(I12:I16) -> 2001 | K17: =SUM(K12:K16) -> #DIV/0! | L17: =SUM(L12:L16) -> #DIV/0! | N17: =SUM(N12:N16) -> #DIV/0!
